BEGIN:VCALENDAR
VERSION:2.0
PRODID:-//Metro Parks - Central Ohio Park System - ECPv6.15.16.1//NONSGML v1.0//EN
CALSCALE:GREGORIAN
METHOD:PUBLISH
X-WR-CALNAME:Metro Parks - Central Ohio Park System
X-ORIGINAL-URL:https://www.metroparks.net
X-WR-CALDESC:Events for Metro Parks - Central Ohio Park System
REFRESH-INTERVAL;VALUE=DURATION:PT1H
X-Robots-Tag:noindex
X-PUBLISHED-TTL:PT1H
BEGIN:VTIMEZONE
TZID:America/New_York
BEGIN:DAYLIGHT
TZOFFSETFROM:-0500
TZOFFSETTO:-0400
TZNAME:EDT
DTSTART:20230312T070000
END:DAYLIGHT
BEGIN:STANDARD
TZOFFSETFROM:-0400
TZOFFSETTO:-0500
TZNAME:EST
DTSTART:20231105T060000
END:STANDARD
BEGIN:DAYLIGHT
TZOFFSETFROM:-0500
TZOFFSETTO:-0400
TZNAME:EDT
DTSTART:20240310T070000
END:DAYLIGHT
BEGIN:STANDARD
TZOFFSETFROM:-0400
TZOFFSETTO:-0500
TZNAME:EST
DTSTART:20241103T060000
END:STANDARD
BEGIN:DAYLIGHT
TZOFFSETFROM:-0500
TZOFFSETTO:-0400
TZNAME:EDT
DTSTART:20250309T070000
END:DAYLIGHT
BEGIN:STANDARD
TZOFFSETFROM:-0400
TZOFFSETTO:-0500
TZNAME:EST
DTSTART:20251102T060000
END:STANDARD
END:VTIMEZONE
BEGIN:VEVENT
DTSTART;TZID=America/New_York:20241005T130000
DTEND;TZID=America/New_York:20241005T143000
DTSTAMP:20260422T055934
CREATED:20240926T165445Z
LAST-MODIFIED:20240926T165445Z
UID:10001899-1728133200-1728138600@www.metroparks.net
SUMMARY:Fall Color Hike
DESCRIPTION:Take a guided 1-mile hike on the Edward S. Thomas Nature Preserve trail in search of Autumn color. The trail is stroller-friendly. Sorry\, sorry no dogs are allowed on this trail.
URL:https://www.metroparks.net/event/fall-color-hike-2/2024-10-05/2/
LOCATION:Sharon Woods\, 6911 Cleveland Ave.\, Columbus\, OH\, 43081\, United States
ATTACH;FMTTYPE=image/jpeg:https://www.metroparks.net/wp-content/uploads/2015/01/SHW_kids-on-swings_A-Shaw-.jpg
END:VEVENT
BEGIN:VEVENT
DTSTART;TZID=America/New_York:20241005T130000
DTEND;TZID=America/New_York:20241005T150000
DTSTAMP:20260422T055934
CREATED:20240919T143736Z
LAST-MODIFIED:20240919T143736Z
UID:10001829-1728133200-1728140400@www.metroparks.net
SUMMARY:Herbs- The Spice of Life
DESCRIPTION:Program ongoing between 1-3pm.\nLearn about some of the traditional uses of herbs in cooking and medicine.
URL:https://www.metroparks.net/event/herbs-the-spice-of-life/
LOCATION:Slate Run Living Historical Farm\, 1375 OH-674\, Canal Winchester\, OH\, 43110\, United States
END:VEVENT
BEGIN:VEVENT
DTSTART;TZID=America/New_York:20241005T130000
DTEND;TZID=America/New_York:20241005T160000
DTSTAMP:20260422T055934
CREATED:20240826T172356Z
LAST-MODIFIED:20240826T172356Z
UID:10001759-1728133200-1728144000@www.metroparks.net
SUMMARY:Darby Creek Day
DESCRIPTION:Celebrate everything that makes our creek great! Talk to many of our partnered organizations for tables of fun. All activities are free. \nLocation: Indian Ridge Picnic Area\, 2705 Darby Creek Drive\, Galloway\, OH 43119
URL:https://www.metroparks.net/event/darby-creek-day-2/
LOCATION:Battelle Darby Creek\, 1775 Darby Creek Drive\, Galloway\, OH\, 43119\, United States
ATTACH;FMTTYPE=image/png:https://www.metroparks.net/wp-content/uploads/2024/08/Darby-Creek-Day-1.png
END:VEVENT
BEGIN:VEVENT
DTSTART;TZID=America/New_York:20241006T110000
DTEND;TZID=America/New_York:20241006T130000
DTSTAMP:20260422T055934
CREATED:20240924T145620Z
LAST-MODIFIED:20240924T145620Z
UID:10001880-1728212400-1728219600@www.metroparks.net
SUMMARY:Wildlife Detectives
DESCRIPTION:There has been a crime and we need your detective skills to solve it! Help us solve some mysteries at Glacier Ridge by gathering evidence and putting the clues together. Can you solve the mystery before it’s too late?\nThis program is geared for all ages. Meet at the shelter house\, rain or shine!
URL:https://www.metroparks.net/event/wildlife-detectives-2/
LOCATION:Glacier Ridge\, 9801 Hyland Croy\, Plain City\, OH\, 43064\, United States
END:VEVENT
BEGIN:VEVENT
DTSTART;TZID=America/New_York:20241006T140000
DTEND;TZID=America/New_York:20241006T143000
DTSTAMP:20260422T055934
CREATED:20240919T143318Z
LAST-MODIFIED:20240919T143318Z
UID:10001821-1728223200-1728225000@www.metroparks.net
SUMMARY:Fall Tram Ride
DESCRIPTION:Enjoy the fall colors on a tram ride around the park. Tram boards at the Nature Center.
URL:https://www.metroparks.net/event/fall-tram-ride/2024-10-06/
LOCATION:Blendon Woods\, 4265 E Dublin Granville Road\, Columbus\, 43081\, United States
ATTACH;FMTTYPE=image/jpeg:https://www.metroparks.net/wp-content/uploads/2023/08/1200px_BLK_senior-shindig-tram-1.jpg
END:VEVENT
BEGIN:VEVENT
DTSTART;TZID=America/New_York:20241006T140000
DTEND;TZID=America/New_York:20241006T160000
DTSTAMP:20260422T055934
CREATED:20240927T180528Z
LAST-MODIFIED:20240927T180528Z
UID:10001910-1728223200-1728230400@www.metroparks.net
SUMMARY:Dahlia Fall Care
DESCRIPTION:Join the Greater Columbus Dahlia Society to learn how to save your dahlia tubers for another year of blooms.
URL:https://www.metroparks.net/event/dahlia-fall-care/
LOCATION:Innis House\, 940 S Hempstead Road\, Westerville\, OH\, 43081\, United States
END:VEVENT
BEGIN:VEVENT
DTSTART;TZID=America/New_York:20241007T100000
DTEND;TZID=America/New_York:20241007T140000
DTSTAMP:20260422T055934
CREATED:20240926T165532Z
LAST-MODIFIED:20240926T165532Z
UID:10001900-1728295200-1728309600@www.metroparks.net
SUMMARY:Squirrel Scavenger Hunt
DESCRIPTION:Kick off “Fat Squirrel Week” by stopping by the Naturalist’s Office and picking up a Scavenger Hunt sheet. After your hike\, bring the finished sheet back and win a prize. Follow us on Facebook to learn more about “Fat Squirrel Week”.
URL:https://www.metroparks.net/event/squirrel-scavenger-hunt/
LOCATION:Sharon Woods\, 6911 Cleveland Ave.\, Columbus\, OH\, 43081\, United States
ATTACH;FMTTYPE=image/jpeg:https://www.metroparks.net/wp-content/uploads/2023/06/Roman-Squirreltoes-Karl-Hassel.jpg
END:VEVENT
BEGIN:VEVENT
DTSTART;TZID=America/New_York:20241008T100000
DTEND;TZID=America/New_York:20241008T160000
DTSTAMP:20260422T055934
CREATED:20240919T143605Z
LAST-MODIFIED:20240919T143605Z
UID:10001822-1728381600-1728403200@www.metroparks.net
SUMMARY:Wheels on the Farm
DESCRIPTION:Program ongoing from 10am-4pm\nPlay a game of “I Spy” as you figure out how all the wheels around the farm work and what they do.
URL:https://www.metroparks.net/event/wheels-on-the-farm/2024-10-08/
LOCATION:Slate Run Living Historical Farm\, 1375 OH-674\, Canal Winchester\, OH\, 43110\, United States
ATTACH;FMTTYPE=image/jpeg:https://www.metroparks.net/wp-content/uploads/2023/01/SRF_1200px-barn-and-blue-sky_K-Beiling.jpg
END:VEVENT
END:VCALENDAR