BEGIN:VCALENDAR
VERSION:2.0
PRODID:-//Metro Parks - Central Ohio Park System - ECPv6.15.16.1//NONSGML v1.0//EN
CALSCALE:GREGORIAN
METHOD:PUBLISH
X-WR-CALNAME:Metro Parks - Central Ohio Park System
X-ORIGINAL-URL:https://www.metroparks.net
X-WR-CALDESC:Events for Metro Parks - Central Ohio Park System
REFRESH-INTERVAL;VALUE=DURATION:PT1H
X-Robots-Tag:noindex
X-PUBLISHED-TTL:PT1H
BEGIN:VTIMEZONE
TZID:America/New_York
BEGIN:DAYLIGHT
TZOFFSETFROM:-0500
TZOFFSETTO:-0400
TZNAME:EDT
DTSTART:20230312T070000
END:DAYLIGHT
BEGIN:STANDARD
TZOFFSETFROM:-0400
TZOFFSETTO:-0500
TZNAME:EST
DTSTART:20231105T060000
END:STANDARD
BEGIN:DAYLIGHT
TZOFFSETFROM:-0500
TZOFFSETTO:-0400
TZNAME:EDT
DTSTART:20240310T070000
END:DAYLIGHT
BEGIN:STANDARD
TZOFFSETFROM:-0400
TZOFFSETTO:-0500
TZNAME:EST
DTSTART:20241103T060000
END:STANDARD
BEGIN:DAYLIGHT
TZOFFSETFROM:-0500
TZOFFSETTO:-0400
TZNAME:EDT
DTSTART:20250309T070000
END:DAYLIGHT
BEGIN:STANDARD
TZOFFSETFROM:-0400
TZOFFSETTO:-0500
TZNAME:EST
DTSTART:20251102T060000
END:STANDARD
END:VTIMEZONE
BEGIN:VEVENT
DTSTART;TZID=America/New_York:20241010T100000
DTEND;TZID=America/New_York:20241010T113000
DTSTAMP:20260423T015653
CREATED:20240926T165613Z
LAST-MODIFIED:20240926T165613Z
UID:10001901-1728554400-1728559800@www.metroparks.net
SUMMARY:Homeschool: Tree ID
DESCRIPTION:Join our Naturalist as she takes homeschool groups on a Tree ID hike\, teaches about the live cycle of trees\, and leads an experiment to learn why leaves change color.
URL:https://www.metroparks.net/event/homeschool-tree-id/
LOCATION:Sharon Woods\, 6911 Cleveland Ave.\, Columbus\, OH\, 43081\, United States
END:VEVENT
BEGIN:VEVENT
DTSTART;TZID=America/New_York:20241010T100000
DTEND;TZID=America/New_York:20241010T160000
DTSTAMP:20260423T015653
CREATED:20240919T143605Z
LAST-MODIFIED:20240919T143605Z
UID:10001824-1728554400-1728576000@www.metroparks.net
SUMMARY:Wheels on the Farm
DESCRIPTION:Program ongoing from 10am-4pm\nPlay a game of “I Spy” as you figure out how all the wheels around the farm work and what they do.
URL:https://www.metroparks.net/event/wheels-on-the-farm/2024-10-10/
LOCATION:Slate Run Living Historical Farm\, 1375 OH-674\, Canal Winchester\, OH\, 43110\, United States
ATTACH;FMTTYPE=image/jpeg:https://www.metroparks.net/wp-content/uploads/2023/01/SRF_1200px-barn-and-blue-sky_K-Beiling.jpg
END:VEVENT
BEGIN:VEVENT
DTSTART;TZID=America/New_York:20241010T140000
DTEND;TZID=America/New_York:20241010T150000
DTSTAMP:20260423T015653
CREATED:20240924T145532Z
LAST-MODIFIED:20240924T145532Z
UID:10001879-1728568800-1728572400@www.metroparks.net
SUMMARY:Fall Fungi
DESCRIPTION:Jack O’Lantern\, Witch’s Hat\, or Bleeding Fairy Helmet – the woods is full of spooky fungi. Join a naturalist and search the trails for mushrooms on this 1.25-mile hike.
URL:https://www.metroparks.net/event/fall-fungi-3/
LOCATION:Blacklick Woods\, 6975 East Livingston Ave\, Reynoldsburg\, OH\, 43068\, United States
ATTACH;FMTTYPE=image/jpeg:https://www.metroparks.net/wp-content/uploads/2019/03/gallery-spring-CLC-gill-bolete-mushroom-AndrewBoose.jpg
END:VEVENT
BEGIN:VEVENT
DTSTART;TZID=America/New_York:20241011T100000
DTEND;TZID=America/New_York:20241011T160000
DTSTAMP:20260423T015653
CREATED:20240919T143605Z
LAST-MODIFIED:20240919T143605Z
UID:10001825-1728640800-1728662400@www.metroparks.net
SUMMARY:Wheels on the Farm
DESCRIPTION:Program ongoing from 10am-4pm\nPlay a game of “I Spy” as you figure out how all the wheels around the farm work and what they do.
URL:https://www.metroparks.net/event/wheels-on-the-farm/2024-10-11/
LOCATION:Slate Run Living Historical Farm\, 1375 OH-674\, Canal Winchester\, OH\, 43110\, United States
ATTACH;FMTTYPE=image/jpeg:https://www.metroparks.net/wp-content/uploads/2023/01/SRF_1200px-barn-and-blue-sky_K-Beiling.jpg
END:VEVENT
BEGIN:VEVENT
DTSTART;TZID=America/New_York:20241011T210000
DTEND;TZID=America/New_York:20241011T233000
DTSTAMP:20260423T015653
CREATED:20240926T164055Z
LAST-MODIFIED:20240926T164055Z
UID:10001884-1728680400-1728689400@www.metroparks.net
SUMMARY:Late Nights at the Climbing Wall
DESCRIPTION:Enjoy Late Nights at the Climbing Wall at Scioto Audubon Metro Park! On the 2nd and 4th Fridays of the month\, the climbing wall lights will stay on until midnight for open climb. Please bring your own gear.
URL:https://www.metroparks.net/event/late-nights-at-the-climbing-wall-4/2024-10-11/
LOCATION:Scioto Audubon\, 400 West Whittier St.\, Columbus\, OH\, 43215\, United States
ATTACH;FMTTYPE=image/jpeg:https://www.metroparks.net/wp-content/uploads/2022/11/SAU-wall-and-tower-1200px.jpg
END:VEVENT
END:VCALENDAR