BEGIN:VCALENDAR
VERSION:2.0
PRODID:-//Metro Parks - Central Ohio Park System - ECPv6.15.16.1//NONSGML v1.0//EN
CALSCALE:GREGORIAN
METHOD:PUBLISH
X-WR-CALNAME:Metro Parks - Central Ohio Park System
X-ORIGINAL-URL:https://www.metroparks.net
X-WR-CALDESC:Events for Metro Parks - Central Ohio Park System
REFRESH-INTERVAL;VALUE=DURATION:PT1H
X-Robots-Tag:noindex
X-PUBLISHED-TTL:PT1H
BEGIN:VTIMEZONE
TZID:America/New_York
BEGIN:DAYLIGHT
TZOFFSETFROM:-0500
TZOFFSETTO:-0400
TZNAME:EDT
DTSTART:20230312T070000
END:DAYLIGHT
BEGIN:STANDARD
TZOFFSETFROM:-0400
TZOFFSETTO:-0500
TZNAME:EST
DTSTART:20231105T060000
END:STANDARD
BEGIN:DAYLIGHT
TZOFFSETFROM:-0500
TZOFFSETTO:-0400
TZNAME:EDT
DTSTART:20240310T070000
END:DAYLIGHT
BEGIN:STANDARD
TZOFFSETFROM:-0400
TZOFFSETTO:-0500
TZNAME:EST
DTSTART:20241103T060000
END:STANDARD
BEGIN:DAYLIGHT
TZOFFSETFROM:-0500
TZOFFSETTO:-0400
TZNAME:EDT
DTSTART:20250309T070000
END:DAYLIGHT
BEGIN:STANDARD
TZOFFSETFROM:-0400
TZOFFSETTO:-0500
TZNAME:EST
DTSTART:20251102T060000
END:STANDARD
END:VTIMEZONE
BEGIN:VEVENT
DTSTART;TZID=America/New_York:20241013T140000
DTEND;TZID=America/New_York:20241013T153000
DTSTAMP:20260421T212510
CREATED:20240924T144551Z
LAST-MODIFIED:20240924T144551Z
UID:10001877-1728828000-1728833400@www.metroparks.net
SUMMARY:For Adults 50+: Hike to the Ruins
DESCRIPTION:Hike about 2.5-miles on the Benua and Green Mansions trails to enjoy views of Lake Emily and the Benua House Ruins. The trail is considered moderate. \nMeet at the Park Office at 185 Clear Creek Road\, Lancaster.
URL:https://www.metroparks.net/event/for-adults-50-hike-to-the-ruins/
LOCATION:Clear Creek\, 185 Clear Creek Road\, Lancaster\, OH\, 43130\, United States
ATTACH;FMTTYPE=image/jpeg:https://www.metroparks.net/wp-content/uploads/2024/09/CLC-Green-Mansions-Ruins-JackRockwood-2024-07-19.jpg
END:VEVENT
BEGIN:VEVENT
DTSTART;TZID=America/New_York:20241013T180000
DTEND;TZID=America/New_York:20241013T190000
DTSTAMP:20260421T212510
CREATED:20240919T143958Z
LAST-MODIFIED:20240919T143958Z
UID:10001832-1728842400-1728846000@www.metroparks.net
SUMMARY:Prairie Oaks Sunset Stroll
DESCRIPTION:Join a Naturalist on a 1-mile interpretive hike at sunset. NOTE: This program will be held at Prairie Oaks Darby Bend Lakes\, 2755 Amity Road.
URL:https://www.metroparks.net/event/prairie-oaks-sunset-stroll/
LOCATION:Prairie Oaks\, 3225 Plain City-Georgesville Road\, West Jefferson\, OH\, 43162\, United States
ATTACH;FMTTYPE=image/jpeg:https://www.metroparks.net/wp-content/uploads/2014/10/feature-PRO.jpg
END:VEVENT
BEGIN:VEVENT
DTSTART;TZID=America/New_York:20241014T160000
DTEND;TZID=America/New_York:20241014T170000
DTSTAMP:20260421T212510
CREATED:20240924T144159Z
LAST-MODIFIED:20240924T144159Z
UID:10001875-1728921600-1728925200@www.metroparks.net
SUMMARY:Princess Walk
DESCRIPTION:Calling all Jr Princesses who love their outfits\, let’s take a magical 1-mile paved walk exploring our enchanted forest. Meet at the Ranger Station\, 1775 Darby Creek Dr.
URL:https://www.metroparks.net/event/princess-walk/
LOCATION:Battelle Darby Creek\, 1775 Darby Creek Drive\, Galloway\, OH\, 43119\, United States
END:VEVENT
BEGIN:VEVENT
DTSTART;TZID=America/New_York:20241014T173000
DTEND;TZID=America/New_York:20241014T183000
DTSTAMP:20260421T212510
CREATED:20240924T144132Z
LAST-MODIFIED:20240924T144132Z
UID:10001874-1728927000-1728930600@www.metroparks.net
SUMMARY:HOWLoween Hike
DESCRIPTION:Dress up your furry friend for Halloween and take a 2-mile hike.
URL:https://www.metroparks.net/event/howloween-hike/
LOCATION:Blacklick Woods\, 6975 East Livingston Ave\, Reynoldsburg\, OH\, 43068\, United States
ATTACH;FMTTYPE=image/jpeg:https://www.metroparks.net/wp-content/uploads/2024/09/RKY_Barktoberfest_KobeCollins-e1727188854414.jpg
END:VEVENT
BEGIN:VEVENT
DTSTART;TZID=America/New_York:20241014T180000
DTEND;TZID=America/New_York:20241014T190000
DTSTAMP:20260421T212510
CREATED:20240926T164338Z
LAST-MODIFIED:20240926T164338Z
UID:10001888-1728928800-1728932400@www.metroparks.net
SUMMARY:Evening Run
DESCRIPTION:Join us for a staff led run on the trails at Prairie Oaks Metro Park! This will be a self paced run\, so feel free to keep up at whatever speed is most comfortable\, geared towards all types of runners\, from beginners to advanced\, all are welcome! Meet at Darby Bend Lakes\, Lake 1 Shelter House. 2755 Amity Rd\, Hilliard\, OH 43026
URL:https://www.metroparks.net/event/evening-run/
LOCATION:Prairie Oaks\, 3225 Plain City-Georgesville Road\, West Jefferson\, OH\, 43162\, United States
END:VEVENT
BEGIN:VEVENT
DTSTART;TZID=America/New_York:20241015T100000
DTEND;TZID=America/New_York:20241015T110000
DTSTAMP:20260421T212510
CREATED:20240924T143913Z
LAST-MODIFIED:20240924T143913Z
UID:10001872-1728986400-1728990000@www.metroparks.net
SUMMARY:Homeschoolers: Skull Study
DESCRIPTION:Learn about mammals\, their skulls and how to use a dichotomous key to identify them.
URL:https://www.metroparks.net/event/homeschoolers-skull-study/2024-10-15/1/
LOCATION:Blacklick Woods\, 6975 East Livingston Ave\, Reynoldsburg\, OH\, 43068\, United States
END:VEVENT
BEGIN:VEVENT
DTSTART;TZID=America/New_York:20241015T130000
DTEND;TZID=America/New_York:20241015T140000
DTSTAMP:20260421T212510
CREATED:20240924T143913Z
LAST-MODIFIED:20240924T143913Z
UID:10001873-1728997200-1729000800@www.metroparks.net
SUMMARY:Homeschoolers: Skull Study
DESCRIPTION:Learn about mammals\, their skulls and how to use a dichotomous key to identify them.
URL:https://www.metroparks.net/event/homeschoolers-skull-study/2024-10-15/2/
LOCATION:Blacklick Woods\, 6975 East Livingston Ave\, Reynoldsburg\, OH\, 43068\, United States
END:VEVENT
BEGIN:VEVENT
DTSTART;TZID=America/New_York:20241015T153000
DTEND;TZID=America/New_York:20241015T180000
DTSTAMP:20260421T212510
CREATED:20240924T143157Z
LAST-MODIFIED:20240924T143157Z
UID:10001860-1729006200-1729015200@www.metroparks.net
SUMMARY:Carve A Pumpkin For The Park
DESCRIPTION:We need your help! Stop by to carve a pumpkin or two for our October 18th “Pumpkin Walk Around The Pond.” We’ll provide the pumpkins and have some carving tools but feel free to bring your own. All pumpkins will remain at the park and will be composted by an area farmer after the Friday walk. Meet at the Three Creeks Metro Park Confluence Area shelter\, 3860 Bixby Rd\, Groveport.
URL:https://www.metroparks.net/event/carve-a-pumpkin-for-the-park/2024-10-15/
LOCATION:Three Creeks\, 3860 Bixby Road\, Groveport\, OH\, 43125\, United States
END:VEVENT
BEGIN:VEVENT
DTSTART;TZID=America/New_York:20241015T180000
DTEND;TZID=America/New_York:20241015T190000
DTSTAMP:20260421T212510
CREATED:20240926T164421Z
LAST-MODIFIED:20240926T164421Z
UID:10001889-1729015200-1729018800@www.metroparks.net
SUMMARY:Relaxation Yoga
DESCRIPTION:Enjoy a relaxing yoga session on the deck of The Grove Lodge at Scioto Grove Metro Park. Bring your own mat. Instruction provided.
URL:https://www.metroparks.net/event/relaxation-yoga-3/
LOCATION:Scioto Grove\, 5172 Jackson Pike\, Grove City\, OH\, 43123\, United States
END:VEVENT
BEGIN:VEVENT
DTSTART;TZID=America/New_York:20241015T183000
DTEND;TZID=America/New_York:20241015T190000
DTSTAMP:20260421T212510
CREATED:20240924T143812Z
LAST-MODIFIED:20240924T143812Z
UID:10001871-1729017000-1729018800@www.metroparks.net
SUMMARY:Wine & Canvas
DESCRIPTION:Join us for an evening of painting. Follow along with step-by-step instructions and paint an autumn owl scene. Materials and instruction provided. Beer and wine available for purchase\, card payment only.
URL:https://www.metroparks.net/event/wine-canvas-3/
LOCATION:Blacklick Woods Golf Course\, 7309 E Livingston Ave\, Reynoldsburg\, OH\, 43068\, United States
END:VEVENT
BEGIN:VEVENT
DTSTART;TZID=America/New_York:20241016T100000
DTEND;TZID=America/New_York:20241016T110000
DTSTAMP:20260421T212510
CREATED:20240924T143258Z
LAST-MODIFIED:20240924T143258Z
UID:10001863-1729072800-1729076400@www.metroparks.net
SUMMARY:Preschool: Animal Tracks
DESCRIPTION:Can you figure out what animal was here without seeing them? Join us as we learn how to find and identify different animal tracks! We will read a short story\, make a craft\, and go on a short hike.\nThis program is geared for ages 3-6. Meet at the barn shelter\, rain or shine!
URL:https://www.metroparks.net/event/preschool-animal-tracks/2024-10-16/1/
LOCATION:Homestead\, 4675 Cosgray Road\, Hilliard\, OH\, 43026\, United States
ATTACH;FMTTYPE=image/jpeg:https://www.metroparks.net/wp-content/uploads/2017/12/1080p_Beaver-tracks-at-SHW_Nov_Cheryl-Blair.jpg
END:VEVENT
BEGIN:VEVENT
DTSTART;TZID=America/New_York:20241016T100000
DTEND;TZID=America/New_York:20241016T120000
DTSTAMP:20260421T212510
CREATED:20240924T143157Z
LAST-MODIFIED:20240924T143157Z
UID:10001861-1729072800-1729080000@www.metroparks.net
SUMMARY:Carve A Pumpkin For The Park
DESCRIPTION:We need your help! Stop by to carve a pumpkin or two for our October 18th “Pumpkin Walk Around The Pond.” We’ll provide the pumpkins and have some carving tools but feel free to bring your own. All pumpkins will remain at the park and will be composted by an area farmer after the Friday walk. Meet at the Three Creeks Metro Park Confluence Area shelter\, 3860 Bixby Rd\, Groveport.
URL:https://www.metroparks.net/event/carve-a-pumpkin-for-the-park/2024-10-16/
LOCATION:Three Creeks\, 3860 Bixby Road\, Groveport\, OH\, 43125\, United States
END:VEVENT
BEGIN:VEVENT
DTSTART;TZID=America/New_York:20241016T130000
DTEND;TZID=America/New_York:20241016T140000
DTSTAMP:20260421T212510
CREATED:20240924T143258Z
LAST-MODIFIED:20240924T143258Z
UID:10001864-1729083600-1729087200@www.metroparks.net
SUMMARY:Preschool: Animal Tracks
DESCRIPTION:Can you figure out what animal was here without seeing them? Join us as we learn how to find and identify different animal tracks! We will read a short story\, make a craft\, and go on a short hike.\nThis program is geared for ages 3-6. Meet at the barn shelter\, rain or shine!
URL:https://www.metroparks.net/event/preschool-animal-tracks/2024-10-16/2/
LOCATION:Homestead\, 4675 Cosgray Road\, Hilliard\, OH\, 43026\, United States
ATTACH;FMTTYPE=image/jpeg:https://www.metroparks.net/wp-content/uploads/2017/12/1080p_Beaver-tracks-at-SHW_Nov_Cheryl-Blair.jpg
END:VEVENT
BEGIN:VEVENT
DTSTART;TZID=America/New_York:20241016T163000
DTEND;TZID=America/New_York:20241016T180000
DTSTAMP:20260421T212510
CREATED:20240926T164450Z
LAST-MODIFIED:20240926T164450Z
UID:10001890-1729096200-1729101600@www.metroparks.net
SUMMARY:Try It! Archery
DESCRIPTION:Enjoy free and fun archery at the range! All equipment and instruction are provided. Open to ages 8+. Meet at the archery range at Scioto Grove Metro Park.
URL:https://www.metroparks.net/event/try-it-archery-13/
LOCATION:Scioto Grove\, 5172 Jackson Pike\, Grove City\, OH\, 43123\, United States
END:VEVENT
BEGIN:VEVENT
DTSTART;TZID=America/New_York:20241016T180000
DTEND;TZID=America/New_York:20241016T190000
DTSTAMP:20260421T212510
CREATED:20240919T143630Z
LAST-MODIFIED:20240919T143630Z
UID:10001828-1729101600-1729105200@www.metroparks.net
SUMMARY:Metro Parks Hiking Club: Wednesday Evening Fitness Hike
DESCRIPTION:Hike 2 or 4 mi. on grave and natural surface trails. Moderate pace. Stairs and hills.
URL:https://www.metroparks.net/event/metro-parks-hiking-club-wednesday-evening-fitness-hike/
LOCATION:Blendon Woods\, 4265 E Dublin Granville Road\, Columbus\, 43081\, United States
END:VEVENT
END:VCALENDAR