BEGIN:VCALENDAR
VERSION:2.0
PRODID:-//Metro Parks - Central Ohio Park System - ECPv6.15.16.1//NONSGML v1.0//EN
CALSCALE:GREGORIAN
METHOD:PUBLISH
X-WR-CALNAME:Metro Parks - Central Ohio Park System
X-ORIGINAL-URL:https://www.metroparks.net
X-WR-CALDESC:Events for Metro Parks - Central Ohio Park System
REFRESH-INTERVAL;VALUE=DURATION:PT1H
X-Robots-Tag:noindex
X-PUBLISHED-TTL:PT1H
BEGIN:VTIMEZONE
TZID:America/New_York
BEGIN:DAYLIGHT
TZOFFSETFROM:-0500
TZOFFSETTO:-0400
TZNAME:EDT
DTSTART:20230312T070000
END:DAYLIGHT
BEGIN:STANDARD
TZOFFSETFROM:-0400
TZOFFSETTO:-0500
TZNAME:EST
DTSTART:20231105T060000
END:STANDARD
BEGIN:DAYLIGHT
TZOFFSETFROM:-0500
TZOFFSETTO:-0400
TZNAME:EDT
DTSTART:20240310T070000
END:DAYLIGHT
BEGIN:STANDARD
TZOFFSETFROM:-0400
TZOFFSETTO:-0500
TZNAME:EST
DTSTART:20241103T060000
END:STANDARD
BEGIN:DAYLIGHT
TZOFFSETFROM:-0500
TZOFFSETTO:-0400
TZNAME:EDT
DTSTART:20250309T070000
END:DAYLIGHT
BEGIN:STANDARD
TZOFFSETFROM:-0400
TZOFFSETTO:-0500
TZNAME:EST
DTSTART:20251102T060000
END:STANDARD
END:VTIMEZONE
BEGIN:VEVENT
DTSTART;TZID=America/New_York:20241016T130000
DTEND;TZID=America/New_York:20241016T140000
DTSTAMP:20260422T141745
CREATED:20240924T143258Z
LAST-MODIFIED:20240924T143258Z
UID:10001864-1729083600-1729087200@www.metroparks.net
SUMMARY:Preschool: Animal Tracks
DESCRIPTION:Can you figure out what animal was here without seeing them? Join us as we learn how to find and identify different animal tracks! We will read a short story\, make a craft\, and go on a short hike.\nThis program is geared for ages 3-6. Meet at the barn shelter\, rain or shine!
URL:https://www.metroparks.net/event/preschool-animal-tracks/2024-10-16/2/
LOCATION:Homestead\, 4675 Cosgray Road\, Hilliard\, OH\, 43026\, United States
ATTACH;FMTTYPE=image/jpeg:https://www.metroparks.net/wp-content/uploads/2017/12/1080p_Beaver-tracks-at-SHW_Nov_Cheryl-Blair.jpg
END:VEVENT
BEGIN:VEVENT
DTSTART;TZID=America/New_York:20241016T163000
DTEND;TZID=America/New_York:20241016T180000
DTSTAMP:20260422T141745
CREATED:20240926T164450Z
LAST-MODIFIED:20240926T164450Z
UID:10001890-1729096200-1729101600@www.metroparks.net
SUMMARY:Try It! Archery
DESCRIPTION:Enjoy free and fun archery at the range! All equipment and instruction are provided. Open to ages 8+. Meet at the archery range at Scioto Grove Metro Park.
URL:https://www.metroparks.net/event/try-it-archery-13/
LOCATION:Scioto Grove\, 5172 Jackson Pike\, Grove City\, OH\, 43123\, United States
END:VEVENT
BEGIN:VEVENT
DTSTART;TZID=America/New_York:20241016T180000
DTEND;TZID=America/New_York:20241016T190000
DTSTAMP:20260422T141745
CREATED:20240919T143630Z
LAST-MODIFIED:20240919T143630Z
UID:10001828-1729101600-1729105200@www.metroparks.net
SUMMARY:Metro Parks Hiking Club: Wednesday Evening Fitness Hike
DESCRIPTION:Hike 2 or 4 mi. on grave and natural surface trails. Moderate pace. Stairs and hills.
URL:https://www.metroparks.net/event/metro-parks-hiking-club-wednesday-evening-fitness-hike/
LOCATION:Blendon Woods\, 4265 E Dublin Granville Road\, Columbus\, 43081\, United States
END:VEVENT
BEGIN:VEVENT
DTSTART;TZID=America/New_York:20241017T100000
DTEND;TZID=America/New_York:20241017T113000
DTSTAMP:20260422T141745
CREATED:20240919T144136Z
LAST-MODIFIED:20240919T144330Z
UID:10001833-1729159200-1729164600@www.metroparks.net
SUMMARY:Ohio Geologic Survey Hike: Unique Geology of Blendon
DESCRIPTION:Join ODNR geologist Mohammad Fakhari on a hike to learn about the formation of unique geological features of the park. Program will be cancelled in the case of inclement weather. Waterproof shoes are recommended. Meet at the Natural Play Area. Hike is 2mi. Ages 8+
URL:https://www.metroparks.net/event/ohio-geologic-survey-hike-unique-geology-of-blendon/
LOCATION:OH
ATTACH;FMTTYPE=image/jpeg:https://www.metroparks.net/wp-content/uploads/2024/09/BLN-Rocks-Geology-JackRockwood-2024-06-13.jpg
END:VEVENT
BEGIN:VEVENT
DTSTART;TZID=America/New_York:20241017T100000
DTEND;TZID=America/New_York:20241017T120000
DTSTAMP:20260422T141745
CREATED:20240924T143157Z
LAST-MODIFIED:20240924T143157Z
UID:10001862-1729159200-1729166400@www.metroparks.net
SUMMARY:Carve A Pumpkin For The Park
DESCRIPTION:We need your help! Stop by to carve a pumpkin or two for our October 18th “Pumpkin Walk Around The Pond.” We’ll provide the pumpkins and have some carving tools but feel free to bring your own. All pumpkins will remain at the park and will be composted by an area farmer after the Friday walk. Meet at the Three Creeks Metro Park Confluence Area shelter\, 3860 Bixby Rd\, Groveport.
URL:https://www.metroparks.net/event/carve-a-pumpkin-for-the-park/2024-10-17/
LOCATION:Three Creeks\, 3860 Bixby Road\, Groveport\, OH\, 43125\, United States
END:VEVENT
BEGIN:VEVENT
DTSTART;TZID=America/New_York:20241017T170000
DTEND;TZID=America/New_York:20241017T190000
DTSTAMP:20260422T141745
CREATED:20241001T172115Z
LAST-MODIFIED:20241001T172115Z
UID:10001917-1729184400-1729191600@www.metroparks.net
SUMMARY:Barktoberfest
DESCRIPTION:Fun for you and your canine best friend! We’ll have food trucks and a costume contest!
URL:https://www.metroparks.net/event/barktoberfest-2/
LOCATION:Rocky Fork\, 7180 East Walnut St.\, Westerville\, OH\, 43081\, United States
ATTACH;FMTTYPE=image/png:https://www.metroparks.net/wp-content/uploads/2024/10/barktoberfest-2024-flyer.png
END:VEVENT
BEGIN:VEVENT
DTSTART;TZID=America/New_York:20241017T180000
DTEND;TZID=America/New_York:20241017T200000
DTSTAMP:20260422T141745
CREATED:20240924T143344Z
LAST-MODIFIED:20240924T143344Z
UID:10001865-1729188000-1729195200@www.metroparks.net
SUMMARY:Full Moon Hike
DESCRIPTION:Take a brisk 4-mile hike through forests and fields. Meet us at the Ranger Station\, 1775 Darby Creek Drive.
URL:https://www.metroparks.net/event/full-moon-hike-13/
LOCATION:Battelle Darby Creek\, 1775 Darby Creek Drive\, Galloway\, OH\, 43119\, United States
ATTACH;FMTTYPE=image/jpeg:https://www.metroparks.net/wp-content/uploads/2019/03/gallery-spring-RKF-full-moon-and-trees_April-Dan-Bissonette.jpg
END:VEVENT
BEGIN:VEVENT
DTSTART;TZID=America/New_York:20241017T190000
DTEND;TZID=America/New_York:20241017T200000
DTSTAMP:20260422T141745
CREATED:20240926T164825Z
LAST-MODIFIED:20240926T164825Z
UID:10001894-1729191600-1729195200@www.metroparks.net
SUMMARY:For Adults! Lantern hike
DESCRIPTION:Join us for a staff led\, adults only\, lantern hike! Enjoy the tranquility of the fall foliage at Chestnut Ridge Metro Park lit up by the lights of lanterns! Some lanterns will be available to use for the duration of the program\, first come first served. meet at the first public parking lot to the right when entering the park.
URL:https://www.metroparks.net/event/for-adults-lantern-hike/
LOCATION:Chestnut Ridge\, 8445 Winchester Rd NW\, Carroll\, OH\, 43112\, United States
END:VEVENT
END:VCALENDAR