BEGIN:VCALENDAR
VERSION:2.0
PRODID:-//Metro Parks - Central Ohio Park System - ECPv6.15.16.1//NONSGML v1.0//EN
CALSCALE:GREGORIAN
METHOD:PUBLISH
X-WR-CALNAME:Metro Parks - Central Ohio Park System
X-ORIGINAL-URL:https://www.metroparks.net
X-WR-CALDESC:Events for Metro Parks - Central Ohio Park System
REFRESH-INTERVAL;VALUE=DURATION:PT1H
X-Robots-Tag:noindex
X-PUBLISHED-TTL:PT1H
BEGIN:VTIMEZONE
TZID:America/New_York
BEGIN:DAYLIGHT
TZOFFSETFROM:-0500
TZOFFSETTO:-0400
TZNAME:EDT
DTSTART:20230312T070000
END:DAYLIGHT
BEGIN:STANDARD
TZOFFSETFROM:-0400
TZOFFSETTO:-0500
TZNAME:EST
DTSTART:20231105T060000
END:STANDARD
BEGIN:DAYLIGHT
TZOFFSETFROM:-0500
TZOFFSETTO:-0400
TZNAME:EDT
DTSTART:20240310T070000
END:DAYLIGHT
BEGIN:STANDARD
TZOFFSETFROM:-0400
TZOFFSETTO:-0500
TZNAME:EST
DTSTART:20241103T060000
END:STANDARD
BEGIN:DAYLIGHT
TZOFFSETFROM:-0500
TZOFFSETTO:-0400
TZNAME:EDT
DTSTART:20250309T070000
END:DAYLIGHT
BEGIN:STANDARD
TZOFFSETFROM:-0400
TZOFFSETTO:-0500
TZNAME:EST
DTSTART:20251102T060000
END:STANDARD
END:VTIMEZONE
BEGIN:VEVENT
DTSTART;TZID=America/New_York:20241018T183000
DTEND;TZID=America/New_York:20241018T193000
DTSTAMP:20260423T085121
CREATED:20240924T143743Z
LAST-MODIFIED:20240924T143743Z
UID:10001870-1729276200-1729279800@www.metroparks.net
SUMMARY:Over the Moon
DESCRIPTION:Join a naturalist on a 2 mile hike and learn about the moon while it lights our way shining high in the sky.
URL:https://www.metroparks.net/event/over-the-moon/
LOCATION:Battelle Darby Creek\, 1775 Darby Creek Drive\, Galloway\, OH\, 43119\, United States
END:VEVENT
BEGIN:VEVENT
DTSTART;TZID=America/New_York:20241019T080000
DTEND;TZID=America/New_York:20241019T093000
DTSTAMP:20260423T085121
CREATED:20240919T144418Z
LAST-MODIFIED:20240919T144418Z
UID:10001834-1729324800-1729330200@www.metroparks.net
SUMMARY:Bird Walk
DESCRIPTION:Take a hike to Thoreau Lake to look for fall migrants
URL:https://www.metroparks.net/event/bird-walk/
LOCATION:Blendon Woods\, 4265 E Dublin Granville Road\, Columbus\, 43081\, United States
ATTACH;FMTTYPE=image/jpeg:https://www.metroparks.net/wp-content/uploads/2019/03/gallery-spring-BLN_bird-watching-from-nature-center_Andrea-Krava.jpg
END:VEVENT
BEGIN:VEVENT
DTSTART;TZID=America/New_York:20241019T090000
DTEND;TZID=America/New_York:20241019T110000
DTSTAMP:20260423T085121
CREATED:20240924T143549Z
LAST-MODIFIED:20240924T143549Z
UID:10001868-1729328400-1729335600@www.metroparks.net
SUMMARY:Adults Only: Cemetery Hike
DESCRIPTION:Get your walking boots on and join us for a 4-mile off-trail hike to visit some of our parks hidden pioneer cemeteries and an Adena Mound. Meet us at Little Darby Picnic Area 3711 Gardner Rd. 18+
URL:https://www.metroparks.net/event/adults-only-cemetery-hike-2/
LOCATION:Battelle Darby Creek\, 1775 Darby Creek Drive\, Galloway\, OH\, 43119\, United States
END:VEVENT
BEGIN:VEVENT
DTSTART;TZID=America/New_York:20241019T120000
DTEND;TZID=America/New_York:20241019T160000
DTSTAMP:20260423T085121
CREATED:20240924T142916Z
LAST-MODIFIED:20240924T142916Z
UID:10001858-1729339200-1729353600@www.metroparks.net
SUMMARY:RidgeFest
DESCRIPTION:Celebrate the season with our annual fall festival\, RidgeFest. We have partnered with local organizations to celebrate the uniqueness of Glacier Ridge. Join us for a fun day filled with games\, hay rides\, archery\, food trucks\, and much more! \nFood trucks include:\nSchmidt’s Sausage Truck\nGrater’s Ice Cream \nActivities include:\nFree mini pumpkins!\nArchery with Outdoor Adventure\nSlate Run Historical Farm\nCorn Hole and other outdoor games\nFestive Hike\nHayride \nVendors Include:\nOhio Wildlife Center\nOhio Wetland Association\nLights Out Columbus\nColumbus Astronomical Society\nScioto Watershed Action Group \nThis festival is geared for all ages. Please follow signs for parking.
URL:https://www.metroparks.net/event/ridgefest/
LOCATION:Glacier Ridge\, 9801 Hyland Croy\, Plain City\, OH\, 43064\, United States
END:VEVENT
BEGIN:VEVENT
DTSTART;TZID=America/New_York:20241019T140000
DTEND;TZID=America/New_York:20241019T150000
DTSTAMP:20260423T085121
CREATED:20240930T163716Z
LAST-MODIFIED:20240930T163716Z
UID:10001915-1729346400-1729350000@www.metroparks.net
SUMMARY:Leaf Craft
DESCRIPTION:Meet at the Dog Park parking lot-use address 2600 Dublin Rd Columbus OH 43228. Follow the road all the way till it forces you to turn left and the dog park will be on your right.\nTake a 1 mile hike to collect leaves and then make a craft with them!
URL:https://www.metroparks.net/event/leaf-craft/
LOCATION:Quarry Trails\, 2600 Dublin Road\, Columbus\, OH\, 43228\, United States
ATTACH;FMTTYPE=image/jpeg:https://www.metroparks.net/wp-content/uploads/2020/02/Cunningham-Larry-Autumn-Leaf-After-Rain-BLN-1080p.jpg
END:VEVENT
BEGIN:VEVENT
DTSTART;TZID=America/New_York:20241019T140000
DTEND;TZID=America/New_York:20241019T150000
DTSTAMP:20260423T085121
CREATED:20240924T143018Z
LAST-MODIFIED:20240924T143018Z
UID:10001859-1729346400-1729350000@www.metroparks.net
SUMMARY:Animal Adaptations Hike
DESCRIPTION:Join a naturalist on a 1.25-mile hike to learn about animal adaptations and how these characteristics or behaviors help animals survive.
URL:https://www.metroparks.net/event/animal-adaptations-hike/
LOCATION:Blacklick Woods\, 6975 East Livingston Ave\, Reynoldsburg\, OH\, 43068\, United States
END:VEVENT
BEGIN:VEVENT
DTSTART;TZID=America/New_York:20241019T180000
DTEND;TZID=America/New_York:20241019T203000
DTSTAMP:20260423T085121
CREATED:20240926T165704Z
LAST-MODIFIED:20240926T165704Z
UID:10001902-1729360800-1729369800@www.metroparks.net
SUMMARY:Fall Lantern Hike
DESCRIPTION:Experience woodland trails on a guided 5-mile lantern hike. Be prepared for a moderate pace and elevation gain. Terrain at Clear Creek is steep and uneven. Bring a headlamp. Meet at the Creekside Meadows Parking Lot\, 23833 Clear Creek Rd in Rockbridge.
URL:https://www.metroparks.net/event/fall-lantern-hike/
LOCATION:Clear Creek\, 185 Clear Creek Road\, Lancaster\, OH\, 43130\, United States
END:VEVENT
END:VCALENDAR