BEGIN:VCALENDAR
VERSION:2.0
PRODID:-//Metro Parks - Central Ohio Park System - ECPv6.15.16.1//NONSGML v1.0//EN
CALSCALE:GREGORIAN
METHOD:PUBLISH
X-WR-CALNAME:Metro Parks - Central Ohio Park System
X-ORIGINAL-URL:https://www.metroparks.net
X-WR-CALDESC:Events for Metro Parks - Central Ohio Park System
REFRESH-INTERVAL;VALUE=DURATION:PT1H
X-Robots-Tag:noindex
X-PUBLISHED-TTL:PT1H
BEGIN:VTIMEZONE
TZID:America/New_York
BEGIN:DAYLIGHT
TZOFFSETFROM:-0500
TZOFFSETTO:-0400
TZNAME:EDT
DTSTART:20230312T070000
END:DAYLIGHT
BEGIN:STANDARD
TZOFFSETFROM:-0400
TZOFFSETTO:-0500
TZNAME:EST
DTSTART:20231105T060000
END:STANDARD
BEGIN:DAYLIGHT
TZOFFSETFROM:-0500
TZOFFSETTO:-0400
TZNAME:EDT
DTSTART:20240310T070000
END:DAYLIGHT
BEGIN:STANDARD
TZOFFSETFROM:-0400
TZOFFSETTO:-0500
TZNAME:EST
DTSTART:20241103T060000
END:STANDARD
BEGIN:DAYLIGHT
TZOFFSETFROM:-0500
TZOFFSETTO:-0400
TZNAME:EDT
DTSTART:20250309T070000
END:DAYLIGHT
BEGIN:STANDARD
TZOFFSETFROM:-0400
TZOFFSETTO:-0500
TZNAME:EST
DTSTART:20251102T060000
END:STANDARD
END:VTIMEZONE
BEGIN:VEVENT
DTSTART;TZID=America/New_York:20241021T100000
DTEND;TZID=America/New_York:20241021T110000
DTSTAMP:20260423T054328
CREATED:20240926T164535Z
LAST-MODIFIED:20240926T164535Z
UID:10001891-1729504800-1729508400@www.metroparks.net
SUMMARY:Costume Toddler Hike
DESCRIPTION:Dress up in your favorite costume and explore Scioto Grove Metro Park! We will hike on stroller accessible trails\, and go as far as the group is able to walk in the time-frame! Meet at the Arrowhead Picnic area at Scioto Grove Metro Park.
URL:https://www.metroparks.net/event/costume-toddler-hike/
LOCATION:Scioto Grove\, 5172 Jackson Pike\, Grove City\, OH\, 43123\, United States
END:VEVENT
BEGIN:VEVENT
DTSTART;TZID=America/New_York:20241022T140000
DTEND;TZID=America/New_York:20241022T150000
DTSTAMP:20260423T054328
CREATED:20240924T142539Z
LAST-MODIFIED:20240924T142539Z
UID:10001855-1729605600-1729609200@www.metroparks.net
SUMMARY:Homeschoolers: Creature Camouflage
DESCRIPTION:Discover the different types of camouflage and learn about animals with this incredible adaptation. Dressing up in camouflage of your own is encouraged!
URL:https://www.metroparks.net/event/homeschoolers-creature-camouflage/
LOCATION:Blacklick Woods\, 6975 East Livingston Ave\, Reynoldsburg\, OH\, 43068\, United States
END:VEVENT
BEGIN:VEVENT
DTSTART;TZID=America/New_York:20241022T180000
DTEND;TZID=America/New_York:20241022T190000
DTSTAMP:20260423T054328
CREATED:20240926T164633Z
LAST-MODIFIED:20240926T164633Z
UID:10001892-1729620000-1729623600@www.metroparks.net
SUMMARY:Fall Foliage Ride
DESCRIPTION:Join us for a ride around Quarry Trails Metro Park! If you have your own bike and equipment\, you do not need to register. We have a few adult bikes available for people to borrow\, but you must register to reserve your bike. Meet at the Park Office! Use the address 2600 Dublin Road\, and follow signs to the Park Office. \nRegister here.
URL:https://www.metroparks.net/event/fall-foliage-ride/
LOCATION:Quarry Trails\, 2600 Dublin Road\, Columbus\, OH\, 43228\, United States
END:VEVENT
END:VCALENDAR