BEGIN:VCALENDAR
VERSION:2.0
PRODID:-//Metro Parks - Central Ohio Park System - ECPv6.15.16.1//NONSGML v1.0//EN
CALSCALE:GREGORIAN
METHOD:PUBLISH
X-WR-CALNAME:Metro Parks - Central Ohio Park System
X-ORIGINAL-URL:https://www.metroparks.net
X-WR-CALDESC:Events for Metro Parks - Central Ohio Park System
REFRESH-INTERVAL;VALUE=DURATION:PT1H
X-Robots-Tag:noindex
X-PUBLISHED-TTL:PT1H
BEGIN:VTIMEZONE
TZID:America/New_York
BEGIN:DAYLIGHT
TZOFFSETFROM:-0500
TZOFFSETTO:-0400
TZNAME:EDT
DTSTART:20230312T070000
END:DAYLIGHT
BEGIN:STANDARD
TZOFFSETFROM:-0400
TZOFFSETTO:-0500
TZNAME:EST
DTSTART:20231105T060000
END:STANDARD
BEGIN:DAYLIGHT
TZOFFSETFROM:-0500
TZOFFSETTO:-0400
TZNAME:EDT
DTSTART:20240310T070000
END:DAYLIGHT
BEGIN:STANDARD
TZOFFSETFROM:-0400
TZOFFSETTO:-0500
TZNAME:EST
DTSTART:20241103T060000
END:STANDARD
BEGIN:DAYLIGHT
TZOFFSETFROM:-0500
TZOFFSETTO:-0400
TZNAME:EDT
DTSTART:20250309T070000
END:DAYLIGHT
BEGIN:STANDARD
TZOFFSETFROM:-0400
TZOFFSETTO:-0500
TZNAME:EST
DTSTART:20251102T060000
END:STANDARD
END:VTIMEZONE
BEGIN:VEVENT
DTSTART;TZID=America/New_York:20241025T210000
DTEND;TZID=America/New_York:20241025T233000
DTSTAMP:20260422T022057
CREATED:20240926T164055Z
LAST-MODIFIED:20240926T164055Z
UID:10001885-1729890000-1729899000@www.metroparks.net
SUMMARY:Late Nights at the Climbing Wall
DESCRIPTION:Enjoy Late Nights at the Climbing Wall at Scioto Audubon Metro Park! On the 2nd and 4th Fridays of the month\, the climbing wall lights will stay on until midnight for open climb. Please bring your own gear.
URL:https://www.metroparks.net/event/late-nights-at-the-climbing-wall-4/2024-10-25/
LOCATION:Scioto Audubon\, 400 West Whittier St.\, Columbus\, OH\, 43215\, United States
ATTACH;FMTTYPE=image/jpeg:https://www.metroparks.net/wp-content/uploads/2022/11/SAU-wall-and-tower-1200px.jpg
END:VEVENT
BEGIN:VEVENT
DTSTART;TZID=America/New_York:20241026T100000
DTEND;TZID=America/New_York:20241026T113000
DTSTAMP:20260422T022057
CREATED:20240926T164849Z
LAST-MODIFIED:20240926T164849Z
UID:10001895-1729936800-1729942200@www.metroparks.net
SUMMARY:Fall Compass Quest
DESCRIPTION:Enjoy this fun and free compass game at Scioto Grove Metro Park! Meet at the Arrowhead Picnic area for equipment and instruction.
URL:https://www.metroparks.net/event/fall-compass-quest/
LOCATION:Scioto Grove\, 5172 Jackson Pike\, Grove City\, OH\, 43123\, United States
END:VEVENT
BEGIN:VEVENT
DTSTART;TZID=America/New_York:20241026T100000
DTEND;TZID=America/New_York:20241026T113000
DTSTAMP:20260422T022057
CREATED:20240924T142336Z
LAST-MODIFIED:20240924T142336Z
UID:10001852-1729936800-1729942200@www.metroparks.net
SUMMARY:Fall Birding Hike
DESCRIPTION:Take a 1-mile hike and look for some forest birds. Ages 8+. All experience levels welcome. Limited supply of binoculars available to borrow. Meet at Indian Ridge Bulletin Board\, 2705 Darby Creek Dr.
URL:https://www.metroparks.net/event/fall-birding-hike/
LOCATION:Battelle Darby Creek\, 1775 Darby Creek Drive\, Galloway\, OH\, 43119\, United States
ATTACH;FMTTYPE=image/jpeg:https://www.metroparks.net/wp-content/uploads/2014/10/Ancient-Trail-at-BDC_Oct-1_C-Denning.jpg
END:VEVENT
BEGIN:VEVENT
DTSTART;TZID=America/New_York:20241026T100000
DTEND;TZID=America/New_York:20241026T160000
DTSTAMP:20260422T022057
CREATED:20240924T141739Z
LAST-MODIFIED:20240924T141739Z
UID:10001846-1729936800-1729958400@www.metroparks.net
SUMMARY:Pumpkins\, Squash\, and Gourds
DESCRIPTION:Ongoing between 10 am-4pm.\nSee a display of some of the many varieties of pumpkins\, squash\, and gourds available in the 1880s.
URL:https://www.metroparks.net/event/pumpkins-squash-and-gourds/2024-10-26/
LOCATION:Slate Run Living Historical Farm\, 1375 OH-674\, Canal Winchester\, OH\, 43110\, United States
ATTACH;FMTTYPE=image/jpeg:https://www.metroparks.net/wp-content/uploads/2023/10/SRF_1200px_apples-and-pumpkins_Oct_Doug-Crawford.jpg
END:VEVENT
BEGIN:VEVENT
DTSTART;TZID=America/New_York:20241026T110000
DTEND;TZID=America/New_York:20241026T123000
DTSTAMP:20260422T022057
CREATED:20240924T142054Z
LAST-MODIFIED:20240924T142054Z
UID:10001850-1729940400-1729945800@www.metroparks.net
SUMMARY:For Adults 50+: Off The Beaten Path - Nature Journaling at Camp Sugarbush
DESCRIPTION:Bring your own journal or notebook as we slow down\, engage our senses and become present in the moment while exploring and interacting with nature. Nature journaling combines observing and documenting the natural world through writing and/or sketching and allows us to have a deeper connection with the world around us. \nMeet at Blendon Woods Camp Sugarbush.
URL:https://www.metroparks.net/event/for-adults-50-off-the-beaten-path-nature-journaling-at-camp-sugarbush/
LOCATION:Blendon Woods\, 4265 E Dublin Granville Road\, Columbus\, 43081\, United States
END:VEVENT
BEGIN:VEVENT
DTSTART;TZID=America/New_York:20241026T120000
DTEND;TZID=America/New_York:20241026T150000
DTSTAMP:20260422T022057
CREATED:20240919T144527Z
LAST-MODIFIED:20240919T144527Z
UID:10001836-1729944000-1729954800@www.metroparks.net
SUMMARY:Blendon Bones
DESCRIPTION:Learn about wildlife from the inside out with this display of skeletons and taxidermy.
URL:https://www.metroparks.net/event/blendon-bones/
LOCATION:Blendon Woods\, 4265 E Dublin Granville Road\, Columbus\, 43081\, United States
END:VEVENT
BEGIN:VEVENT
DTSTART;TZID=America/New_York:20241026T150000
DTEND;TZID=America/New_York:20241026T170000
DTSTAMP:20260422T022057
CREATED:20240924T142204Z
LAST-MODIFIED:20240924T142204Z
UID:10001851-1729954800-1729962000@www.metroparks.net
SUMMARY:For Adults 50+: Turnips\, the Original Jack-O-Lanterns. A Turnip Carving Workshop
DESCRIPTION:Program begins at 3pm\nThis program is for participants age 50 and up.\nMeet behind the farmhouse.\nJoin us to learn about the history of the jack-o-lantern. Try your hand at carving your own historic jack-o-lantern using root crops such as turnips\, beets\, and potatoes.\nParticipants should wear old clothes.
URL:https://www.metroparks.net/event/for-adults-50-turnips-the-original-jack-o-lanterns-a-turnip-carving-workshop/
LOCATION:Slate Run Living Historical Farm\, 1375 OH-674\, Canal Winchester\, OH\, 43110\, United States
END:VEVENT
BEGIN:VEVENT
DTSTART;TZID=America/New_York:20241026T170000
DTEND;TZID=America/New_York:20241026T180000
DTSTAMP:20260422T022057
CREATED:20240924T141940Z
LAST-MODIFIED:20240924T141940Z
UID:10001849-1729962000-1729965600@www.metroparks.net
SUMMARY:Halloween Party!
DESCRIPTION:Happy Halloween! Celebrate the spookiest holiday with us at Homestead Metro Park! Bring your best costume and prepare for an evening of fun! We will have games\, crafts\, and a trick-or-treat trivia trail!\nBringing a bag is recommended.\nThis program is geared for all ages. Meet at the Lakeside Pavilion.
URL:https://www.metroparks.net/event/halloween-party-2/
LOCATION:Homestead\, 4675 Cosgray Road\, Hilliard\, OH\, 43026\, United States
END:VEVENT
BEGIN:VEVENT
DTSTART;TZID=America/New_York:20241026T170000
DTEND;TZID=America/New_York:20241026T200000
DTSTAMP:20260422T022057
CREATED:20240926T165938Z
LAST-MODIFIED:20240926T165938Z
UID:10001905-1729962000-1729972800@www.metroparks.net
SUMMARY:Howl-O-Ween
DESCRIPTION:Celebrate the spooky season at the Metro Park. Walk a Trick-or-Treat trail\, learn about nocturnal animals\, hear some not-so-scary ghost stories\, play some games and make a fall craft. Costumes are welcome\, please keep them family-friendly.
URL:https://www.metroparks.net/event/howl-o-ween/
LOCATION:Sharon Woods\, 6911 Cleveland Ave.\, Columbus\, OH\, 43081\, United States
END:VEVENT
BEGIN:VEVENT
DTSTART;TZID=America/New_York:20241027T080000
DTEND;TZID=America/New_York:20241027T090000
DTSTAMP:20260422T022057
CREATED:20240926T165032Z
LAST-MODIFIED:20240926T165032Z
UID:10001896-1730016000-1730019600@www.metroparks.net
SUMMARY:Sunrise Hike
DESCRIPTION:Enjoy a beautiful sunrise over Darby Bend Lakes at Prairie Oaks Metro Park! Meet at the Lake 1 shelter house\, and enjoy an approx. 2-mile hike around the lakes. 2755 Amity Rd\, Hilliard.
URL:https://www.metroparks.net/event/sunrise-hike-2/
LOCATION:Prairie Oaks\, 3225 Plain City-Georgesville Road\, West Jefferson\, OH\, 43162\, United States
ATTACH;FMTTYPE=image/jpeg:https://www.metroparks.net/wp-content/uploads/2015/01/PRO_sunrise-and-mist-at-DBL_Dawn-Archey.jpg
END:VEVENT
BEGIN:VEVENT
DTSTART;TZID=America/New_York:20241027T100000
DTEND;TZID=America/New_York:20241027T160000
DTSTAMP:20260422T022057
CREATED:20240924T141739Z
LAST-MODIFIED:20240924T141739Z
UID:10001847-1730023200-1730044800@www.metroparks.net
SUMMARY:Pumpkins\, Squash\, and Gourds
DESCRIPTION:Ongoing between 10 am-4pm.\nSee a display of some of the many varieties of pumpkins\, squash\, and gourds available in the 1880s.
URL:https://www.metroparks.net/event/pumpkins-squash-and-gourds/2024-10-27/
LOCATION:Slate Run Living Historical Farm\, 1375 OH-674\, Canal Winchester\, OH\, 43110\, United States
ATTACH;FMTTYPE=image/jpeg:https://www.metroparks.net/wp-content/uploads/2023/10/SRF_1200px_apples-and-pumpkins_Oct_Doug-Crawford.jpg
END:VEVENT
BEGIN:VEVENT
DTSTART;TZID=America/New_York:20241027T130000
DTEND;TZID=America/New_York:20241027T150000
DTSTAMP:20260422T022057
CREATED:20240924T140932Z
LAST-MODIFIED:20240924T140957Z
UID:10001841-1730034000-1730041200@www.metroparks.net
SUMMARY:Blacklick's Enchanted Woods
DESCRIPTION:Step into the enchanted Blacklick Woods where everything comes to life. Voyage through the different realms searching for different creatures to earn your candy prize. Costumes are encouraged!
URL:https://www.metroparks.net/event/blacklicks-enchanted-woods/
LOCATION:Blacklick Woods\, 6975 East Livingston Ave\, Reynoldsburg\, OH\, 43068\, United States
END:VEVENT
BEGIN:VEVENT
DTSTART;TZID=America/New_York:20241027T140000
DTEND;TZID=America/New_York:20241027T150000
DTSTAMP:20260422T022057
CREATED:20240919T144600Z
LAST-MODIFIED:20240919T144600Z
UID:10001837-1730037600-1730041200@www.metroparks.net
SUMMARY:Spooky Animals
DESCRIPTION:Learn about spiders\, snakes\, bats\, and other scary animals and find out if they are actually dangerous.
URL:https://www.metroparks.net/event/spooky-animals-2/
LOCATION:Blendon Woods\, 4265 E Dublin Granville Road\, Columbus\, 43081\, United States
END:VEVENT
BEGIN:VEVENT
DTSTART;TZID=America/New_York:20241027T140000
DTEND;TZID=America/New_York:20241027T160000
DTSTAMP:20260422T022057
CREATED:20240927T181330Z
LAST-MODIFIED:20240927T181406Z
UID:10001913-1730037600-1730044800@www.metroparks.net
SUMMARY:Annual Halloween Party
DESCRIPTION:Keep the tradition of the Innis family alive\, and join us for a family-friendly celebration with crafts\, activities\, and animals from the Ohio Wildlife Center.
URL:https://www.metroparks.net/event/annual-halloween-party/
LOCATION:Inniswood Metro Gardens\, 940 S. Hempstead Rd.\, Westerville\, OH\, 43081\, United States
END:VEVENT
BEGIN:VEVENT
DTSTART;TZID=America/New_York:20241027T150000
DTEND;TZID=America/New_York:20241027T160000
DTSTAMP:20260422T022057
CREATED:20240924T141813Z
LAST-MODIFIED:20240924T141813Z
UID:10001848-1730041200-1730044800@www.metroparks.net
SUMMARY:Halloween Scavenger Hunt
DESCRIPTION:Wear your favorite Halloween costume and join Jackie O’Lantern the Pumpkin on a Scavenger Hunt in the Park! Meet at the Ranger Station\, 1775 Darby Creek Dr.
URL:https://www.metroparks.net/event/halloween-scavenger-hunt/
LOCATION:Battelle Darby Creek\, 1775 Darby Creek Drive\, Galloway\, OH\, 43119\, United States
END:VEVENT
BEGIN:VEVENT
DTSTART;TZID=America/New_York:20241027T180000
DTEND;TZID=America/New_York:20241027T200000
DTSTAMP:20260422T022057
CREATED:20241029T141924Z
LAST-MODIFIED:20241029T141924Z
UID:10002002-1730052000-1730059200@www.metroparks.net
SUMMARY:Learn the Ropes
DESCRIPTION:Enjoy rock climbing on the outdoor public climbing wall at Scioto Audubon Metro Park! Equipment and instruction are provided. Open to all ages and experience levels. Tennis shoes are the recommended footwear for beginners\, please no flip flops or crocs. Come out anytime during the time listed. Meet at the climbing wall.
URL:https://www.metroparks.net/event/learn-the-ropes-5/
LOCATION:Scioto Audubon\, 400 West Whittier St.\, Columbus\, OH\, 43215\, United States
ATTACH;FMTTYPE=image/jpeg:https://www.metroparks.net/wp-content/uploads/2022/11/SAU-wall-and-tower-1200px.jpg
END:VEVENT
END:VCALENDAR