BEGIN:VCALENDAR
VERSION:2.0
PRODID:-//Metro Parks - Central Ohio Park System - ECPv6.15.16.1//NONSGML v1.0//EN
CALSCALE:GREGORIAN
METHOD:PUBLISH
X-WR-CALNAME:Metro Parks - Central Ohio Park System
X-ORIGINAL-URL:https://www.metroparks.net
X-WR-CALDESC:Events for Metro Parks - Central Ohio Park System
REFRESH-INTERVAL;VALUE=DURATION:PT1H
X-Robots-Tag:noindex
X-PUBLISHED-TTL:PT1H
BEGIN:VTIMEZONE
TZID:America/New_York
BEGIN:DAYLIGHT
TZOFFSETFROM:-0500
TZOFFSETTO:-0400
TZNAME:EDT
DTSTART:20230312T070000
END:DAYLIGHT
BEGIN:STANDARD
TZOFFSETFROM:-0400
TZOFFSETTO:-0500
TZNAME:EST
DTSTART:20231105T060000
END:STANDARD
BEGIN:DAYLIGHT
TZOFFSETFROM:-0500
TZOFFSETTO:-0400
TZNAME:EDT
DTSTART:20240310T070000
END:DAYLIGHT
BEGIN:STANDARD
TZOFFSETFROM:-0400
TZOFFSETTO:-0500
TZNAME:EST
DTSTART:20241103T060000
END:STANDARD
BEGIN:DAYLIGHT
TZOFFSETFROM:-0500
TZOFFSETTO:-0400
TZNAME:EDT
DTSTART:20250309T070000
END:DAYLIGHT
BEGIN:STANDARD
TZOFFSETFROM:-0400
TZOFFSETTO:-0500
TZNAME:EST
DTSTART:20251102T060000
END:STANDARD
END:VTIMEZONE
BEGIN:VEVENT
DTSTART;TZID=America/New_York:20241027T140000
DTEND;TZID=America/New_York:20241027T150000
DTSTAMP:20260422T071232
CREATED:20240919T144600Z
LAST-MODIFIED:20240919T144600Z
UID:10001837-1730037600-1730041200@www.metroparks.net
SUMMARY:Spooky Animals
DESCRIPTION:Learn about spiders\, snakes\, bats\, and other scary animals and find out if they are actually dangerous.
URL:https://www.metroparks.net/event/spooky-animals-2/
LOCATION:Blendon Woods\, 4265 E Dublin Granville Road\, Columbus\, 43081\, United States
END:VEVENT
BEGIN:VEVENT
DTSTART;TZID=America/New_York:20241027T140000
DTEND;TZID=America/New_York:20241027T160000
DTSTAMP:20260422T071232
CREATED:20240927T181330Z
LAST-MODIFIED:20240927T181406Z
UID:10001913-1730037600-1730044800@www.metroparks.net
SUMMARY:Annual Halloween Party
DESCRIPTION:Keep the tradition of the Innis family alive\, and join us for a family-friendly celebration with crafts\, activities\, and animals from the Ohio Wildlife Center.
URL:https://www.metroparks.net/event/annual-halloween-party/
LOCATION:Inniswood Metro Gardens\, 940 S. Hempstead Rd.\, Westerville\, OH\, 43081\, United States
END:VEVENT
BEGIN:VEVENT
DTSTART;TZID=America/New_York:20241027T150000
DTEND;TZID=America/New_York:20241027T160000
DTSTAMP:20260422T071232
CREATED:20240924T141813Z
LAST-MODIFIED:20240924T141813Z
UID:10001848-1730041200-1730044800@www.metroparks.net
SUMMARY:Halloween Scavenger Hunt
DESCRIPTION:Wear your favorite Halloween costume and join Jackie O’Lantern the Pumpkin on a Scavenger Hunt in the Park! Meet at the Ranger Station\, 1775 Darby Creek Dr.
URL:https://www.metroparks.net/event/halloween-scavenger-hunt/
LOCATION:Battelle Darby Creek\, 1775 Darby Creek Drive\, Galloway\, OH\, 43119\, United States
END:VEVENT
BEGIN:VEVENT
DTSTART;TZID=America/New_York:20241027T180000
DTEND;TZID=America/New_York:20241027T200000
DTSTAMP:20260422T071232
CREATED:20241029T141924Z
LAST-MODIFIED:20241029T141924Z
UID:10002002-1730052000-1730059200@www.metroparks.net
SUMMARY:Learn the Ropes
DESCRIPTION:Enjoy rock climbing on the outdoor public climbing wall at Scioto Audubon Metro Park! Equipment and instruction are provided. Open to all ages and experience levels. Tennis shoes are the recommended footwear for beginners\, please no flip flops or crocs. Come out anytime during the time listed. Meet at the climbing wall.
URL:https://www.metroparks.net/event/learn-the-ropes-5/
LOCATION:Scioto Audubon\, 400 West Whittier St.\, Columbus\, OH\, 43215\, United States
ATTACH;FMTTYPE=image/jpeg:https://www.metroparks.net/wp-content/uploads/2022/11/SAU-wall-and-tower-1200px.jpg
END:VEVENT
BEGIN:VEVENT
DTSTART;TZID=America/New_York:20241028T170000
DTEND;TZID=America/New_York:20241028T180000
DTSTAMP:20260422T071232
CREATED:20240924T140639Z
LAST-MODIFIED:20240924T140650Z
UID:10001840-1730134800-1730138400@www.metroparks.net
SUMMARY:Happy Howl-oween!
DESCRIPTION:People aren’t the only ones who can celebrate Halloween! Bring your pups in their best costumes for a fun filled party just for them!\nThis program is geared for all ages. Meet at the dog park.
URL:https://www.metroparks.net/event/happy-howl-oween/
LOCATION:Glacier Ridge\, 9801 Hyland Croy\, Plain City\, OH\, 43064\, United States
ATTACH;FMTTYPE=image/jpeg:https://www.metroparks.net/wp-content/uploads/2019/10/WAL_dog-playing-on-obstacle-course_Oct_M-McConnell.jpg
END:VEVENT
BEGIN:VEVENT
DTSTART;TZID=America/New_York:20241029T190000
DTEND;TZID=America/New_York:20241029T200000
DTSTAMP:20260422T071232
CREATED:20240926T165105Z
LAST-MODIFIED:20240926T165105Z
UID:10001897-1730228400-1730232000@www.metroparks.net
SUMMARY:Costume Lantern Hike!
DESCRIPTION:Enjoy a lantern illuminated hike through the Tall Pines area at Walnut Woods Metro Park! Wear your best costume and plan to hike approx. 2 miles! Use address 6833 Richardson Rd\, Groveport.
URL:https://www.metroparks.net/event/costume-lantern-hike/
LOCATION:Walnut Woods\, 6723 Lithopolis Rd\, Groveport\, OH\, 43125\, United States
END:VEVENT
END:VCALENDAR