BEGIN:VCALENDAR
VERSION:2.0
PRODID:-//Metro Parks - Central Ohio Park System - ECPv6.15.16.1//NONSGML v1.0//EN
CALSCALE:GREGORIAN
METHOD:PUBLISH
X-WR-CALNAME:Metro Parks - Central Ohio Park System
X-ORIGINAL-URL:https://www.metroparks.net
X-WR-CALDESC:Events for Metro Parks - Central Ohio Park System
REFRESH-INTERVAL;VALUE=DURATION:PT1H
X-Robots-Tag:noindex
X-PUBLISHED-TTL:PT1H
BEGIN:VTIMEZONE
TZID:America/New_York
BEGIN:DAYLIGHT
TZOFFSETFROM:-0500
TZOFFSETTO:-0400
TZNAME:EDT
DTSTART:20220313T070000
END:DAYLIGHT
BEGIN:STANDARD
TZOFFSETFROM:-0400
TZOFFSETTO:-0500
TZNAME:EST
DTSTART:20221106T060000
END:STANDARD
BEGIN:DAYLIGHT
TZOFFSETFROM:-0500
TZOFFSETTO:-0400
TZNAME:EDT
DTSTART:20230312T070000
END:DAYLIGHT
BEGIN:STANDARD
TZOFFSETFROM:-0400
TZOFFSETTO:-0500
TZNAME:EST
DTSTART:20231105T060000
END:STANDARD
BEGIN:DAYLIGHT
TZOFFSETFROM:-0500
TZOFFSETTO:-0400
TZNAME:EDT
DTSTART:20240310T070000
END:DAYLIGHT
BEGIN:STANDARD
TZOFFSETFROM:-0400
TZOFFSETTO:-0500
TZNAME:EST
DTSTART:20241103T060000
END:STANDARD
END:VTIMEZONE
BEGIN:VEVENT
DTSTART;TZID=America/New_York:20230721T180000
DTEND;TZID=America/New_York:20230721T210000
DTSTAMP:20260424T073127
CREATED:20230622T125152Z
LAST-MODIFIED:20230622T125344Z
UID:10000506-1689962400-1689973200@www.metroparks.net
SUMMARY:Canoe the Lake
DESCRIPTION:Stop by and take a canoe out for a ride on the lake. Canoes and life jackets provided. We have size infant through adult life jackets\, so feel free to bring the whole family! \nPlease check in at the tent when you arrive to put your name on the list. Boats will be filled on an ongoing basis based on the order of your arrival. Please note that there may be a wait before we can get you in a canoe\, but we will do our best to accommodate everyone within the timeframe of the program.\nProgram is rain or shine. In the event of thunderstorms\, the program will shut down for 30 min from the occurrence of thunder and/or lightning.
URL:https://www.metroparks.net/event/canoe-the-lake-2/2023-07-21/
LOCATION:Sharon Woods\, 6911 Cleveland Ave.\, Columbus\, OH\, 43081\, United States
ATTACH;FMTTYPE=image/jpeg:https://www.metroparks.net/wp-content/uploads/2019/10/activities-canoeing_SHN_July_Kim-Strosnider_sm.jpg
END:VEVENT
BEGIN:VEVENT
DTSTART;TZID=America/New_York:20230722T090000
DTEND;TZID=America/New_York:20230722T120000
DTSTAMP:20260424T073127
CREATED:20230622T125152Z
LAST-MODIFIED:20230622T125344Z
UID:10000496-1690016400-1690027200@www.metroparks.net
SUMMARY:Canoe the Lake
DESCRIPTION:Stop by and take a canoe out for a ride on the lake. Canoes and life jackets provided. We have size infant through adult life jackets\, so feel free to bring the whole family! \nPlease check in at the tent when you arrive to put your name on the list. Boats will be filled on an ongoing basis based on the order of your arrival. Please note that there may be a wait before we can get you in a canoe\, but we will do our best to accommodate everyone within the timeframe of the program.\nProgram is rain or shine. In the event of thunderstorms\, the program will shut down for 30 min from the occurrence of thunder and/or lightning.
URL:https://www.metroparks.net/event/canoe-the-lake-2/2023-07-22/1/
LOCATION:Sharon Woods\, 6911 Cleveland Ave.\, Columbus\, OH\, 43081\, United States
ATTACH;FMTTYPE=image/jpeg:https://www.metroparks.net/wp-content/uploads/2019/10/activities-canoeing_SHN_July_Kim-Strosnider_sm.jpg
END:VEVENT
BEGIN:VEVENT
DTSTART;TZID=America/New_York:20230722T100000
DTEND;TZID=America/New_York:20230722T113000
DTSTAMP:20260424T073127
CREATED:20230717T173504Z
LAST-MODIFIED:20230717T173504Z
UID:10000538-1690020000-1690025400@www.metroparks.net
SUMMARY:Hike to the RippleRock
DESCRIPTION:Walk through the creek upstream to find some unique geologic features. Wear closed-toe shoes that can get wet. Best for ages 6+
URL:https://www.metroparks.net/event/hike-to-the-ripplerock/
LOCATION:Blendon Woods\, 4265 E Dublin Granville Road\, Columbus\, 43081\, United States
END:VEVENT
BEGIN:VEVENT
DTSTART;TZID=America/New_York:20230722T140000
DTEND;TZID=America/New_York:20230722T170000
DTSTAMP:20260424T073127
CREATED:20230622T125152Z
LAST-MODIFIED:20230622T125344Z
UID:10000497-1690034400-1690045200@www.metroparks.net
SUMMARY:Canoe the Lake
DESCRIPTION:Stop by and take a canoe out for a ride on the lake. Canoes and life jackets provided. We have size infant through adult life jackets\, so feel free to bring the whole family! \nPlease check in at the tent when you arrive to put your name on the list. Boats will be filled on an ongoing basis based on the order of your arrival. Please note that there may be a wait before we can get you in a canoe\, but we will do our best to accommodate everyone within the timeframe of the program.\nProgram is rain or shine. In the event of thunderstorms\, the program will shut down for 30 min from the occurrence of thunder and/or lightning.
URL:https://www.metroparks.net/event/canoe-the-lake-2/2023-07-22/2/
LOCATION:Sharon Woods\, 6911 Cleveland Ave.\, Columbus\, OH\, 43081\, United States
ATTACH;FMTTYPE=image/jpeg:https://www.metroparks.net/wp-content/uploads/2019/10/activities-canoeing_SHN_July_Kim-Strosnider_sm.jpg
END:VEVENT
BEGIN:VEVENT
DTSTART;TZID=America/New_York:20230723T090000
DTEND;TZID=America/New_York:20230723T120000
DTSTAMP:20260424T073127
CREATED:20230622T125152Z
LAST-MODIFIED:20230622T125344Z
UID:10000498-1690102800-1690113600@www.metroparks.net
SUMMARY:Canoe the Lake
DESCRIPTION:Stop by and take a canoe out for a ride on the lake. Canoes and life jackets provided. We have size infant through adult life jackets\, so feel free to bring the whole family! \nPlease check in at the tent when you arrive to put your name on the list. Boats will be filled on an ongoing basis based on the order of your arrival. Please note that there may be a wait before we can get you in a canoe\, but we will do our best to accommodate everyone within the timeframe of the program.\nProgram is rain or shine. In the event of thunderstorms\, the program will shut down for 30 min from the occurrence of thunder and/or lightning.
URL:https://www.metroparks.net/event/canoe-the-lake-2/2023-07-23/1/
LOCATION:Sharon Woods\, 6911 Cleveland Ave.\, Columbus\, OH\, 43081\, United States
ATTACH;FMTTYPE=image/jpeg:https://www.metroparks.net/wp-content/uploads/2019/10/activities-canoeing_SHN_July_Kim-Strosnider_sm.jpg
END:VEVENT
BEGIN:VEVENT
DTSTART;TZID=America/New_York:20230723T140000
DTEND;TZID=America/New_York:20230723T150000
DTSTAMP:20260424T073127
CREATED:20230717T173706Z
LAST-MODIFIED:20230717T173706Z
UID:10000539-1690120800-1690124400@www.metroparks.net
SUMMARY:Tree ID @ the Hundred Acre Woods
DESCRIPTION:Hike 1.5 mi off trail to identify trees and enjoy the forest. Meet at 5220 Cambria Way. Park along the street
URL:https://www.metroparks.net/event/tree-id-the-hundred-acre-woods/
LOCATION:100 Acre Wood\, 5280 Cambria Way\, Westerville\, Ohio\, 43081
END:VEVENT
BEGIN:VEVENT
DTSTART;TZID=America/New_York:20230723T140000
DTEND;TZID=America/New_York:20230723T170000
DTSTAMP:20260424T073127
CREATED:20230622T125152Z
LAST-MODIFIED:20230622T125344Z
UID:10000499-1690120800-1690131600@www.metroparks.net
SUMMARY:Canoe the Lake
DESCRIPTION:Stop by and take a canoe out for a ride on the lake. Canoes and life jackets provided. We have size infant through adult life jackets\, so feel free to bring the whole family! \nPlease check in at the tent when you arrive to put your name on the list. Boats will be filled on an ongoing basis based on the order of your arrival. Please note that there may be a wait before we can get you in a canoe\, but we will do our best to accommodate everyone within the timeframe of the program.\nProgram is rain or shine. In the event of thunderstorms\, the program will shut down for 30 min from the occurrence of thunder and/or lightning.
URL:https://www.metroparks.net/event/canoe-the-lake-2/2023-07-23/2/
LOCATION:Sharon Woods\, 6911 Cleveland Ave.\, Columbus\, OH\, 43081\, United States
ATTACH;FMTTYPE=image/jpeg:https://www.metroparks.net/wp-content/uploads/2019/10/activities-canoeing_SHN_July_Kim-Strosnider_sm.jpg
END:VEVENT
BEGIN:VEVENT
DTSTART;TZID=America/New_York:20230725T160000
DTEND;TZID=America/New_York:20230725T200000
DTSTAMP:20260424T073127
CREATED:20230724T130902Z
LAST-MODIFIED:20230724T131300Z
UID:10000541-1690300800-1690315200@www.metroparks.net
SUMMARY:Mud Day!
DESCRIPTION:Kids and adults of all ages can play in the giant mud pit. Wear old or easily cleaned clothing! Water will be available for basic clean-up. It’s probably a good idea to bring some protective newspapers\, bags\, etc for your car seats as well. Three Creeks Metro Park Confluence Area\, 3860 Bixby Rd\, Groveport
URL:https://www.metroparks.net/event/mud-day/2023-07-25/
LOCATION:Three Creeks\, 3860 Bixby Road\, Groveport\, OH\, 43125\, United States
ATTACH;FMTTYPE=image/jpeg:https://www.metroparks.net/wp-content/uploads/2019/05/THC_boy-throws-mud-at-Mud-Day_June_Dan-Bissonette.jpg
END:VEVENT
BEGIN:VEVENT
DTSTART;TZID=America/New_York:20230725T180000
DTEND;TZID=America/New_York:20230725T193000
DTSTAMP:20260424T073127
CREATED:20230724T130726Z
LAST-MODIFIED:20230724T130726Z
UID:10000540-1690308000-1690313400@www.metroparks.net
SUMMARY:Skate-avenger Hunt
DESCRIPTION:Skate through Glacier Ridge Metro Park as you search for scavenger hunt items set out by park staff!!! Bring your own skates\, helmets\, and knee pads. Meet at the shelter house at the main park for instruction.
URL:https://www.metroparks.net/event/skate-avenger-hunt/
LOCATION:Glacier Ridge\, 9801 Hyland Croy\, Plain City\, OH\, 43064\, United States
END:VEVENT
END:VCALENDAR