BEGIN:VCALENDAR
VERSION:2.0
PRODID:-//Metro Parks - Central Ohio Park System - ECPv6.15.16.1//NONSGML v1.0//EN
CALSCALE:GREGORIAN
METHOD:PUBLISH
X-WR-CALNAME:Metro Parks - Central Ohio Park System
X-ORIGINAL-URL:https://www.metroparks.net
X-WR-CALDESC:Events for Metro Parks - Central Ohio Park System
REFRESH-INTERVAL;VALUE=DURATION:PT1H
X-Robots-Tag:noindex
X-PUBLISHED-TTL:PT1H
BEGIN:VTIMEZONE
TZID:America/New_York
BEGIN:DAYLIGHT
TZOFFSETFROM:-0500
TZOFFSETTO:-0400
TZNAME:EDT
DTSTART:20230312T070000
END:DAYLIGHT
BEGIN:STANDARD
TZOFFSETFROM:-0400
TZOFFSETTO:-0500
TZNAME:EST
DTSTART:20231105T060000
END:STANDARD
BEGIN:DAYLIGHT
TZOFFSETFROM:-0500
TZOFFSETTO:-0400
TZNAME:EDT
DTSTART:20240310T070000
END:DAYLIGHT
BEGIN:STANDARD
TZOFFSETFROM:-0400
TZOFFSETTO:-0500
TZNAME:EST
DTSTART:20241103T060000
END:STANDARD
BEGIN:DAYLIGHT
TZOFFSETFROM:-0500
TZOFFSETTO:-0400
TZNAME:EDT
DTSTART:20250309T070000
END:DAYLIGHT
BEGIN:STANDARD
TZOFFSETFROM:-0400
TZOFFSETTO:-0500
TZNAME:EST
DTSTART:20251102T060000
END:STANDARD
END:VTIMEZONE
BEGIN:VEVENT
DTSTART;TZID=America/New_York:20241123T170000
DTEND;TZID=America/New_York:20241123T180000
DTSTAMP:20260423T151044
CREATED:20241025T192701Z
LAST-MODIFIED:20241025T192701Z
UID:10001963-1732381200-1732384800@www.metroparks.net
SUMMARY:Owls of Darby
DESCRIPTION:Join our naturalist as they try to lure in these raptors using calls on this 2-mile hike. Meet at the Indian Ridge Bulletin Board\, 2705 Darby Creek Dr.
URL:https://www.metroparks.net/event/owls-of-darby/
LOCATION:Battelle Darby Creek\, 1775 Darby Creek Drive\, Galloway\, OH\, 43119\, United States
ATTACH;FMTTYPE=image/jpeg:https://www.metroparks.net/wp-content/uploads/2023/07/bucket-baby-barred-owls-1200px-Dan-Ferrin.jpg
END:VEVENT
BEGIN:VEVENT
DTSTART;TZID=America/New_York:20241123T173000
DTEND;TZID=America/New_York:20241123T190000
DTSTAMP:20260423T151044
CREATED:20241031T121114Z
LAST-MODIFIED:20241031T121114Z
UID:10002011-1732383000-1732388400@www.metroparks.net
SUMMARY:S’mores and Furs
DESCRIPTION:Join us around a campfire for s’mores\, animal furs\, and bones! We will light the fire starting at 5:30 pm.\nS’mores supplies will be first come first served.\nThis program is geared for all ages. Meet at the shelter house\, rain of shine!
URL:https://www.metroparks.net/event/smores-and-furs-2/
LOCATION:Glacier Ridge\, 9801 Hyland Croy\, Plain City\, OH\, 43064\, United States
END:VEVENT
BEGIN:VEVENT
DTSTART;TZID=America/New_York:20241124T100000
DTEND;TZID=America/New_York:20241124T160000
DTSTAMP:20260423T151044
CREATED:20241031T123300Z
LAST-MODIFIED:20241031T123839Z
UID:10002024-1732442400-1732464000@www.metroparks.net
SUMMARY:Thanksgiving Traditions
DESCRIPTION:Ongoing at the farmhouse from 10am-4pm.\nLearn some history about Thanksgiving foods and traditions.
URL:https://www.metroparks.net/event/thanksgiving-traditions/2024-11-24/
LOCATION:Slate Run Living Historical Farm\, 1375 OH-674\, Canal Winchester\, OH\, 43110\, United States
ATTACH;FMTTYPE=image/jpeg:https://www.metroparks.net/wp-content/uploads/2016/06/1080px_SRF_working-in-kitchen_FK.jpg
END:VEVENT
BEGIN:VEVENT
DTSTART;TZID=America/New_York:20241124T140000
DTEND;TZID=America/New_York:20241124T150000
DTSTAMP:20260423T151044
CREATED:20241028T133509Z
LAST-MODIFIED:20241028T133509Z
UID:10001975-1732456800-1732460400@www.metroparks.net
SUMMARY:Tea Time
DESCRIPTION:Learn about different wild plants that you can make teas with and their benefits; then try some samples.
URL:https://www.metroparks.net/event/tea-time/
LOCATION:Blacklick Woods\, 6975 East Livingston Ave\, Reynoldsburg\, OH\, 43068\, United States
END:VEVENT
BEGIN:VEVENT
DTSTART;TZID=America/New_York:20241124T150000
DTEND;TZID=America/New_York:20241124T160000
DTSTAMP:20260423T151044
CREATED:20241023T130905Z
LAST-MODIFIED:20241023T130905Z
UID:10001939-1732460400-1732464000@www.metroparks.net
SUMMARY:50+ Tree Hike
DESCRIPTION:Take a 1-mile hike to learn about trees and find out which ones keep their leaves through the winter.
URL:https://www.metroparks.net/event/50-tree-hike-2/
LOCATION:Blendon Woods\, 4265 E Dublin Granville Road\, Columbus\, 43081\, United States
END:VEVENT
END:VCALENDAR