BEGIN:VCALENDAR
VERSION:2.0
PRODID:-//Metro Parks - Central Ohio Park System - ECPv6.15.16.1//NONSGML v1.0//EN
CALSCALE:GREGORIAN
METHOD:PUBLISH
X-WR-CALNAME:Metro Parks - Central Ohio Park System
X-ORIGINAL-URL:https://www.metroparks.net
X-WR-CALDESC:Events for Metro Parks - Central Ohio Park System
REFRESH-INTERVAL;VALUE=DURATION:PT1H
X-Robots-Tag:noindex
X-PUBLISHED-TTL:PT1H
BEGIN:VTIMEZONE
TZID:America/New_York
BEGIN:DAYLIGHT
TZOFFSETFROM:-0500
TZOFFSETTO:-0400
TZNAME:EDT
DTSTART:20230312T070000
END:DAYLIGHT
BEGIN:STANDARD
TZOFFSETFROM:-0400
TZOFFSETTO:-0500
TZNAME:EST
DTSTART:20231105T060000
END:STANDARD
BEGIN:DAYLIGHT
TZOFFSETFROM:-0500
TZOFFSETTO:-0400
TZNAME:EDT
DTSTART:20240310T070000
END:DAYLIGHT
BEGIN:STANDARD
TZOFFSETFROM:-0400
TZOFFSETTO:-0500
TZNAME:EST
DTSTART:20241103T060000
END:STANDARD
BEGIN:DAYLIGHT
TZOFFSETFROM:-0500
TZOFFSETTO:-0400
TZNAME:EDT
DTSTART:20250309T070000
END:DAYLIGHT
BEGIN:STANDARD
TZOFFSETFROM:-0400
TZOFFSETTO:-0500
TZNAME:EST
DTSTART:20251102T060000
END:STANDARD
END:VTIMEZONE
BEGIN:VEVENT
DTSTART;TZID=America/New_York:20241129T100000
DTEND;TZID=America/New_York:20241129T160000
DTSTAMP:20260423T015754
CREATED:20241031T123921Z
LAST-MODIFIED:20241031T123921Z
UID:10002025-1732874400-1732896000@www.metroparks.net
SUMMARY:Indoor Amusements
DESCRIPTION:Ongoing at the farmhouse between 10am-4pm.\nTry some indoor games and toys and challenge your mind with some 19th century puzzles.
URL:https://www.metroparks.net/event/indoor-amusements/2024-11-29/
LOCATION:Slate Run Living Historical Farm\, 1375 OH-674\, Canal Winchester\, OH\, 43110\, United States
END:VEVENT
BEGIN:VEVENT
DTSTART;TZID=America/New_York:20241129T130000
DTEND;TZID=America/New_York:20241129T143000
DTSTAMP:20260423T015754
CREATED:20241025T192835Z
LAST-MODIFIED:20241025T192835Z
UID:10001965-1732885200-1732890600@www.metroparks.net
SUMMARY:Opt Outside Bird Walk
DESCRIPTION:Opt outside and take a 1.5 mile hike to look for birds. All experience levels welcome. Some binoculars available to borrow. Trail is unimproved and may be muddy. Meet at the Wet Prairie Access Parking Lot across from the Nature Center.
URL:https://www.metroparks.net/event/opt-outside-bird-walk/
LOCATION:Battelle Darby Creek\, 1775 Darby Creek Drive\, Galloway\, OH\, 43119\, United States
END:VEVENT
BEGIN:VEVENT
DTSTART;TZID=America/New_York:20241129T130000
DTEND;TZID=America/New_York:20241129T160000
DTSTAMP:20260423T015754
CREATED:20241031T124608Z
LAST-MODIFIED:20241031T124608Z
UID:10002031-1732885200-1732896000@www.metroparks.net
SUMMARY:Black (ratsnake) Friday
DESCRIPTION:Take a break from shopping stop by and meet Chico\, our black rat snake.
URL:https://www.metroparks.net/event/black-ratsnake-friday/
LOCATION:Sharon Woods\, 6911 Cleveland Ave.\, Columbus\, OH\, 43081\, United States
ATTACH;FMTTYPE=image/jpeg:https://www.metroparks.net/wp-content/uploads/2017/07/Gray-rat-snake-7-2017-SHW-e1499886873173.jpg
END:VEVENT
BEGIN:VEVENT
DTSTART;TZID=America/New_York:20241129T140000
DTEND;TZID=America/New_York:20241129T160000
DTSTAMP:20260423T015754
CREATED:20241023T131109Z
LAST-MODIFIED:20241023T131109Z
UID:10001942-1732888800-1732896000@www.metroparks.net
SUMMARY:For Adults 50+: Off The Beaten Path - Hike To The Apple Barn
DESCRIPTION:Hike 3-miles on and off trail to visit the old apple barn and learn a little history of the area on the way. \nMeet at the first parking lot on the right.
URL:https://www.metroparks.net/event/for-adults-50-off-the-beaten-path-hike-to-the-apple-barn/
LOCATION:Chestnut Ridge\, 8445 Winchester Rd NW\, Carroll\, OH\, 43112\, United States
END:VEVENT
BEGIN:VEVENT
DTSTART;TZID=America/New_York:20241130T100000
DTEND;TZID=America/New_York:20241130T110000
DTSTAMP:20260423T015754
CREATED:20241031T173407Z
LAST-MODIFIED:20241031T173407Z
UID:10002040-1732960800-1732964400@www.metroparks.net
SUMMARY:Yoga
DESCRIPTION:Join Joy Lawrence\, registered yoga teacher\, for a gentle hatha yoga class inside the Innis House. Please wear comfortable clothes and bring a yoga mat.
URL:https://www.metroparks.net/event/yoga-2/
LOCATION:Inniswood Metro Gardens\, 940 S. Hempstead Rd.\, Westerville\, OH\, 43081\, United States
END:VEVENT
BEGIN:VEVENT
DTSTART;TZID=America/New_York:20241130T100000
DTEND;TZID=America/New_York:20241130T110000
DTSTAMP:20260423T015754
CREATED:20241029T141946Z
LAST-MODIFIED:20241029T141946Z
UID:10002003-1732960800-1732964400@www.metroparks.net
SUMMARY:Cardio Hike
DESCRIPTION:Join us for a fast paced hike through Walnut Woods Metro Park! We will hike approx. 2 miles on paved trails. Meet at the Tall Pines Area\, 6833 Richardson Rd\, Groveport.
URL:https://www.metroparks.net/event/cardio-hike/
LOCATION:Walnut Woods\, 6723 Lithopolis Rd\, Groveport\, OH\, 43125\, United States
END:VEVENT
BEGIN:VEVENT
DTSTART;TZID=America/New_York:20241130T100000
DTEND;TZID=America/New_York:20241130T160000
DTSTAMP:20260423T015754
CREATED:20241031T123921Z
LAST-MODIFIED:20241031T123921Z
UID:10002026-1732960800-1732982400@www.metroparks.net
SUMMARY:Indoor Amusements
DESCRIPTION:Ongoing at the farmhouse between 10am-4pm.\nTry some indoor games and toys and challenge your mind with some 19th century puzzles.
URL:https://www.metroparks.net/event/indoor-amusements/2024-11-30/
LOCATION:Slate Run Living Historical Farm\, 1375 OH-674\, Canal Winchester\, OH\, 43110\, United States
END:VEVENT
BEGIN:VEVENT
DTSTART;TZID=America/New_York:20241130T110000
DTEND;TZID=America/New_York:20241130T130000
DTSTAMP:20260423T015754
CREATED:20241025T192923Z
LAST-MODIFIED:20241025T193411Z
UID:10001966-1732964400-1732971600@www.metroparks.net
SUMMARY:Gobble Hobble
DESCRIPTION:Let’s trot off some of the Thanksgiving Day calories on this 4-mile hike. Meet at the Ranger Station\, 1775 Darby Creek Drive
URL:https://www.metroparks.net/event/gobble-hobble-3/
LOCATION:Battelle Darby Creek\, 1775 Darby Creek Drive\, Galloway\, OH\, 43119\, United States
END:VEVENT
BEGIN:VEVENT
DTSTART;TZID=America/New_York:20241130T140000
DTEND;TZID=America/New_York:20241130T150000
DTSTAMP:20260423T015754
CREATED:20241028T133624Z
LAST-MODIFIED:20241028T133750Z
UID:10001977-1732975200-1732978800@www.metroparks.net
SUMMARY:Turtle Time
DESCRIPTION:Meet our animal ambassadors and learn about the turtles of Ohio.
URL:https://www.metroparks.net/event/turtle-time-2/
LOCATION:Blacklick Woods\, 6975 East Livingston Ave\, Reynoldsburg\, OH\, 43068\, United States
ATTACH;FMTTYPE=image/jpeg:https://www.metroparks.net/wp-content/uploads/2023/07/HBK_TerraTheTurtle_GabbyPower-scaled.jpg
END:VEVENT
BEGIN:VEVENT
DTSTART;TZID=America/New_York:20241130T140000
DTEND;TZID=America/New_York:20241130T150000
DTSTAMP:20260423T015754
CREATED:20241023T131204Z
LAST-MODIFIED:20241023T131204Z
UID:10001943-1732975200-1732978800@www.metroparks.net
SUMMARY:Turkey Trek
DESCRIPTION:Hike 2 miles through the park to see if we can find any turkeys left after Thanksgiving.
URL:https://www.metroparks.net/event/turkey-trek/
LOCATION:Blendon Woods\, 4265 E Dublin Granville Road\, Columbus\, 43081\, United States
ATTACH;FMTTYPE=image/jpeg:https://www.metroparks.net/wp-content/uploads/2018/07/turkey-on-fence-rail_BLN_May_D-Bissonette-scaled.jpg
END:VEVENT
END:VCALENDAR