BEGIN:VCALENDAR
VERSION:2.0
PRODID:-//Metro Parks - Central Ohio Park System - ECPv6.15.16.1//NONSGML v1.0//EN
CALSCALE:GREGORIAN
METHOD:PUBLISH
X-WR-CALNAME:Metro Parks - Central Ohio Park System
X-ORIGINAL-URL:https://www.metroparks.net
X-WR-CALDESC:Events for Metro Parks - Central Ohio Park System
REFRESH-INTERVAL;VALUE=DURATION:PT1H
X-Robots-Tag:noindex
X-PUBLISHED-TTL:PT1H
BEGIN:VTIMEZONE
TZID:America/New_York
BEGIN:DAYLIGHT
TZOFFSETFROM:-0500
TZOFFSETTO:-0400
TZNAME:EDT
DTSTART:20230312T070000
END:DAYLIGHT
BEGIN:STANDARD
TZOFFSETFROM:-0400
TZOFFSETTO:-0500
TZNAME:EST
DTSTART:20231105T060000
END:STANDARD
BEGIN:DAYLIGHT
TZOFFSETFROM:-0500
TZOFFSETTO:-0400
TZNAME:EDT
DTSTART:20240310T070000
END:DAYLIGHT
BEGIN:STANDARD
TZOFFSETFROM:-0400
TZOFFSETTO:-0500
TZNAME:EST
DTSTART:20241103T060000
END:STANDARD
BEGIN:DAYLIGHT
TZOFFSETFROM:-0500
TZOFFSETTO:-0400
TZNAME:EDT
DTSTART:20250309T070000
END:DAYLIGHT
BEGIN:STANDARD
TZOFFSETFROM:-0400
TZOFFSETTO:-0500
TZNAME:EST
DTSTART:20251102T060000
END:STANDARD
END:VTIMEZONE
BEGIN:VEVENT
DTSTART;TZID=America/New_York:20241201T170000
DTEND;TZID=America/New_York:20241201T190000
DTSTAMP:20260422T122412
CREATED:20241023T151213Z
LAST-MODIFIED:20241023T151225Z
UID:10001944-1733072400-1733079600@www.metroparks.net
SUMMARY:Winter Hike Kick-Off
DESCRIPTION:Join us for the winter hike kick-off at Highbanks Metro Park! Grab some hot chocolate and roam around Highbanks to look at the lights\, and grab your winter hike card for the season.
URL:https://www.metroparks.net/event/winter-hike-kick-off-3/
LOCATION:Highbanks\, 9466 Columbus Pike (US Rt 23 N)\, Lewis Center\, OH\, 43035\, United States
ATTACH;FMTTYPE=image/png:https://www.metroparks.net/wp-content/uploads/2024/10/18.png
END:VEVENT
BEGIN:VEVENT
DTSTART;TZID=America/New_York:20241202T100000
DTEND;TZID=America/New_York:20241202T110000
DTSTAMP:20260422T122412
CREATED:20241126T142956Z
LAST-MODIFIED:20241126T142956Z
UID:10002118-1733133600-1733137200@www.metroparks.net
SUMMARY:Toddler Hike
DESCRIPTION:Bring your toddler to Scioto Grove Metro Park for a slow-paced hike through the park! Meet at Arrowhead Picnic Area. Trail is paved and stroller friendly. \nMetro Parks Outdoor Adventure is hosting a Toys for Tots toy drive!\nDonate a new toy at any Outdoor Adventure program between December 1st and December 17th and you’ll be entered into a raffle. The winner will be awarded a private Outdoor Adventure program of their choice for themselves and up to 9 guests! Program options include: Archery\, Rock Climbing\, Kayaking or Stand-up paddle boarding (seasonal). Date will be selected upon visitor and staff availability. \nDonation Guidelines\nConsider gifting to under served age groups such as infants and teens.\nSchool supplies are accepted as well!\nNO food or edible donations. NO realistic looking toy weapons. Such items will not be distributed.
URL:https://www.metroparks.net/event/toddler-hike-10/2024-12-02/
LOCATION:Scioto Grove\, 5172 Jackson Pike\, Grove City\, OH\, 43123\, United States
END:VEVENT
BEGIN:VEVENT
DTSTART;TZID=America/New_York:20241203T173000
DTEND;TZID=America/New_York:20241203T190000
DTSTAMP:20260422T122412
CREATED:20241126T143239Z
LAST-MODIFIED:20241126T143239Z
UID:10002120-1733247000-1733252400@www.metroparks.net
SUMMARY:Try It! Archery
DESCRIPTION:Enjoy the thrill and fun of archery this winter while being toasty warm inside at the Blacklick Woods Golf Course!! Archery will be indoors at the Golf Course Pro Shop! All equipment provided\, fun and free! Ages 8+. \nMetro Parks Outdoor Adventure is hosting a Toys for Tots toy drive!\nDonate a new toy at any Outdoor Adventure program between December 1st and December 17th and you’ll be entered into a raffle. The winner will be awarded a private Outdoor Adventure program of their choice for themselves and up to 9 guests! Program options include: Archery\, Rock Climbing\, Kayaking or Stand-up paddle boarding (seasonal). Date will be selected upon visitor and staff availability. \nDonation Guidelines\nConsider gifting to under served age groups such as infants and teens.\nSchool supplies are accepted as well!\nNO food or edible donations. NO realistic looking toy weapons. Such items will not be distributed.
URL:https://www.metroparks.net/event/try-it-archery-15/2024-12-03/
LOCATION:Blacklick Woods Golf Course\, 7309 E Livingston Ave\, Reynoldsburg\, OH\, 43068\, United States
ATTACH;FMTTYPE=image/jpeg:https://www.metroparks.net/wp-content/uploads/2023/05/Golf-course-archery-and-wine-and-nine_Erin-Whitman-e1732631461941.jpg
END:VEVENT
BEGIN:VEVENT
DTSTART;TZID=America/New_York:20241204T100000
DTEND;TZID=America/New_York:20241204T110000
DTSTAMP:20260422T122412
CREATED:20241125T142452Z
LAST-MODIFIED:20241125T142452Z
UID:10002092-1733306400-1733310000@www.metroparks.net
SUMMARY:Preschool: Cozy Drinks
DESCRIPTION:Cozy up in the Innis House as we sip some cocoa and discover some of the plants used to make our favorite warm beverages.
URL:https://www.metroparks.net/event/preschool-cozy-drinks/2024-12-04/1/
LOCATION:Innis House\, 940 S Hempstead Road\, Westerville\, OH\, 43081\, United States
END:VEVENT
BEGIN:VEVENT
DTSTART;TZID=America/New_York:20241204T130000
DTEND;TZID=America/New_York:20241204T140000
DTSTAMP:20260422T122412
CREATED:20241125T142452Z
LAST-MODIFIED:20241125T142452Z
UID:10002093-1733317200-1733320800@www.metroparks.net
SUMMARY:Preschool: Cozy Drinks
DESCRIPTION:Cozy up in the Innis House as we sip some cocoa and discover some of the plants used to make our favorite warm beverages.
URL:https://www.metroparks.net/event/preschool-cozy-drinks/2024-12-04/2/
LOCATION:Innis House\, 940 S Hempstead Road\, Westerville\, OH\, 43081\, United States
END:VEVENT
BEGIN:VEVENT
DTSTART;TZID=America/New_York:20241204T180000
DTEND;TZID=America/New_York:20241204T190000
DTSTAMP:20260422T122412
CREATED:20241126T143409Z
LAST-MODIFIED:20241126T143409Z
UID:10002124-1733335200-1733338800@www.metroparks.net
SUMMARY:Leave No Trace! Talk and Walk
DESCRIPTION:In celebration of World Wildlife Conservation Day\, learn how to be the best park advocate while out playing in the parks! Whether you like to hike\, bike\, or kayak\, the Leave No Trace principles help guide us in the best practices to keep the greenspaces we love beautiful. Join us at Scioto Grove Metro Park\, Arrowhead Picnic Area to learn more about Leave No Trace\, and go for a short hike afterwards! \nMetro Parks Outdoor Adventure is hosting a Toys for Tots toy drive!\nDonate a new toy at any Outdoor Adventure program between December 1st and December 17th and you’ll be entered into a raffle. The winner will be awarded a private Outdoor Adventure program of their choice for themselves and up to 9 guests! Program options include: Archery\, Rock Climbing\, Kayaking or Stand-up paddle boarding (seasonal). Date will be selected upon visitor and staff availability. \nDonation Guidelines\nConsider gifting to under served age groups such as infants and teens.\nSchool supplies are accepted as well!\nNO food or edible donations. NO realistic looking toy weapons. Such items will not be distributed.
URL:https://www.metroparks.net/event/leave-no-trace-talk-and-walk/
LOCATION:Scioto Grove\, 5172 Jackson Pike\, Grove City\, OH\, 43123\, United States
END:VEVENT
BEGIN:VEVENT
DTSTART;TZID=America/New_York:20241204T180000
DTEND;TZID=America/New_York:20241204T200000
DTSTAMP:20260422T122412
CREATED:20241120T153714Z
LAST-MODIFIED:20241120T153714Z
UID:10002065-1733335200-1733342400@www.metroparks.net
SUMMARY:Star Gazing
DESCRIPTION:Let’s check out the night sky and make a star chart to take home. We do not promise a cloudless night\, but there will be activities regardless. Meet at the Nature Center Overflow Lot.
URL:https://www.metroparks.net/event/star-gazing/
LOCATION:Battelle Darby Creek\, 1775 Darby Creek Drive\, Galloway\, OH\, 43119\, United States
END:VEVENT
BEGIN:VEVENT
DTSTART;TZID=America/New_York:20241205T173000
DTEND;TZID=America/New_York:20241205T183000
DTSTAMP:20260422T122412
CREATED:20241126T143616Z
LAST-MODIFIED:20241126T143616Z
UID:10002126-1733419800-1733423400@www.metroparks.net
SUMMARY:Holiday Bike Ride!
DESCRIPTION:Join us for a holiday bike ride around Glacier Ridge Metro Park! Feel free to join if you have your own bike\, and register only required if you need to borrow a bike/helmet. Bikes are sized for adults only. Meet at the Glacier Ridge Maintenance Area\, park at the bridle trail lot adjacent to the Red Maintenance barn (first parking lot on the left when entering the park) . Trails will be pavement \nMetro Parks Outdoor Adventure is hosting a Toys for Tots toy drive!\nDonate a new toy at any Outdoor Adventure program between December 1st and December 17th and you’ll be entered into a raffle. The winner will be awarded a private Outdoor Adventure program of their choice for themselves and up to 9 guests! Program options include: Archery\, Rock Climbing\, Kayaking or Stand-up paddle boarding (seasonal). Date will be selected upon visitor and staff availability. \nDonation Guidelines\nConsider gifting to under served age groups such as infants and teens.\nSchool supplies are accepted as well!\nNO food or edible donations. NO realistic looking toy weapons. Such items will not be distributed.
URL:https://www.metroparks.net/event/holiday-bike-ride/
LOCATION:Glacier Ridge\, 9801 Hyland Croy\, Plain City\, OH\, 43064\, United States
END:VEVENT
BEGIN:VEVENT
DTSTART;TZID=America/New_York:20241205T180000
DTEND;TZID=America/New_York:20241205T190000
DTSTAMP:20260422T122412
CREATED:20241126T143456Z
LAST-MODIFIED:20241126T145915Z
UID:10002125-1733421600-1733425200@www.metroparks.net
SUMMARY:Pie Iron Cooking
DESCRIPTION:Pie irons? Pudgy pies? Toastie irons? Regardless of what you grew up calling them\, or are brand new to using them\, join us to make recipes and learn tips and tricks. Meet at the campfire in Arrowhead Picnic Area at Scioto Grove Metro Park. \nMetro Parks Outdoor Adventure is hosting a Toys for Tots toy drive!\nDonate a new toy at any Outdoor Adventure program between December 1st and December 17th and you’ll be entered into a raffle. The winner will be awarded a private Outdoor Adventure program of their choice for themselves and up to 9 guests! Program options include: Archery\, Rock Climbing\, Kayaking or Stand-up paddle boarding (seasonal). Date will be selected upon visitor and staff availability. \nDonation Guidelines\nConsider gifting to under served age groups such as infants and teens.\nSchool supplies are accepted as well!\nNO food or edible donations. NO realistic looking toy weapons. Such items will not be distributed.
URL:https://www.metroparks.net/event/pie-iron-cooking-3/2024-12-05/
LOCATION:Scioto Grove\, 5172 Jackson Pike\, Grove City\, OH\, 43123\, United States
END:VEVENT
BEGIN:VEVENT
DTSTART;TZID=America/New_York:20241206T093000
DTEND;TZID=America/New_York:20241206T103000
DTSTAMP:20260422T122412
CREATED:20241120T152309Z
LAST-MODIFIED:20241120T152309Z
UID:10002047-1733477400-1733481000@www.metroparks.net
SUMMARY:Preschool: Hunters & Gatherers
DESCRIPTION:Learn about how those in the past were able to put food on their table by playing various hunting and gathering games! Best for ages 3-5.
URL:https://www.metroparks.net/event/preschool-hunters-gatherers/2024-12-06/1/
LOCATION:Battelle Darby Creek\, 1775 Darby Creek Drive\, Galloway\, OH\, 43119\, United States
END:VEVENT
BEGIN:VEVENT
DTSTART;TZID=America/New_York:20241206T100000
DTEND;TZID=America/New_York:20241206T113000
DTSTAMP:20260422T122412
CREATED:20241120T153942Z
LAST-MODIFIED:20241120T153942Z
UID:10002067-1733479200-1733484600@www.metroparks.net
SUMMARY:Metro Parks Hiking Club:Friday Fitness Hike
DESCRIPTION:Hike 2 or 4 mi. on grave and natural surface trails. Moderate pace. Stairs and hills.
URL:https://www.metroparks.net/event/metro-parks-hiking-clubfriday-fitness-hike/
LOCATION:Blendon Woods\, 4265 E Dublin Granville Road\, Columbus\, 43081\, United States
ATTACH;FMTTYPE=image/jpeg:https://www.metroparks.net/wp-content/uploads/2020/11/SLR_Winter-Hike-2009_Andrea-Krava.jpg
END:VEVENT
BEGIN:VEVENT
DTSTART;TZID=America/New_York:20241206T110000
DTEND;TZID=America/New_York:20241206T120000
DTSTAMP:20260422T122412
CREATED:20241120T152309Z
LAST-MODIFIED:20241120T152309Z
UID:10002048-1733482800-1733486400@www.metroparks.net
SUMMARY:Preschool: Hunters & Gatherers
DESCRIPTION:Learn about how those in the past were able to put food on their table by playing various hunting and gathering games! Best for ages 3-5.
URL:https://www.metroparks.net/event/preschool-hunters-gatherers/2024-12-06/2/
LOCATION:Battelle Darby Creek\, 1775 Darby Creek Drive\, Galloway\, OH\, 43119\, United States
END:VEVENT
BEGIN:VEVENT
DTSTART;TZID=America/New_York:20241206T130000
DTEND;TZID=America/New_York:20241206T140000
DTSTAMP:20260422T122412
CREATED:20241125T142555Z
LAST-MODIFIED:20241125T142555Z
UID:10002094-1733490000-1733493600@www.metroparks.net
SUMMARY:Watercolor Tea Bag Art Demonstration
DESCRIPTION:Watch as artist of the month\, Nancy Simmons\, demonstrates how she uses watercolors and recycled tea bags to create unique works of art that are enhanced by the stain and texture of each tea bag.
URL:https://www.metroparks.net/event/watercolor-tea-bag-art-demonstration/2024-12-06/
LOCATION:Innis House\, 940 S Hempstead Road\, Westerville\, OH\, 43081\, United States
END:VEVENT
BEGIN:VEVENT
DTSTART;TZID=America/New_York:20241206T170000
DTEND;TZID=America/New_York:20241206T183000
DTSTAMP:20260422T122412
CREATED:20241120T150230Z
LAST-MODIFIED:20241120T150230Z
UID:10002043-1733504400-1733509800@www.metroparks.net
SUMMARY:Luminary Hikes
DESCRIPTION:Take a self-guided 1/2-mile walk through the woods and fields as luminaries light your way. Enjoy a cup of hot chocolate and have your winter hike card stamped. \nFind more information about Winter Hikes here.
URL:https://www.metroparks.net/event/luminary-hikes-2/2024-12-06/
LOCATION:Chestnut Ridge\, 8445 Winchester Rd NW\, Carroll\, OH\, 43112\, United States
ATTACH;FMTTYPE=image/png:https://www.metroparks.net/wp-content/uploads/2024/11/19.png
END:VEVENT
BEGIN:VEVENT
DTSTART;TZID=America/New_York:20241206T173000
DTEND;TZID=America/New_York:20241206T183000
DTSTAMP:20260422T122412
CREATED:20241126T143728Z
LAST-MODIFIED:20241126T143728Z
UID:10002127-1733506200-1733509800@www.metroparks.net
SUMMARY:Lantern Hike
DESCRIPTION:Join us for an after dark adventure on this two mile lantern hike! Some lanterns will be available to borrow. Meet at the Tall Pines area! 6833 Richardson Rd\, Groveport\, OH 43125 \nMetro Parks Outdoor Adventure is hosting a Toys for Tots toy drive!\nDonate a new toy at any Outdoor Adventure program between December 1st and December 17th and you’ll be entered into a raffle. The winner will be awarded a private Outdoor Adventure program of their choice for themselves and up to 9 guests! Program options include: Archery\, Rock Climbing\, Kayaking or Stand-up paddle boarding (seasonal). Date will be selected upon visitor and staff availability. \nDonation Guidelines\nConsider gifting to under served age groups such as infants and teens.\nSchool supplies are accepted as well!\nNO food or edible donations. NO realistic looking toy weapons. Such items will not be distributed.
URL:https://www.metroparks.net/event/lantern-hike-10/
LOCATION:Walnut Woods\, 6723 Lithopolis Rd\, Groveport\, OH\, 43125\, United States
END:VEVENT
BEGIN:VEVENT
DTSTART;TZID=America/New_York:20241206T173000
DTEND;TZID=America/New_York:20241206T193000
DTSTAMP:20260422T122412
CREATED:20241120T153031Z
LAST-MODIFIED:20241126T150032Z
UID:10002053-1733506200-1733513400@www.metroparks.net
SUMMARY:Winter Hike - Campfire & Hot Cocoa
DESCRIPTION:Take a half-mile hike along the Buttonbush Trail under the twinkling lights and stop by the Nature Center to enjoy a cup of cocoa around the campfire. The Canopy Walk and Nature Center will be open late to explore
URL:https://www.metroparks.net/event/winter-hike-campfire-hot-cocoa-2/2024-12-06/
LOCATION:Blacklick Woods\, 6975 East Livingston Ave\, Reynoldsburg\, OH\, 43068\, United States
ATTACH;FMTTYPE=image/jpeg:https://www.metroparks.net/wp-content/uploads/2024/11/BLK_HolidayLights_RobertTaylor-e1732116545832.jpg
END:VEVENT
BEGIN:VEVENT
DTSTART;TZID=America/New_York:20241206T180000
DTEND;TZID=America/New_York:20241206T190000
DTSTAMP:20260422T122412
CREATED:20241120T153832Z
LAST-MODIFIED:20241120T153832Z
UID:10002066-1733508000-1733511600@www.metroparks.net
SUMMARY:Night Hike
DESCRIPTION:Let’s take a 1.5-mile hike through the wetlands\, and see what nocturnal critters we can find. Meet at the Wet Prairie\, 1378 Darby Creek Dr.
URL:https://www.metroparks.net/event/night-hike-14/
LOCATION:Battelle Darby Creek\, 1775 Darby Creek Drive\, Galloway\, OH\, 43119\, United States
END:VEVENT
END:VCALENDAR