BEGIN:VCALENDAR
VERSION:2.0
PRODID:-//Metro Parks - Central Ohio Park System - ECPv6.15.16.1//NONSGML v1.0//EN
CALSCALE:GREGORIAN
METHOD:PUBLISH
X-WR-CALNAME:Metro Parks - Central Ohio Park System
X-ORIGINAL-URL:https://www.metroparks.net
X-WR-CALDESC:Events for Metro Parks - Central Ohio Park System
REFRESH-INTERVAL;VALUE=DURATION:PT1H
X-Robots-Tag:noindex
X-PUBLISHED-TTL:PT1H
BEGIN:VTIMEZONE
TZID:America/New_York
BEGIN:DAYLIGHT
TZOFFSETFROM:-0500
TZOFFSETTO:-0400
TZNAME:EDT
DTSTART:20230312T070000
END:DAYLIGHT
BEGIN:STANDARD
TZOFFSETFROM:-0400
TZOFFSETTO:-0500
TZNAME:EST
DTSTART:20231105T060000
END:STANDARD
BEGIN:DAYLIGHT
TZOFFSETFROM:-0500
TZOFFSETTO:-0400
TZNAME:EDT
DTSTART:20240310T070000
END:DAYLIGHT
BEGIN:STANDARD
TZOFFSETFROM:-0400
TZOFFSETTO:-0500
TZNAME:EST
DTSTART:20241103T060000
END:STANDARD
BEGIN:DAYLIGHT
TZOFFSETFROM:-0500
TZOFFSETTO:-0400
TZNAME:EDT
DTSTART:20250309T070000
END:DAYLIGHT
BEGIN:STANDARD
TZOFFSETFROM:-0400
TZOFFSETTO:-0500
TZNAME:EST
DTSTART:20251102T060000
END:STANDARD
END:VTIMEZONE
BEGIN:VEVENT
DTSTART;TZID=America/New_York:20241211T133000
DTEND;TZID=America/New_York:20241211T150000
DTSTAMP:20260424T163650
CREATED:20241120T153453Z
LAST-MODIFIED:20241120T153453Z
UID:10002062-1733923800-1733929200@www.metroparks.net
SUMMARY:For Adults 50+: Walk To The Eagle Nest
DESCRIPTION:Take a 2-mile round trip mostly off-trail hike to learn about bald eagles and observe the nest from below. Sometimes we see eagles and sometimes we don’t! Dress for off-trail walking. No Pets\, please. Meets at Three Creeks Metro Park Confluence Area bulletin board\, 3860 Bixby Rd\, Groveport
URL:https://www.metroparks.net/event/for-adults-50-walk-to-the-eagle-nest/
LOCATION:Three Creeks\, 3860 Bixby Road\, Groveport\, OH\, 43125\, United States
ATTACH;FMTTYPE=image/jpeg:https://www.metroparks.net/wp-content/uploads/2018/12/22x9_eagles_DanFerrin.jpg
END:VEVENT
BEGIN:VEVENT
DTSTART;TZID=America/New_York:20241211T140000
DTEND;TZID=America/New_York:20241211T150000
DTSTAMP:20260424T163650
CREATED:20241120T153331Z
LAST-MODIFIED:20241120T153331Z
UID:10002061-1733925600-1733929200@www.metroparks.net
SUMMARY:Bizarre Beavers
DESCRIPTION:Take a 0.5 mile hike to learn about beavers and what they do in the winter time! Meet at the Indian Ridge Bulletin Board\, 2705 Darby Creek Dr.
URL:https://www.metroparks.net/event/bizarre-beavers/
LOCATION:Battelle Darby Creek\, 1775 Darby Creek Drive\, Galloway\, OH\, 43119\, United States
ATTACH;FMTTYPE=image/jpeg:https://www.metroparks.net/wp-content/uploads/2017/01/1080p_beaver_in-snow-by-tree-at-BDC_KG.jpg
END:VEVENT
BEGIN:VEVENT
DTSTART;TZID=America/New_York:20241211T180000
DTEND;TZID=America/New_York:20241211T190000
DTSTAMP:20260424T163650
CREATED:20241126T144504Z
LAST-MODIFIED:20241126T144504Z
UID:10002130-1733940000-1733943600@www.metroparks.net
SUMMARY:Holiday Glow Bocce
DESCRIPTION:Enjoy night time Holiday Bocce at Scioto Audubon Metro Park! Glow bocce balls will be provided on a first come first serve basis. Meet at the bocce courts next to the restrooms. \nMetro Parks Outdoor Adventure is hosting a Toys for Tots toy drive!\nDonate a new toy at any Outdoor Adventure program between December 1st and December 17th and you’ll be entered into a raffle. The winner will be awarded a private Outdoor Adventure program of their choice for themselves and up to 9 guests! Program options include: Archery\, Rock Climbing\, Kayaking or Stand-up paddle boarding (seasonal). Date will be selected upon visitor and staff availability. \nDonation Guidelines\nConsider gifting to under served age groups such as infants and teens.\nSchool supplies are accepted as well!\nNO food or edible donations. NO realistic looking toy weapons. Such items will not be distributed.
URL:https://www.metroparks.net/event/holiday-glow-bocce/
LOCATION:Scioto Audubon\, 400 West Whittier St.\, Columbus\, OH\, 43215\, United States
END:VEVENT
BEGIN:VEVENT
DTSTART;TZID=America/New_York:20241212T110000
DTEND;TZID=America/New_York:20241212T120000
DTSTAMP:20260424T163650
CREATED:20241125T143344Z
LAST-MODIFIED:20241125T143344Z
UID:10002103-1734001200-1734004800@www.metroparks.net
SUMMARY:Musical Storytime with ProMusica Chamber Orchestra
DESCRIPTION:Bring your youngest music lovers to the Highbanks Nature Center to experience a Musical Storytime with ProMusica. This 30-minute nature-themed storytime program will pair stories and music and is tailored to preschoolers\, but the whole family is welcome! Stay afterwards to take a short nature walk with a Highbanks naturalist. \nMeeting Location Notes: Highbanks Nature Center is the first right after entering the park. There is limited parking in the Nature Center lot on busy days. Additional parking is available in the Oak Coves Picnic Area\, a 10 minute walk from the Nature Center. Follow the paved trail through Oak Coves toward the Nature Center.
URL:https://www.metroparks.net/event/musical-storytime-with-promusica-chamber-orchestra/
LOCATION:Highbanks\, 9466 Columbus Pike (US Rt 23 N)\, Lewis Center\, OH\, 43035\, United States
END:VEVENT
BEGIN:VEVENT
DTSTART;TZID=America/New_York:20241212T180000
DTEND;TZID=America/New_York:20241212T190000
DTSTAMP:20260424T163650
CREATED:20241126T144828Z
LAST-MODIFIED:20241126T144828Z
UID:10002131-1734026400-1734030000@www.metroparks.net
SUMMARY:Science of Fire Building
DESCRIPTION:Join us for an interactive classroom style program centered around the Science of Fire Building! Please wear comfortable clothing and avoid wearing hair down/loose fitting clothes. Meet at the arrowhead picnic area at Scioto Grove Metro Park. \nMetro Parks Outdoor Adventure is hosting a Toys for Tots toy drive!\nDonate a new toy at any Outdoor Adventure program between December 1st and December 17th and you’ll be entered into a raffle. The winner will be awarded a private Outdoor Adventure program of their choice for themselves and up to 9 guests! Program options include: Archery\, Rock Climbing\, Kayaking or Stand-up paddle boarding (seasonal). Date will be selected upon visitor and staff availability. \nDonation Guidelines\nConsider gifting to under served age groups such as infants and teens.\nSchool supplies are accepted as well!\nNO food or edible donations. NO realistic looking toy weapons. Such items will not be distributed.
URL:https://www.metroparks.net/event/science-of-fire-building/
LOCATION:Scioto Grove\, 5172 Jackson Pike\, Grove City\, OH\, 43123\, United States
END:VEVENT
END:VCALENDAR