BEGIN:VCALENDAR
VERSION:2.0
PRODID:-//Metro Parks - Central Ohio Park System - ECPv6.15.16.1//NONSGML v1.0//EN
CALSCALE:GREGORIAN
METHOD:PUBLISH
X-WR-CALNAME:Metro Parks - Central Ohio Park System
X-ORIGINAL-URL:https://www.metroparks.net
X-WR-CALDESC:Events for Metro Parks - Central Ohio Park System
REFRESH-INTERVAL;VALUE=DURATION:PT1H
X-Robots-Tag:noindex
X-PUBLISHED-TTL:PT1H
BEGIN:VTIMEZONE
TZID:America/New_York
BEGIN:DAYLIGHT
TZOFFSETFROM:-0500
TZOFFSETTO:-0400
TZNAME:EDT
DTSTART:20230312T070000
END:DAYLIGHT
BEGIN:STANDARD
TZOFFSETFROM:-0400
TZOFFSETTO:-0500
TZNAME:EST
DTSTART:20231105T060000
END:STANDARD
BEGIN:DAYLIGHT
TZOFFSETFROM:-0500
TZOFFSETTO:-0400
TZNAME:EDT
DTSTART:20240310T070000
END:DAYLIGHT
BEGIN:STANDARD
TZOFFSETFROM:-0400
TZOFFSETTO:-0500
TZNAME:EST
DTSTART:20241103T060000
END:STANDARD
BEGIN:DAYLIGHT
TZOFFSETFROM:-0500
TZOFFSETTO:-0400
TZNAME:EDT
DTSTART:20250309T070000
END:DAYLIGHT
BEGIN:STANDARD
TZOFFSETFROM:-0400
TZOFFSETTO:-0500
TZNAME:EST
DTSTART:20251102T060000
END:STANDARD
END:VTIMEZONE
BEGIN:VEVENT
DTSTART;TZID=America/New_York:20241214T130000
DTEND;TZID=America/New_York:20241214T140000
DTSTAMP:20260424T062923
CREATED:20241126T145540Z
LAST-MODIFIED:20241126T145540Z
UID:10002134-1734181200-1734184800@www.metroparks.net
SUMMARY:Adventure 101: Creative Backpacking Meals
DESCRIPTION:Our “Adventure 101” educational series includes everything from guest speakers to interactive outdoor skill lessons! Participants are encouraged to take notes and ask questions\nFrom snacks\, to main courses\, learn how to put a creative spin on your backpacking food for your next trip! All equipment and instruction provided\, meet at the Arrowhead Picnic area at Scioto Grove Metro Park. \nMetro Parks Outdoor Adventure is hosting a Toys for Tots toy drive!\nDonate a new toy at any Outdoor Adventure program between December 1st and December 17th and you’ll be entered into a raffle. The winner will be awarded a private Outdoor Adventure program of their choice for themselves and up to 9 guests! Program options include: Archery\, Rock Climbing\, Kayaking or Stand-up paddle boarding (seasonal). Date will be selected upon visitor and staff availability. \nDonation Guidelines\nConsider gifting to under served age groups such as infants and teens.\nSchool supplies are accepted as well!\nNO food or edible donations. NO realistic looking toy weapons. Such items will not be distributed.
URL:https://www.metroparks.net/event/adventure-101-creative-backpacking-meals/
LOCATION:Scioto Grove\, 5172 Jackson Pike\, Grove City\, OH\, 43123\, United States
END:VEVENT
BEGIN:VEVENT
DTSTART;TZID=America/New_York:20241214T130000
DTEND;TZID=America/New_York:20241214T160000
DTSTAMP:20260424T062923
CREATED:20241120T154201Z
LAST-MODIFIED:20241120T154201Z
UID:10002070-1734181200-1734192000@www.metroparks.net
SUMMARY:Animals in Winter
DESCRIPTION:Take a 1.25-mile hike and find out who’s around and who’s hiding away during the winter months. Discover the cool adaptations that help these animals survive winter.
URL:https://www.metroparks.net/event/animals-in-winter/
LOCATION:Blacklick Woods\, 6975 East Livingston Ave\, Reynoldsburg\, OH\, 43068\, United States
END:VEVENT
BEGIN:VEVENT
DTSTART;TZID=America/New_York:20241214T170000
DTEND;TZID=America/New_York:20241214T180000
DTSTAMP:20260424T062923
CREATED:20241120T154427Z
LAST-MODIFIED:20241120T154427Z
UID:10002071-1734195600-1734199200@www.metroparks.net
SUMMARY:Full Moon Dog Hike
DESCRIPTION:Walk with your furry friend on this 1.5-mile hike through the moonlit forest. Meet at Millstone picnic area.
URL:https://www.metroparks.net/event/full-moon-dog-hike/
LOCATION:Rocky Fork\, 7180 East Walnut St.\, Westerville\, OH\, 43081\, United States
END:VEVENT
BEGIN:VEVENT
DTSTART;TZID=America/New_York:20241214T170000
DTEND;TZID=America/New_York:20241214T180000
DTSTAMP:20260424T062923
CREATED:20241120T154128Z
LAST-MODIFIED:20241120T154128Z
UID:10002069-1734195600-1734199200@www.metroparks.net
SUMMARY:Sunset Through the Prairie
DESCRIPTION:Let’s take a 1.5 walk on the greenway trail to view to sunset and anything else we see on the way.
URL:https://www.metroparks.net/event/sunset-through-the-prairie/
LOCATION:Battelle Darby Creek\, 1775 Darby Creek Drive\, Galloway\, OH\, 43119\, United States
ATTACH;FMTTYPE=image/jpeg:https://www.metroparks.net/wp-content/uploads/2019/03/BDC_Pleasant-Valley-sunset_April_Kerry-McGuire.jpg
END:VEVENT
BEGIN:VEVENT
DTSTART;TZID=America/New_York:20241214T173000
DTEND;TZID=America/New_York:20241214T193000
DTSTAMP:20260424T062923
CREATED:20241126T145813Z
LAST-MODIFIED:20241126T150006Z
UID:10002136-1734197400-1734204600@www.metroparks.net
SUMMARY:Bright Light Nights
DESCRIPTION:The holiday lights are adorning Homestead all this month! Celebrate the seasonal festivities as we make a craft under the twinkling lights and enjoy hot chocolate.\nThis program is geared for all ages. Meet at the barn shelter\, rain or shine!
URL:https://www.metroparks.net/event/bright-light-nights/2024-12-14/
LOCATION:Homestead\, 4675 Cosgray Road\, Hilliard\, OH\, 43026\, United States
ATTACH;FMTTYPE=image/jpeg:https://www.metroparks.net/wp-content/uploads/2022/11/Twinkling-lights-at-INN-and-HOM-knowles-and-boniface.jpg
END:VEVENT
END:VCALENDAR