BEGIN:VCALENDAR
VERSION:2.0
PRODID:-//Metro Parks - Central Ohio Park System - ECPv6.15.16.1//NONSGML v1.0//EN
CALSCALE:GREGORIAN
METHOD:PUBLISH
X-WR-CALNAME:Metro Parks - Central Ohio Park System
X-ORIGINAL-URL:https://www.metroparks.net
X-WR-CALDESC:Events for Metro Parks - Central Ohio Park System
REFRESH-INTERVAL;VALUE=DURATION:PT1H
X-Robots-Tag:noindex
X-PUBLISHED-TTL:PT1H
BEGIN:VTIMEZONE
TZID:America/New_York
BEGIN:DAYLIGHT
TZOFFSETFROM:-0500
TZOFFSETTO:-0400
TZNAME:EDT
DTSTART:20230312T070000
END:DAYLIGHT
BEGIN:STANDARD
TZOFFSETFROM:-0400
TZOFFSETTO:-0500
TZNAME:EST
DTSTART:20231105T060000
END:STANDARD
BEGIN:DAYLIGHT
TZOFFSETFROM:-0500
TZOFFSETTO:-0400
TZNAME:EDT
DTSTART:20240310T070000
END:DAYLIGHT
BEGIN:STANDARD
TZOFFSETFROM:-0400
TZOFFSETTO:-0500
TZNAME:EST
DTSTART:20241103T060000
END:STANDARD
BEGIN:DAYLIGHT
TZOFFSETFROM:-0500
TZOFFSETTO:-0400
TZNAME:EDT
DTSTART:20250309T070000
END:DAYLIGHT
BEGIN:STANDARD
TZOFFSETFROM:-0400
TZOFFSETTO:-0500
TZNAME:EST
DTSTART:20251102T060000
END:STANDARD
END:VTIMEZONE
BEGIN:VEVENT
DTSTART;TZID=America/New_York:20241215T173000
DTEND;TZID=America/New_York:20241215T193000
DTSTAMP:20260423T071122
CREATED:20241126T145813Z
LAST-MODIFIED:20241126T150006Z
UID:10002137-1734283800-1734291000@www.metroparks.net
SUMMARY:Bright Light Nights
DESCRIPTION:The holiday lights are adorning Homestead all this month! Celebrate the seasonal festivities as we make a craft under the twinkling lights and enjoy hot chocolate.\nThis program is geared for all ages. Meet at the barn shelter\, rain or shine!
URL:https://www.metroparks.net/event/bright-light-nights/2024-12-15/
LOCATION:Homestead\, 4675 Cosgray Road\, Hilliard\, OH\, 43026\, United States
ATTACH;FMTTYPE=image/jpeg:https://www.metroparks.net/wp-content/uploads/2022/11/Twinkling-lights-at-INN-and-HOM-knowles-and-boniface.jpg
END:VEVENT
BEGIN:VEVENT
DTSTART;TZID=America/New_York:20241216T110000
DTEND;TZID=America/New_York:20241216T120000
DTSTAMP:20260423T071122
CREATED:20241126T142956Z
LAST-MODIFIED:20241126T142956Z
UID:10002119-1734346800-1734350400@www.metroparks.net
SUMMARY:Toddler Hike
DESCRIPTION:Bring your toddler to Scioto Grove Metro Park for a slow-paced hike through the park! Meet at Arrowhead Picnic Area. Trail is paved and stroller friendly. \nMetro Parks Outdoor Adventure is hosting a Toys for Tots toy drive!\nDonate a new toy at any Outdoor Adventure program between December 1st and December 17th and you’ll be entered into a raffle. The winner will be awarded a private Outdoor Adventure program of their choice for themselves and up to 9 guests! Program options include: Archery\, Rock Climbing\, Kayaking or Stand-up paddle boarding (seasonal). Date will be selected upon visitor and staff availability. \nDonation Guidelines\nConsider gifting to under served age groups such as infants and teens.\nSchool supplies are accepted as well!\nNO food or edible donations. NO realistic looking toy weapons. Such items will not be distributed.
URL:https://www.metroparks.net/event/toddler-hike-10/2024-12-16/
LOCATION:Scioto Grove\, 5172 Jackson Pike\, Grove City\, OH\, 43123\, United States
END:VEVENT
BEGIN:VEVENT
DTSTART;TZID=America/New_York:20241217T100000
DTEND;TZID=America/New_York:20241217T110000
DTSTAMP:20260423T071122
CREATED:20241120T154752Z
LAST-MODIFIED:20241120T154752Z
UID:10002077-1734429600-1734433200@www.metroparks.net
SUMMARY:Preschool: Bird Count
DESCRIPTION:Learn about one of our oldest citizen science projects with the story “Bird Count”\, then make your own binoculars to take outside to count birds like a scientist!
URL:https://www.metroparks.net/event/preschool-bird-count/
LOCATION:Blendon Woods\, 4265 E Dublin Granville Road\, Columbus\, 43081\, United States
END:VEVENT
BEGIN:VEVENT
DTSTART;TZID=America/New_York:20241217T100000
DTEND;TZID=America/New_York:20241217T110000
DTSTAMP:20260423T071122
CREATED:20241120T154706Z
LAST-MODIFIED:20241120T154706Z
UID:10002075-1734429600-1734433200@www.metroparks.net
SUMMARY:Homeschoolers: Insects in Winter
DESCRIPTION:Learn how insects survive in winter\, then dig through leaf litter\, turn over logs and shake tree branches to find some.
URL:https://www.metroparks.net/event/homeschoolers-insects-in-winter/2024-12-17/1/
LOCATION:Blacklick Woods\, 6975 East Livingston Ave\, Reynoldsburg\, OH\, 43068\, United States
END:VEVENT
BEGIN:VEVENT
DTSTART;TZID=America/New_York:20241217T110000
DTEND;TZID=America/New_York:20241217T120000
DTSTAMP:20260423T071122
CREATED:20241120T154631Z
LAST-MODIFIED:20241120T154631Z
UID:10002074-1734433200-1734436800@www.metroparks.net
SUMMARY:Extinct & Extirpated
DESCRIPTION:Mountain lions\, porcupines\, Scioto madtoms… learn about some of the animals that no longer live in Ohio.
URL:https://www.metroparks.net/event/extinct-extirpated/
LOCATION:Battelle Darby Creek\, 1775 Darby Creek Drive\, Galloway\, OH\, 43119\, United States
END:VEVENT
BEGIN:VEVENT
DTSTART;TZID=America/New_York:20241217T130000
DTEND;TZID=America/New_York:20241217T140000
DTSTAMP:20260423T071122
CREATED:20241120T154706Z
LAST-MODIFIED:20241120T154706Z
UID:10002076-1734440400-1734444000@www.metroparks.net
SUMMARY:Homeschoolers: Insects in Winter
DESCRIPTION:Learn how insects survive in winter\, then dig through leaf litter\, turn over logs and shake tree branches to find some.
URL:https://www.metroparks.net/event/homeschoolers-insects-in-winter/2024-12-17/2/
LOCATION:Blacklick Woods\, 6975 East Livingston Ave\, Reynoldsburg\, OH\, 43068\, United States
END:VEVENT
BEGIN:VEVENT
DTSTART;TZID=America/New_York:20241217T173000
DTEND;TZID=America/New_York:20241217T190000
DTSTAMP:20260423T071122
CREATED:20241126T143239Z
LAST-MODIFIED:20241126T143239Z
UID:10002122-1734456600-1734462000@www.metroparks.net
SUMMARY:Try It! Archery
DESCRIPTION:Enjoy the thrill and fun of archery this winter while being toasty warm inside at the Blacklick Woods Golf Course!! Archery will be indoors at the Golf Course Pro Shop! All equipment provided\, fun and free! Ages 8+. \nMetro Parks Outdoor Adventure is hosting a Toys for Tots toy drive!\nDonate a new toy at any Outdoor Adventure program between December 1st and December 17th and you’ll be entered into a raffle. The winner will be awarded a private Outdoor Adventure program of their choice for themselves and up to 9 guests! Program options include: Archery\, Rock Climbing\, Kayaking or Stand-up paddle boarding (seasonal). Date will be selected upon visitor and staff availability. \nDonation Guidelines\nConsider gifting to under served age groups such as infants and teens.\nSchool supplies are accepted as well!\nNO food or edible donations. NO realistic looking toy weapons. Such items will not be distributed.
URL:https://www.metroparks.net/event/try-it-archery-15/2024-12-17/
LOCATION:Blacklick Woods Golf Course\, 7309 E Livingston Ave\, Reynoldsburg\, OH\, 43068\, United States
ATTACH;FMTTYPE=image/jpeg:https://www.metroparks.net/wp-content/uploads/2023/05/Golf-course-archery-and-wine-and-nine_Erin-Whitman-e1732631461941.jpg
END:VEVENT
BEGIN:VEVENT
DTSTART;TZID=America/New_York:20241218T130000
DTEND;TZID=America/New_York:20241218T140000
DTSTAMP:20260423T071122
CREATED:20241120T154846Z
LAST-MODIFIED:20241120T154846Z
UID:10002078-1734526800-1734530400@www.metroparks.net
SUMMARY:For Adults: Micro Wonders
DESCRIPTION:Take a closer look at the smaller details of nature with the help of a microscope. Explore insects\, fungi\, feathers and more from a whole new perspective.
URL:https://www.metroparks.net/event/for-adults-micro-wonders/
LOCATION:Blacklick Woods\, 6975 East Livingston Ave\, Reynoldsburg\, OH\, 43068\, United States
END:VEVENT
BEGIN:VEVENT
DTSTART;TZID=America/New_York:20241218T130000
DTEND;TZID=America/New_York:20241218T143000
DTSTAMP:20260423T071122
CREATED:20241120T154945Z
LAST-MODIFIED:20241120T154945Z
UID:10002079-1734526800-1734532200@www.metroparks.net
SUMMARY:Metro Parks Hiking Club: Wednesday Fitness Club
DESCRIPTION:Hike 2 or 4 mi. on grave and natural surface trails. Moderate pace. Stairs and hills.
URL:https://www.metroparks.net/event/metro-parks-hiking-club-wednesday-fitness-club/
LOCATION:Blendon Woods\, 4265 E Dublin Granville Road\, Columbus\, 43081\, United States
END:VEVENT
BEGIN:VEVENT
DTSTART;TZID=America/New_York:20241218T133000
DTEND;TZID=America/New_York:20241218T143000
DTSTAMP:20260423T071122
CREATED:20241125T144054Z
LAST-MODIFIED:20241125T144054Z
UID:10002109-1734528600-1734532200@www.metroparks.net
SUMMARY:Homeschoolers on the Farm: A Victorian Christmas
DESCRIPTION:Program begins a 1:30 pm.\nMeet in front of the farmhouse.\nFor homeschooling families with children of all ages.\nMany of our Christmas traditions come from the Victorian Era.\nStop by the farmhouse to enjoy the holiday decorations\, learn about Victorian Christmas traditions\, and enjoy some historic activities.
URL:https://www.metroparks.net/event/homeschoolers-on-the-farm-a-victorian-christmas/
LOCATION:Slate Run Living Historical Farm\, 1375 OH-674\, Canal Winchester\, OH\, 43110\, United States
END:VEVENT
BEGIN:VEVENT
DTSTART;TZID=America/New_York:20241219T130000
DTEND;TZID=America/New_York:20241219T150000
DTSTAMP:20260423T071122
CREATED:20241127T142625Z
LAST-MODIFIED:20241127T142625Z
UID:10002152-1734613200-1734620400@www.metroparks.net
SUMMARY:Homeschool: Winter Watercolor
DESCRIPTION:Homeschoolers can learn the basics of watercolor and paint a winter landscape. Paints will be used\, so please dress accordingly. Meets at Spring Hollow Lodge (1069 W. Main St. Westerville\, OH 43081)
URL:https://www.metroparks.net/event/homeschool-winter-watercolor/
LOCATION:Spring Hollow at Sharon Woods\, 1069 W Main St\, Westerville\, OH\, 43081\, United States
END:VEVENT
END:VCALENDAR