BEGIN:VCALENDAR
VERSION:2.0
PRODID:-//Metro Parks - Central Ohio Park System - ECPv6.15.16.1//NONSGML v1.0//EN
CALSCALE:GREGORIAN
METHOD:PUBLISH
X-WR-CALNAME:Metro Parks - Central Ohio Park System
X-ORIGINAL-URL:https://www.metroparks.net
X-WR-CALDESC:Events for Metro Parks - Central Ohio Park System
REFRESH-INTERVAL;VALUE=DURATION:PT1H
X-Robots-Tag:noindex
X-PUBLISHED-TTL:PT1H
BEGIN:VTIMEZONE
TZID:America/New_York
BEGIN:DAYLIGHT
TZOFFSETFROM:-0500
TZOFFSETTO:-0400
TZNAME:EDT
DTSTART:20230312T070000
END:DAYLIGHT
BEGIN:STANDARD
TZOFFSETFROM:-0400
TZOFFSETTO:-0500
TZNAME:EST
DTSTART:20231105T060000
END:STANDARD
BEGIN:DAYLIGHT
TZOFFSETFROM:-0500
TZOFFSETTO:-0400
TZNAME:EDT
DTSTART:20240310T070000
END:DAYLIGHT
BEGIN:STANDARD
TZOFFSETFROM:-0400
TZOFFSETTO:-0500
TZNAME:EST
DTSTART:20241103T060000
END:STANDARD
BEGIN:DAYLIGHT
TZOFFSETFROM:-0500
TZOFFSETTO:-0400
TZNAME:EDT
DTSTART:20250309T070000
END:DAYLIGHT
BEGIN:STANDARD
TZOFFSETFROM:-0400
TZOFFSETTO:-0500
TZNAME:EST
DTSTART:20251102T060000
END:STANDARD
END:VTIMEZONE
BEGIN:VEVENT
DTSTART;TZID=America/New_York:20241220T130000
DTEND;TZID=America/New_York:20241220T140000
DTSTAMP:20260424T040200
CREATED:20241125T142555Z
LAST-MODIFIED:20241125T142555Z
UID:10002095-1734699600-1734703200@www.metroparks.net
SUMMARY:Watercolor Tea Bag Art Demonstration
DESCRIPTION:Watch as artist of the month\, Nancy Simmons\, demonstrates how she uses watercolors and recycled tea bags to create unique works of art that are enhanced by the stain and texture of each tea bag.
URL:https://www.metroparks.net/event/watercolor-tea-bag-art-demonstration/2024-12-20/
LOCATION:Innis House\, 940 S Hempstead Road\, Westerville\, OH\, 43081\, United States
END:VEVENT
BEGIN:VEVENT
DTSTART;TZID=America/New_York:20241220T150000
DTEND;TZID=America/New_York:20241220T170000
DTSTAMP:20260424T040200
CREATED:20241126T150121Z
LAST-MODIFIED:20241126T150121Z
UID:10002139-1734706800-1734714000@www.metroparks.net
SUMMARY:Gifts for Wildlife
DESCRIPTION:Happy Holidays for all! Help celebrate this festive season with native wildlife as we create some gifts for our furry and feathered friends!\nThis program is geared for all ages. Meet at the shelter house\, rain or shine!
URL:https://www.metroparks.net/event/gifts-for-wildlife/
LOCATION:Glacier Ridge\, 9801 Hyland Croy\, Plain City\, OH\, 43064\, United States
END:VEVENT
BEGIN:VEVENT
DTSTART;TZID=America/New_York:20241220T153000
DTEND;TZID=America/New_York:20241220T170000
DTSTAMP:20260424T040200
CREATED:20241125T144240Z
LAST-MODIFIED:20241125T144240Z
UID:10002111-1734708600-1734714000@www.metroparks.net
SUMMARY:For Adults 50+: The Gardens in Winter
DESCRIPTION:Meander along the nature trails on a 1.5-mile walk. The trails are considered easy. Stay after the program to enjoy the winter lights. \nMeet at the Gardens Entrance
URL:https://www.metroparks.net/event/for-adults-50-the-gardens-in-winter-2/
LOCATION:Inniswood Metro Gardens\, 940 S. Hempstead Rd.\, Westerville\, OH\, 43081\, United States
END:VEVENT
BEGIN:VEVENT
DTSTART;TZID=America/New_York:20241220T170000
DTEND;TZID=America/New_York:20241220T180000
DTSTAMP:20260424T040200
CREATED:20241120T152512Z
LAST-MODIFIED:20241120T152512Z
UID:10002050-1734714000-1734717600@www.metroparks.net
SUMMARY:Cocoa & Cryptids
DESCRIPTION:Walk under the twinkling lights and enjoy a complimentary cup of hot chocolate. Use your cellphone to get a picture or two with Bigfoot and the Grinch!
URL:https://www.metroparks.net/event/cocoa-cryptids/2024-12-20/
LOCATION:Battelle Darby Creek\, 1775 Darby Creek Drive\, Galloway\, OH\, 43119\, United States
END:VEVENT
BEGIN:VEVENT
DTSTART;TZID=America/New_York:20241220T173000
DTEND;TZID=America/New_York:20241220T193000
DTSTAMP:20260424T040200
CREATED:20241120T153031Z
LAST-MODIFIED:20241126T150032Z
UID:10002055-1734715800-1734723000@www.metroparks.net
SUMMARY:Winter Hike - Campfire & Hot Cocoa
DESCRIPTION:Take a half-mile hike along the Buttonbush Trail under the twinkling lights and stop by the Nature Center to enjoy a cup of cocoa around the campfire. The Canopy Walk and Nature Center will be open late to explore
URL:https://www.metroparks.net/event/winter-hike-campfire-hot-cocoa-2/2024-12-20/
LOCATION:Blacklick Woods\, 6975 East Livingston Ave\, Reynoldsburg\, OH\, 43068\, United States
ATTACH;FMTTYPE=image/jpeg:https://www.metroparks.net/wp-content/uploads/2024/11/BLK_HolidayLights_RobertTaylor-e1732116545832.jpg
END:VEVENT
END:VCALENDAR