BEGIN:VCALENDAR
VERSION:2.0
PRODID:-//Metro Parks - Central Ohio Park System - ECPv6.15.16.1//NONSGML v1.0//EN
CALSCALE:GREGORIAN
METHOD:PUBLISH
X-WR-CALNAME:Metro Parks - Central Ohio Park System
X-ORIGINAL-URL:https://www.metroparks.net
X-WR-CALDESC:Events for Metro Parks - Central Ohio Park System
REFRESH-INTERVAL;VALUE=DURATION:PT1H
X-Robots-Tag:noindex
X-PUBLISHED-TTL:PT1H
BEGIN:VTIMEZONE
TZID:America/New_York
BEGIN:DAYLIGHT
TZOFFSETFROM:-0500
TZOFFSETTO:-0400
TZNAME:EDT
DTSTART:20230312T070000
END:DAYLIGHT
BEGIN:STANDARD
TZOFFSETFROM:-0400
TZOFFSETTO:-0500
TZNAME:EST
DTSTART:20231105T060000
END:STANDARD
BEGIN:DAYLIGHT
TZOFFSETFROM:-0500
TZOFFSETTO:-0400
TZNAME:EDT
DTSTART:20240310T070000
END:DAYLIGHT
BEGIN:STANDARD
TZOFFSETFROM:-0400
TZOFFSETTO:-0500
TZNAME:EST
DTSTART:20241103T060000
END:STANDARD
BEGIN:DAYLIGHT
TZOFFSETFROM:-0500
TZOFFSETTO:-0400
TZNAME:EDT
DTSTART:20250309T070000
END:DAYLIGHT
BEGIN:STANDARD
TZOFFSETFROM:-0400
TZOFFSETTO:-0500
TZNAME:EST
DTSTART:20251102T060000
END:STANDARD
BEGIN:DAYLIGHT
TZOFFSETFROM:-0500
TZOFFSETTO:-0400
TZNAME:EDT
DTSTART:20260308T070000
END:DAYLIGHT
BEGIN:STANDARD
TZOFFSETFROM:-0400
TZOFFSETTO:-0500
TZNAME:EST
DTSTART:20261101T060000
END:STANDARD
END:VTIMEZONE
BEGIN:VEVENT
DTSTART;TZID=America/New_York:20241229T130000
DTEND;TZID=America/New_York:20241229T150000
DTSTAMP:20260423T051053
CREATED:20241125T144950Z
LAST-MODIFIED:20241125T144950Z
UID:10002117-1735477200-1735484400@www.metroparks.net
SUMMARY:Smoked\, Salted\, Pickled\, and Preserved
DESCRIPTION:Program ongoing between 1-3pm.\nLearn how fruits\, vegetables\, and meats were preserved before the days of artificial refrigeration. The smokehouse will be in operation.
URL:https://www.metroparks.net/event/smoked-salted-pickled-and-preserved-2/
LOCATION:Slate Run Living Historical Farm\, 1375 OH-674\, Canal Winchester\, OH\, 43110\, United States
END:VEVENT
BEGIN:VEVENT
DTSTART;TZID=America/New_York:20241229T140000
DTEND;TZID=America/New_York:20241229T150000
DTSTAMP:20260423T051053
CREATED:20241120T155648Z
LAST-MODIFIED:20241120T155648Z
UID:10002089-1735480800-1735484400@www.metroparks.net
SUMMARY:Frigid Fungi
DESCRIPTION:Take a 1.25-mile hike and search the trails for mushrooms that are around in the winter.
URL:https://www.metroparks.net/event/frigid-fungi-3/
LOCATION:Blacklick Woods\, 6975 East Livingston Ave\, Reynoldsburg\, OH\, 43068\, United States
ATTACH;FMTTYPE=image/jpeg:https://www.metroparks.net/wp-content/uploads/2018/03/1080p_Molitierno-Arthur_BLK_Fungi_100.jpg
END:VEVENT
BEGIN:VEVENT
DTSTART;TZID=America/New_York:20241229T140000
DTEND;TZID=America/New_York:20241229T160000
DTSTAMP:20260423T051053
CREATED:20241120T155601Z
LAST-MODIFIED:20241120T155601Z
UID:10002088-1735480800-1735488000@www.metroparks.net
SUMMARY:Tree Cookie Decorating
DESCRIPTION:Put your art skills to use! Join a naturalist to paint on small slabs of cut tree limbs. All supplies are included\, great for kids and adults!
URL:https://www.metroparks.net/event/tree-cookie-decorating/
LOCATION:Battelle Darby Creek\, 1775 Darby Creek Drive\, Galloway\, OH\, 43119\, United States
END:VEVENT
BEGIN:VEVENT
DTSTART;TZID=America/New_York:20241230T180000
DTEND;TZID=America/New_York:20241230T190000
DTSTAMP:20260423T051053
CREATED:20241120T155757Z
LAST-MODIFIED:20241120T155757Z
UID:10002090-1735581600-1735585200@www.metroparks.net
SUMMARY:Owl Prowl
DESCRIPTION:Join the naturalist for a 1.5-mile hike to look and listen for owls. The trail is unimproved\, ages 8+. Meet at the back of this area near the restrooms and bulletin board.
URL:https://www.metroparks.net/event/owl-prowl-3/
LOCATION:Battelle Darby Creek\, 1775 Darby Creek Drive\, Galloway\, OH\, 43119\, United States
ATTACH;FMTTYPE=image/jpeg:https://www.metroparks.net/wp-content/uploads/2020/02/Zimmermann-Scott-Barred-Owl-in-Tree-BLK-1080p.jpg
END:VEVENT
BEGIN:VEVENT
DTSTART;TZID=America/New_York:20241231T100000
DTEND;TZID=America/New_York:20241231T120000
DTSTAMP:20260423T051053
CREATED:20241120T155826Z
LAST-MODIFIED:20241120T155826Z
UID:10002091-1735639200-1735646400@www.metroparks.net
SUMMARY:Winter Crafts
DESCRIPTION:Stop by the nature center to make crafts to take home.
URL:https://www.metroparks.net/event/winter-crafts-2/
LOCATION:Blendon Woods\, 4265 E Dublin Granville Road\, Columbus\, 43081\, United States
END:VEVENT
BEGIN:VEVENT
DTSTART;TZID=America/New_York:20241231T173000
DTEND;TZID=America/New_York:20241231T190000
DTSTAMP:20260423T051053
CREATED:20241126T143239Z
LAST-MODIFIED:20241126T143239Z
UID:10002123-1735666200-1735671600@www.metroparks.net
SUMMARY:Try It! Archery
DESCRIPTION:Enjoy the thrill and fun of archery this winter while being toasty warm inside at the Blacklick Woods Golf Course!! Archery will be indoors at the Golf Course Pro Shop! All equipment provided\, fun and free! Ages 8+. \nMetro Parks Outdoor Adventure is hosting a Toys for Tots toy drive!\nDonate a new toy at any Outdoor Adventure program between December 1st and December 17th and you’ll be entered into a raffle. The winner will be awarded a private Outdoor Adventure program of their choice for themselves and up to 9 guests! Program options include: Archery\, Rock Climbing\, Kayaking or Stand-up paddle boarding (seasonal). Date will be selected upon visitor and staff availability. \nDonation Guidelines\nConsider gifting to under served age groups such as infants and teens.\nSchool supplies are accepted as well!\nNO food or edible donations. NO realistic looking toy weapons. Such items will not be distributed.
URL:https://www.metroparks.net/event/try-it-archery-15/2024-12-31/
LOCATION:Blacklick Woods Golf Course\, 7309 E Livingston Ave\, Reynoldsburg\, OH\, 43068\, United States
ATTACH;FMTTYPE=image/jpeg:https://www.metroparks.net/wp-content/uploads/2023/05/Golf-course-archery-and-wine-and-nine_Erin-Whitman-e1732631461941.jpg
END:VEVENT
BEGIN:VEVENT
DTSTART;TZID=America/New_York:20250101T093000
DTEND;TZID=America/New_York:20250101T103000
DTSTAMP:20260423T051053
CREATED:20241226T150908Z
LAST-MODIFIED:20241226T150908Z
UID:10002202-1735723800-1735727400@www.metroparks.net
SUMMARY:Wham! Woodpeckers
DESCRIPTION:Join us on a 1-mile family walk as we look and listen for these hard working birds. Meet at the Confluence\, 8465 Alkire Rd.
URL:https://www.metroparks.net/event/wham-woodpeckers/
LOCATION:Battelle Darby Creek\, 1775 Darby Creek Drive\, Galloway\, OH\, 43119\, United States
ATTACH;FMTTYPE=image/jpeg:https://www.metroparks.net/wp-content/uploads/2024/09/ICON_red-headed-woodpecker_HBK_Dec_Adam-Brandemihl.jpg
END:VEVENT
BEGIN:VEVENT
DTSTART;TZID=America/New_York:20250101T100000
DTEND;TZID=America/New_York:20250101T110000
DTSTAMP:20260423T051053
CREATED:20241231T135843Z
LAST-MODIFIED:20241231T135843Z
UID:10002222-1735725600-1735729200@www.metroparks.net
SUMMARY:Cardio Hike
DESCRIPTION:Happy New Year! Join us for a fast-paced\, staff led Cardio Hike to kick off the new year right! Meet at the Lakes area parking lot at Quarry Trails Metro Park.\nUse the entrance off of Trabue Rd. (2319 Quarry Trails Drive)
URL:https://www.metroparks.net/event/cardio-hike-2/
LOCATION:Quarry Trails\, 2600 Dublin Road\, Columbus\, OH\, 43228\, United States
END:VEVENT
BEGIN:VEVENT
DTSTART;TZID=America/New_York:20250101T100000
DTEND;TZID=America/New_York:20250101T140000
DTSTAMP:20260423T051053
CREATED:20241219T142732Z
LAST-MODIFIED:20241219T142746Z
UID:10002157-1735725600-1735740000@www.metroparks.net
SUMMARY:First Day Hike
DESCRIPTION:Start the New Year off by hitting the trails and check Clear Creek off on your Metro Parks Winter Hike card. Choose from a guided 4.5-mile or 7.5-mile hike. Both hikes will start together. The 7.5-mile hike will involve some off-trail hiking. Terrain at Clear Creek is rugged\, steep and uneven in places. Bring water and wear sturdy hiking shoes. Meet at the Creekside Meadows Parking Lot: 23833 Clear Creek Road\, Rockbridge. Carpooling is recommended due to limited parking.
URL:https://www.metroparks.net/event/first-day-hike-2/
LOCATION:Clear Creek\, 185 Clear Creek Road\, Lancaster\, OH\, 43130\, United States
ATTACH;FMTTYPE=image/jpeg:https://www.metroparks.net/wp-content/uploads/2024/12/470664878_578161988148457_1249816170862468879_n.jpg
END:VEVENT
BEGIN:VEVENT
DTSTART;TZID=America/New_York:20250102T173000
DTEND;TZID=America/New_York:20250102T183000
DTSTAMP:20260423T051053
CREATED:20241231T140929Z
LAST-MODIFIED:20241231T140929Z
UID:10002235-1735839000-1735842600@www.metroparks.net
SUMMARY:Lantern Hike
DESCRIPTION:Come on out for a staff-led lantern hike around the lakes at Quarry Trails! Lanterns will be available on a first come first served basis\, hike will be approx. 1.5 miles\nMeet at the lakes area parking lot\, use the entrance off of Trabue Rd. (2319 Quarry Trails Dr.)
URL:https://www.metroparks.net/event/lantern-hike-13/
LOCATION:Quarry Trails\, 2600 Dublin Road\, Columbus\, OH\, 43228\, United States
END:VEVENT
END:VCALENDAR