BEGIN:VCALENDAR
VERSION:2.0
PRODID:-//Metro Parks - Central Ohio Park System - ECPv6.15.16.1//NONSGML v1.0//EN
CALSCALE:GREGORIAN
METHOD:PUBLISH
X-WR-CALNAME:Metro Parks - Central Ohio Park System
X-ORIGINAL-URL:https://www.metroparks.net
X-WR-CALDESC:Events for Metro Parks - Central Ohio Park System
REFRESH-INTERVAL;VALUE=DURATION:PT1H
X-Robots-Tag:noindex
X-PUBLISHED-TTL:PT1H
BEGIN:VTIMEZONE
TZID:America/New_York
BEGIN:DAYLIGHT
TZOFFSETFROM:-0500
TZOFFSETTO:-0400
TZNAME:EDT
DTSTART:20220313T070000
END:DAYLIGHT
BEGIN:STANDARD
TZOFFSETFROM:-0400
TZOFFSETTO:-0500
TZNAME:EST
DTSTART:20221106T060000
END:STANDARD
BEGIN:DAYLIGHT
TZOFFSETFROM:-0500
TZOFFSETTO:-0400
TZNAME:EDT
DTSTART:20230312T070000
END:DAYLIGHT
BEGIN:STANDARD
TZOFFSETFROM:-0400
TZOFFSETTO:-0500
TZNAME:EST
DTSTART:20231105T060000
END:STANDARD
BEGIN:DAYLIGHT
TZOFFSETFROM:-0500
TZOFFSETTO:-0400
TZNAME:EDT
DTSTART:20240310T070000
END:DAYLIGHT
BEGIN:STANDARD
TZOFFSETFROM:-0400
TZOFFSETTO:-0500
TZNAME:EST
DTSTART:20241103T060000
END:STANDARD
END:VTIMEZONE
BEGIN:VEVENT
DTSTART;TZID=America/New_York:20230805T100000
DTEND;TZID=America/New_York:20230805T130000
DTSTAMP:20260424T072123
CREATED:20230725T183318Z
LAST-MODIFIED:20230731T133919Z
UID:10000534-1691229600-1691240400@www.metroparks.net
SUMMARY:Bugstravaganza!
DESCRIPTION:Celebrate insects and invertebrates with actvities and displays for kids and adults. This year\, you’ll be able to learn about insects from around world in the traveling Ohio State University Bugmobile. Representatives from several organizations will help you catch and release bugs\, meet a beekeeper\, learn about creek life\, discover pollinators and invasive insects\, learn about moths\, find out how you can help insects and provide crafts and games for kids of all ages. We know there’s a lot to see and do so we’ll be serving free hotdogs\, chip and drinks from 10:30-1. Walnut Woods Metro Park Buckeye Area\, 6716 Lithopolis Rd\, Groveport
URL:https://www.metroparks.net/event/bugstravaganza/
LOCATION:Three Creeks\, 3860 Bixby Road\, Groveport\, OH\, 43125\, United States
END:VEVENT
BEGIN:VEVENT
DTSTART;TZID=America/New_York:20230806T150000
DTEND;TZID=America/New_York:20230806T170000
DTSTAMP:20260424T072123
CREATED:20230731T134832Z
LAST-MODIFIED:20230731T134832Z
UID:10000556-1691334000-1691341200@www.metroparks.net
SUMMARY:Family Tram Rides
DESCRIPTION:Hop on board the Metro Parks Tram for an informative ride around the park. Tram Stop is at the Nature Center. Ride lasts about 30 mins. No food or pets\, please.
URL:https://www.metroparks.net/event/family-tram-rides-2/2023-08-06/
LOCATION:Blendon Woods\, 4265 E Dublin Granville Road\, Columbus\, 43081\, United States
ATTACH;FMTTYPE=image/jpeg:https://www.metroparks.net/wp-content/uploads/2015/01/THC_Tram-Time-Metro-Five-0_G-Hamilton.jpg
END:VEVENT
END:VCALENDAR