BEGIN:VCALENDAR
VERSION:2.0
PRODID:-//Metro Parks - Central Ohio Park System - ECPv6.15.16.1//NONSGML v1.0//EN
CALSCALE:GREGORIAN
METHOD:PUBLISH
X-WR-CALNAME:Metro Parks - Central Ohio Park System
X-ORIGINAL-URL:https://www.metroparks.net
X-WR-CALDESC:Events for Metro Parks - Central Ohio Park System
REFRESH-INTERVAL;VALUE=DURATION:PT1H
X-Robots-Tag:noindex
X-PUBLISHED-TTL:PT1H
BEGIN:VTIMEZONE
TZID:America/New_York
BEGIN:DAYLIGHT
TZOFFSETFROM:-0500
TZOFFSETTO:-0400
TZNAME:EDT
DTSTART:20240310T070000
END:DAYLIGHT
BEGIN:STANDARD
TZOFFSETFROM:-0400
TZOFFSETTO:-0500
TZNAME:EST
DTSTART:20241103T060000
END:STANDARD
BEGIN:DAYLIGHT
TZOFFSETFROM:-0500
TZOFFSETTO:-0400
TZNAME:EDT
DTSTART:20250309T070000
END:DAYLIGHT
BEGIN:STANDARD
TZOFFSETFROM:-0400
TZOFFSETTO:-0500
TZNAME:EST
DTSTART:20251102T060000
END:STANDARD
BEGIN:DAYLIGHT
TZOFFSETFROM:-0500
TZOFFSETTO:-0400
TZNAME:EDT
DTSTART:20260308T070000
END:DAYLIGHT
BEGIN:STANDARD
TZOFFSETFROM:-0400
TZOFFSETTO:-0500
TZNAME:EST
DTSTART:20261101T060000
END:STANDARD
END:VTIMEZONE
BEGIN:VEVENT
DTSTART;TZID=America/New_York:20250112T090000
DTEND;TZID=America/New_York:20250112T110000
DTSTAMP:20260423T060700
CREATED:20241219T143234Z
LAST-MODIFIED:20241219T143418Z
UID:10002166-1736672400-1736679600@www.metroparks.net
SUMMARY:Coffee & Birds
DESCRIPTION:Drop by to enjoy a warm cup and beautiful birds at our viewing windows.
URL:https://www.metroparks.net/event/coffee-birds-2/2025-01-12/
LOCATION:Blendon Woods\, 4265 E Dublin Granville Road\, Columbus\, 43081\, United States
END:VEVENT
BEGIN:VEVENT
DTSTART;TZID=America/New_York:20250112T100000
DTEND;TZID=America/New_York:20250112T110000
DTSTAMP:20260423T060700
CREATED:20241231T141542Z
LAST-MODIFIED:20241231T141542Z
UID:10002242-1736676000-1736679600@www.metroparks.net
SUMMARY:Rucking Club
DESCRIPTION:Rucking is a form of fitness that combines strength training with cardio! Join us for our Staff Led Rucking Club. Weight will be provided\, participants are required to bring their own bag to carry weight in (typically some form of back pack). \nParticipants are encouraged to bring their own form of wearable weights (rucking vests\, backpacks filled with gear/water jugs\, etc.)
URL:https://www.metroparks.net/event/rucking-club/
LOCATION:Quarry Trails\, 2600 Dublin Road\, Columbus\, OH\, 43228\, United States
END:VEVENT
BEGIN:VEVENT
DTSTART;TZID=America/New_York:20250112T100000
DTEND;TZID=America/New_York:20250112T130000
DTSTAMP:20260423T060700
CREATED:20241023T151943Z
LAST-MODIFIED:20241023T152042Z
UID:10001949-1736676000-1736686800@www.metroparks.net
SUMMARY:Slate Run Winter Hike
DESCRIPTION:Gather your friends and family for a hike on any trail at Slate Run Metro Park. Refreshments and a treat will be served between 10am and 1pm at Buzzards Roost Picnic Area. \nLearn more about winter hikes by clicking here.
URL:https://www.metroparks.net/event/slate-run-winter-hike-2/
LOCATION:Slate Run Park\, 1375 St. Rte. 674 North\, Canal Winchester\, 43110\, United States
ATTACH;FMTTYPE=image/png:https://www.metroparks.net/wp-content/uploads/2024/10/23.png
END:VEVENT
BEGIN:VEVENT
DTSTART;TZID=America/New_York:20250112T140000
DTEND;TZID=America/New_York:20250112T150000
DTSTAMP:20260423T060700
CREATED:20241231T141454Z
LAST-MODIFIED:20241231T141454Z
UID:10002241-1736690400-1736694000@www.metroparks.net
SUMMARY:Bike-It!
DESCRIPTION:Join us for a bike ride around Glacier Ridge Metro Park! Feel free to join if you have your own bike\, and registration is only required if you need to borrow a bike/helmet. Bikes are sized for adults only. Meet at the Glacier Ridge Maintenance Area\, park at the bridle trail lot adjacent to the Red Maintenance barn (first parking lot on the left when entering the park) . Trails will be pavement \nREGISTER HERE IF YOU NEED TO BORROW A BIKE/HELMET
URL:https://www.metroparks.net/event/bike-it-2/
LOCATION:Glacier Ridge\, 9801 Hyland Croy\, Plain City\, OH\, 43064\, United States
END:VEVENT
BEGIN:VEVENT
DTSTART;TZID=America/New_York:20250112T140000
DTEND;TZID=America/New_York:20250112T153000
DTSTAMP:20260423T060700
CREATED:20241219T143305Z
LAST-MODIFIED:20241219T143305Z
UID:10002165-1736690400-1736695800@www.metroparks.net
SUMMARY:Off-Trail Wandering
DESCRIPTION:We’ll take a slow off-trail walk with frequent stops to observe and learn about rarely seen parts of the park. Total length will probably be 1 to 2 miles and weather conditions may determine where we can go. Please wear clothing and footwear suitable for off-trail walking. No pets\, please. Meets at Three Creeks Metro Park Confluence Area bulletin board\, 3860 Bixby Rd\, Groveport
URL:https://www.metroparks.net/event/off-trail-wandering-3/
LOCATION:Three Creeks\, 3860 Bixby Road\, Groveport\, OH\, 43125\, United States
END:VEVENT
BEGIN:VEVENT
DTSTART;TZID=America/New_York:20250112T140000
DTEND;TZID=America/New_York:20250112T160000
DTSTAMP:20260423T060700
CREATED:20241226T151606Z
LAST-MODIFIED:20241226T151606Z
UID:10002206-1736690400-1736697600@www.metroparks.net
SUMMARY:Meet the Artists: Westbridge Camera Club
DESCRIPTION:Meet members of Westbridge Camera Club and view their photographs on display in the Innis House.
URL:https://www.metroparks.net/event/meet-the-artists-westbridge-camera-club/
LOCATION:Innis House\, 940 S Hempstead Road\, Westerville\, OH\, 43081\, United States
END:VEVENT
BEGIN:VEVENT
DTSTART;TZID=America/New_York:20250113T110000
DTEND;TZID=America/New_York:20250113T120000
DTSTAMP:20260423T060700
CREATED:20241231T141609Z
LAST-MODIFIED:20241231T141609Z
UID:10002243-1736766000-1736769600@www.metroparks.net
SUMMARY:Toddler Hike
DESCRIPTION:Join us for a fun filled hike through the trees at Walnut Woods! This hike is geared for toddlers and children ages 0-6\, we will walk as far as we can within the hour\, we will be on paved trails suitable for strollers\, wagons\, etc. Meet at the Tall Pines Area
URL:https://www.metroparks.net/event/toddler-hike-12/
LOCATION:Walnut Woods\, 6723 Lithopolis Rd\, Groveport\, OH\, 43125\, United States
END:VEVENT
BEGIN:VEVENT
DTSTART;TZID=America/New_York:20250113T170000
DTEND;TZID=America/New_York:20250113T190000
DTSTAMP:20260423T060700
CREATED:20241226T151642Z
LAST-MODIFIED:20241226T151642Z
UID:10002207-1736787600-1736794800@www.metroparks.net
SUMMARY:Full Moon Hike
DESCRIPTION:Take a brisk 4-mile hike through forests and fields. Meet us at the Ranger Station\, 1775 Darby Creek Drive.
URL:https://www.metroparks.net/event/full-moon-hike-15/
LOCATION:Battelle Darby Creek\, 1775 Darby Creek Drive\, Galloway\, OH\, 43119\, United States
ATTACH;FMTTYPE=image/jpeg:https://www.metroparks.net/wp-content/uploads/2019/03/gallery-spring-RKF-full-moon-and-trees_April-Dan-Bissonette.jpg
END:VEVENT
BEGIN:VEVENT
DTSTART;TZID=America/New_York:20250114T100000
DTEND;TZID=America/New_York:20250114T110000
DTSTAMP:20260423T060700
CREATED:20241226T152009Z
LAST-MODIFIED:20241226T152009Z
UID:10002208-1736848800-1736852400@www.metroparks.net
SUMMARY:Animal Tracking
DESCRIPTION:Let’s investigate the wetlands through tracks\, feathers\, calls and scat. 1-mile loop\, meet at 1378 Darby Creek Dr.
URL:https://www.metroparks.net/event/animal-tracking/
LOCATION:Battelle Darby Creek\, 1775 Darby Creek Drive\, Galloway\, OH\, 43119\, United States
END:VEVENT
BEGIN:VEVENT
DTSTART;TZID=America/New_York:20250114T100000
DTEND;TZID=America/New_York:20250114T110000
DTSTAMP:20260423T060700
CREATED:20241219T143459Z
LAST-MODIFIED:20241219T143459Z
UID:10002169-1736848800-1736852400@www.metroparks.net
SUMMARY:Homeschoolers: Winter Birds
DESCRIPTION:We’ll look for and learn about birds in winter as we visit feeders on an easy 3/4 mile walk. Bring binoculars if you’d like and we’ll have some to share. Meets at the Confluence Area bulletin board\, 3860 Bixby Rd\, Groveport
URL:https://www.metroparks.net/event/homeschoolers-winter-birds/
LOCATION:Three Creeks\, 3860 Bixby Road\, Groveport\, OH\, 43125\, United States
END:VEVENT
BEGIN:VEVENT
DTSTART;TZID=America/New_York:20250114T133000
DTEND;TZID=America/New_York:20250114T143000
DTSTAMP:20260423T060700
CREATED:20241219T143532Z
LAST-MODIFIED:20241219T143532Z
UID:10002170-1736861400-1736865000@www.metroparks.net
SUMMARY:Homeschoolers: Winter Birds
DESCRIPTION:We’ll look for and learn about birds in winter as we visit feeders on an easy 3/4 mile walk. Bring binoculars if you’d like and we’ll have some to share. Meets at the Confluence Area bulletin board\, 3860 Bixby Rd\, Groveport
URL:https://www.metroparks.net/event/homeschoolers-winter-birds-2/
LOCATION:Three Creeks\, 3860 Bixby Road\, Groveport\, OH\, 43125\, United States
END:VEVENT
BEGIN:VEVENT
DTSTART;TZID=America/New_York:20250114T173000
DTEND;TZID=America/New_York:20250114T190000
DTSTAMP:20260423T060700
CREATED:20241231T140200Z
LAST-MODIFIED:20241231T140200Z
UID:10002225-1736875800-1736881200@www.metroparks.net
SUMMARY:Try It! Archery
DESCRIPTION:Enjoy the thrill and fun of archery this winter while being toasty warm inside at the Blacklick Woods Golf Course!! Archery will be indoors at the Golf Course Pro Shop! All equipment provided\, fun and free! Ages 8+.
URL:https://www.metroparks.net/event/try-it-archery-16/2025-01-14/
LOCATION:Blacklick Woods Golf Course\, 7309 E Livingston Ave\, Reynoldsburg\, OH\, 43068\, United States
ATTACH;FMTTYPE=image/jpeg:https://www.metroparks.net/wp-content/uploads/2023/05/Golf-course-archery-and-wine-and-nine_Erin-Whitman-e1732631461941.jpg
END:VEVENT
BEGIN:VEVENT
DTSTART;TZID=America/New_York:20250115T130000
DTEND;TZID=America/New_York:20250115T140000
DTSTAMP:20260423T060700
CREATED:20241226T152031Z
LAST-MODIFIED:20241226T152031Z
UID:10002209-1736946000-1736949600@www.metroparks.net
SUMMARY:Backyard Bird Feeding with Herbs
DESCRIPTION:Learn best practices for bird feeding and discover which herbs will attract birds to your yard.
URL:https://www.metroparks.net/event/backyard-bird-feeding-with-herbs/
LOCATION:Inniswood Metro Gardens\, 940 S. Hempstead Rd.\, Westerville\, OH\, 43081\, United States
END:VEVENT
BEGIN:VEVENT
DTSTART;TZID=America/New_York:20250115T130000
DTEND;TZID=America/New_York:20250115T143000
DTSTAMP:20260423T060700
CREATED:20241219T144119Z
LAST-MODIFIED:20241219T144119Z
UID:10002172-1736946000-1736951400@www.metroparks.net
SUMMARY:Metro Parks Hiking Club: Wednesday Fitness Club
DESCRIPTION:Hike 2 or 4 mi. on grave and natural surface trails. Moderate pace. Stairs and hills.
URL:https://www.metroparks.net/event/metro-parks-hiking-club-wednesday-fitness-club-2/
LOCATION:Blendon Woods\, 4265 E Dublin Granville Road\, Columbus\, 43081\, United States
END:VEVENT
BEGIN:VEVENT
DTSTART;TZID=America/New_York:20250115T130000
DTEND;TZID=America/New_York:20250115T150000
DTSTAMP:20260423T060700
CREATED:20241219T144009Z
LAST-MODIFIED:20241219T144009Z
UID:10002171-1736946000-1736953200@www.metroparks.net
SUMMARY:For Adults 50+: Jack of all Trades - Metro Parks' Resource Management
DESCRIPTION:The natural resource management team wears a lot of hats. Or waders. Or burn suits. Learn about Metro Parks’ Resource Management team and their role in the park district. We’ll take a look at the processes of land acquisition\, habitat restoration\, and maintaining our ecosystems. \nMeet at the Grove Lodge.
URL:https://www.metroparks.net/event/for-adults-50-jack-of-all-trades-metro-parks-resource-management/
LOCATION:Scioto Grove\, 5172 Jackson Pike\, Grove City\, OH\, 43123\, United States
END:VEVENT
END:VCALENDAR