BEGIN:VCALENDAR
VERSION:2.0
PRODID:-//Metro Parks - Central Ohio Park System - ECPv6.15.16.1//NONSGML v1.0//EN
CALSCALE:GREGORIAN
METHOD:PUBLISH
X-WR-CALNAME:Metro Parks - Central Ohio Park System
X-ORIGINAL-URL:https://www.metroparks.net
X-WR-CALDESC:Events for Metro Parks - Central Ohio Park System
REFRESH-INTERVAL;VALUE=DURATION:PT1H
X-Robots-Tag:noindex
X-PUBLISHED-TTL:PT1H
BEGIN:VTIMEZONE
TZID:America/New_York
BEGIN:DAYLIGHT
TZOFFSETFROM:-0500
TZOFFSETTO:-0400
TZNAME:EDT
DTSTART:20240310T070000
END:DAYLIGHT
BEGIN:STANDARD
TZOFFSETFROM:-0400
TZOFFSETTO:-0500
TZNAME:EST
DTSTART:20241103T060000
END:STANDARD
BEGIN:DAYLIGHT
TZOFFSETFROM:-0500
TZOFFSETTO:-0400
TZNAME:EDT
DTSTART:20250309T070000
END:DAYLIGHT
BEGIN:STANDARD
TZOFFSETFROM:-0400
TZOFFSETTO:-0500
TZNAME:EST
DTSTART:20251102T060000
END:STANDARD
BEGIN:DAYLIGHT
TZOFFSETFROM:-0500
TZOFFSETTO:-0400
TZNAME:EDT
DTSTART:20260308T070000
END:DAYLIGHT
BEGIN:STANDARD
TZOFFSETFROM:-0400
TZOFFSETTO:-0500
TZNAME:EST
DTSTART:20261101T060000
END:STANDARD
END:VTIMEZONE
BEGIN:VEVENT
DTSTART;TZID=America/New_York:20250115T130000
DTEND;TZID=America/New_York:20250115T140000
DTSTAMP:20260424T170158
CREATED:20241226T152031Z
LAST-MODIFIED:20241226T152031Z
UID:10002209-1736946000-1736949600@www.metroparks.net
SUMMARY:Backyard Bird Feeding with Herbs
DESCRIPTION:Learn best practices for bird feeding and discover which herbs will attract birds to your yard.
URL:https://www.metroparks.net/event/backyard-bird-feeding-with-herbs/
LOCATION:Inniswood Metro Gardens\, 940 S. Hempstead Rd.\, Westerville\, OH\, 43081\, United States
END:VEVENT
BEGIN:VEVENT
DTSTART;TZID=America/New_York:20250115T130000
DTEND;TZID=America/New_York:20250115T143000
DTSTAMP:20260424T170158
CREATED:20241219T144119Z
LAST-MODIFIED:20241219T144119Z
UID:10002172-1736946000-1736951400@www.metroparks.net
SUMMARY:Metro Parks Hiking Club: Wednesday Fitness Club
DESCRIPTION:Hike 2 or 4 mi. on grave and natural surface trails. Moderate pace. Stairs and hills.
URL:https://www.metroparks.net/event/metro-parks-hiking-club-wednesday-fitness-club-2/
LOCATION:Blendon Woods\, 4265 E Dublin Granville Road\, Columbus\, 43081\, United States
END:VEVENT
BEGIN:VEVENT
DTSTART;TZID=America/New_York:20250115T130000
DTEND;TZID=America/New_York:20250115T150000
DTSTAMP:20260424T170158
CREATED:20241219T144009Z
LAST-MODIFIED:20241219T144009Z
UID:10002171-1736946000-1736953200@www.metroparks.net
SUMMARY:For Adults 50+: Jack of all Trades - Metro Parks' Resource Management
DESCRIPTION:The natural resource management team wears a lot of hats. Or waders. Or burn suits. Learn about Metro Parks’ Resource Management team and their role in the park district. We’ll take a look at the processes of land acquisition\, habitat restoration\, and maintaining our ecosystems. \nMeet at the Grove Lodge.
URL:https://www.metroparks.net/event/for-adults-50-jack-of-all-trades-metro-parks-resource-management/
LOCATION:Scioto Grove\, 5172 Jackson Pike\, Grove City\, OH\, 43123\, United States
END:VEVENT
BEGIN:VEVENT
DTSTART;TZID=America/New_York:20250116T100000
DTEND;TZID=America/New_York:20250116T110000
DTSTAMP:20260424T170158
CREATED:20241226T142115Z
LAST-MODIFIED:20241226T142115Z
UID:10002178-1737021600-1737025200@www.metroparks.net
SUMMARY:Homeschoolers: Owls
DESCRIPTION:Take a 1.25-mile hike through the forest to learn about owls and their adaptations while searching for roosting owls.
URL:https://www.metroparks.net/event/homeschoolers-owls/2025-01-16/1/
LOCATION:Blacklick Woods\, 6975 East Livingston Ave\, Reynoldsburg\, OH\, 43068\, United States
ATTACH;FMTTYPE=image/jpeg:https://www.metroparks.net/wp-content/uploads/2023/07/bucket-baby-barred-owls-1200px-Dan-Ferrin.jpg
END:VEVENT
BEGIN:VEVENT
DTSTART;TZID=America/New_York:20250116T110000
DTEND;TZID=America/New_York:20250116T123000
DTSTAMP:20260424T170158
CREATED:20241230T141214Z
LAST-MODIFIED:20241230T141236Z
UID:10002217-1737025200-1737030600@www.metroparks.net
SUMMARY:Pre-school: Winter Footprints
DESCRIPTION:Who is walking in our woods? Learn about animal footprints through games and a fun craft. Program may include a short hike\, please dress for the weather.
URL:https://www.metroparks.net/event/pre-school-winter-footprints/
LOCATION:Spring Hollow at Sharon Woods\, 1069 W Main St\, Westerville\, OH\, 43081\, United States
END:VEVENT
BEGIN:VEVENT
DTSTART;TZID=America/New_York:20250116T130000
DTEND;TZID=America/New_York:20250116T140000
DTSTAMP:20260424T170158
CREATED:20241226T142115Z
LAST-MODIFIED:20241226T142115Z
UID:10002179-1737032400-1737036000@www.metroparks.net
SUMMARY:Homeschoolers: Owls
DESCRIPTION:Take a 1.25-mile hike through the forest to learn about owls and their adaptations while searching for roosting owls.
URL:https://www.metroparks.net/event/homeschoolers-owls/2025-01-16/2/
LOCATION:Blacklick Woods\, 6975 East Livingston Ave\, Reynoldsburg\, OH\, 43068\, United States
ATTACH;FMTTYPE=image/jpeg:https://www.metroparks.net/wp-content/uploads/2023/07/bucket-baby-barred-owls-1200px-Dan-Ferrin.jpg
END:VEVENT
BEGIN:VEVENT
DTSTART;TZID=America/New_York:20250116T173000
DTEND;TZID=America/New_York:20250116T190000
DTSTAMP:20260424T170158
CREATED:20241231T141656Z
LAST-MODIFIED:20241231T141656Z
UID:10002244-1737048600-1737054000@www.metroparks.net
SUMMARY:Archery\, Board Games and Campfires
DESCRIPTION:Enjoy a Try it! Archery program while getting the chance to play some board games in the Pro Shop\, and enjoy a s’more around the campfire at Blacklick Woods Golf Course! Archery is for ages 8+. All other activities are open for all ages!
URL:https://www.metroparks.net/event/archery-board-games-and-campfires/
LOCATION:Blacklick Woods Golf Course\, 7309 E Livingston Ave\, Reynoldsburg\, OH\, 43068\, United States
END:VEVENT
END:VCALENDAR