BEGIN:VCALENDAR
VERSION:2.0
PRODID:-//Metro Parks - Central Ohio Park System - ECPv6.15.16.1//NONSGML v1.0//EN
CALSCALE:GREGORIAN
METHOD:PUBLISH
X-WR-CALNAME:Metro Parks - Central Ohio Park System
X-ORIGINAL-URL:https://www.metroparks.net
X-WR-CALDESC:Events for Metro Parks - Central Ohio Park System
REFRESH-INTERVAL;VALUE=DURATION:PT1H
X-Robots-Tag:noindex
X-PUBLISHED-TTL:PT1H
BEGIN:VTIMEZONE
TZID:America/New_York
BEGIN:DAYLIGHT
TZOFFSETFROM:-0500
TZOFFSETTO:-0400
TZNAME:EDT
DTSTART:20240310T070000
END:DAYLIGHT
BEGIN:STANDARD
TZOFFSETFROM:-0400
TZOFFSETTO:-0500
TZNAME:EST
DTSTART:20241103T060000
END:STANDARD
BEGIN:DAYLIGHT
TZOFFSETFROM:-0500
TZOFFSETTO:-0400
TZNAME:EDT
DTSTART:20250309T070000
END:DAYLIGHT
BEGIN:STANDARD
TZOFFSETFROM:-0400
TZOFFSETTO:-0500
TZNAME:EST
DTSTART:20251102T060000
END:STANDARD
BEGIN:DAYLIGHT
TZOFFSETFROM:-0500
TZOFFSETTO:-0400
TZNAME:EDT
DTSTART:20260308T070000
END:DAYLIGHT
BEGIN:STANDARD
TZOFFSETFROM:-0400
TZOFFSETTO:-0500
TZNAME:EST
DTSTART:20261101T060000
END:STANDARD
END:VTIMEZONE
BEGIN:VEVENT
DTSTART;TZID=America/New_York:20250121T173000
DTEND;TZID=America/New_York:20250121T190000
DTSTAMP:20260423T133452
CREATED:20241231T140200Z
LAST-MODIFIED:20241231T140200Z
UID:10002226-1737480600-1737486000@www.metroparks.net
SUMMARY:Try It! Archery
DESCRIPTION:Enjoy the thrill and fun of archery this winter while being toasty warm inside at the Blacklick Woods Golf Course!! Archery will be indoors at the Golf Course Pro Shop! All equipment provided\, fun and free! Ages 8+.
URL:https://www.metroparks.net/event/try-it-archery-16/2025-01-21/
LOCATION:Blacklick Woods Golf Course\, 7309 E Livingston Ave\, Reynoldsburg\, OH\, 43068\, United States
ATTACH;FMTTYPE=image/jpeg:https://www.metroparks.net/wp-content/uploads/2023/05/Golf-course-archery-and-wine-and-nine_Erin-Whitman-e1732631461941.jpg
END:VEVENT
BEGIN:VEVENT
DTSTART;TZID=America/New_York:20250122T100000
DTEND;TZID=America/New_York:20250122T110000
DTSTAMP:20260423T133452
CREATED:20241231T141840Z
LAST-MODIFIED:20241231T141840Z
UID:10002247-1737540000-1737543600@www.metroparks.net
SUMMARY:Cardio Hike
DESCRIPTION:Join us in brining in the New Year at this fast-paced Cardio Hike at Prairie Oaks Metro Park! Meet at Darby Bend Lakes\, Lake 1 parking lot. Use address 2755 Amity Rd\, Hilliard.
URL:https://www.metroparks.net/event/cardio-hike-3/
LOCATION:Prairie Oaks\, 3225 Plain City-Georgesville Road\, West Jefferson\, OH\, 43162\, United States
END:VEVENT
BEGIN:VEVENT
DTSTART;TZID=America/New_York:20250122T160000
DTEND;TZID=America/New_York:20250122T180000
DTSTAMP:20260423T133452
CREATED:20241231T143254Z
LAST-MODIFIED:20241231T143254Z
UID:10002255-1737561600-1737568800@www.metroparks.net
SUMMARY:Winter Scavenger Hunt
DESCRIPTION:Celebrate the winter season with a fun scavenger hunt that will lead you around the park! Pick up your scavenger hunt at the shelter house from 4-6pm and complete the scavenger hunt to earn a prize!\nThe scavenger hunt trail will be along our Red Oak Trail which is 0.8 miles long with varying terrain of gravel and dirt paths.\nThis program is geared for all ages. Meet at the shelter house\, rain or shine!
URL:https://www.metroparks.net/event/winter-scavenger-hunt-2/
LOCATION:Glacier Ridge\, 9801 Hyland Croy\, Plain City\, OH\, 43064\, United States
END:VEVENT
END:VCALENDAR