BEGIN:VCALENDAR
VERSION:2.0
PRODID:-//Metro Parks - Central Ohio Park System - ECPv6.15.16.1//NONSGML v1.0//EN
CALSCALE:GREGORIAN
METHOD:PUBLISH
X-WR-CALNAME:Metro Parks - Central Ohio Park System
X-ORIGINAL-URL:https://www.metroparks.net
X-WR-CALDESC:Events for Metro Parks - Central Ohio Park System
REFRESH-INTERVAL;VALUE=DURATION:PT1H
X-Robots-Tag:noindex
X-PUBLISHED-TTL:PT1H
BEGIN:VTIMEZONE
TZID:America/New_York
BEGIN:DAYLIGHT
TZOFFSETFROM:-0500
TZOFFSETTO:-0400
TZNAME:EDT
DTSTART:20240310T070000
END:DAYLIGHT
BEGIN:STANDARD
TZOFFSETFROM:-0400
TZOFFSETTO:-0500
TZNAME:EST
DTSTART:20241103T060000
END:STANDARD
BEGIN:DAYLIGHT
TZOFFSETFROM:-0500
TZOFFSETTO:-0400
TZNAME:EDT
DTSTART:20250309T070000
END:DAYLIGHT
BEGIN:STANDARD
TZOFFSETFROM:-0400
TZOFFSETTO:-0500
TZNAME:EST
DTSTART:20251102T060000
END:STANDARD
BEGIN:DAYLIGHT
TZOFFSETFROM:-0500
TZOFFSETTO:-0400
TZNAME:EDT
DTSTART:20260308T070000
END:DAYLIGHT
BEGIN:STANDARD
TZOFFSETFROM:-0400
TZOFFSETTO:-0500
TZNAME:EST
DTSTART:20261101T060000
END:STANDARD
END:VTIMEZONE
BEGIN:VEVENT
DTSTART;TZID=America/New_York:20250125T173000
DTEND;TZID=America/New_York:20250125T193000
DTSTAMP:20260423T143712
CREATED:20241226T142754Z
LAST-MODIFIED:20241226T142754Z
UID:10002188-1737826200-1737833400@www.metroparks.net
SUMMARY:Drop In: Astronomy Night
DESCRIPTION:Drop by the Big Meadows Picnic Area between 5:30-7:30 PM to do some stargazing with Columbus Astronomical Society. Learn about the astronomy of the winter sky. All ages welcome. Limited equipment provided. \nMeeting location notes:Highbanks Metro Park-Big Meadows Picnic Area. This meeting location is located near the back of the park area in the back of the park. After you enter the park\, take the main road down the hill. At the bottom of the hill\, a sign will be on the right side saying “Big Meadows picnic area”. After the sign\, take the ROAD on the LEFT. Park in the first lot on the left. Meet near the restrooms/bulletin board/playground area.
URL:https://www.metroparks.net/event/drop-in-astronomy-night/
LOCATION:Highbanks\, 9466 Columbus Pike (US Rt 23 N)\, Lewis Center\, OH\, 43035\, United States
END:VEVENT
BEGIN:VEVENT
DTSTART;TZID=America/New_York:20250126T090000
DTEND;TZID=America/New_York:20250126T110000
DTSTAMP:20260423T143712
CREATED:20241219T143234Z
LAST-MODIFIED:20241219T143418Z
UID:10002168-1737882000-1737889200@www.metroparks.net
SUMMARY:Coffee & Birds
DESCRIPTION:Drop by to enjoy a warm cup and beautiful birds at our viewing windows.
URL:https://www.metroparks.net/event/coffee-birds-2/2025-01-26/
LOCATION:Blendon Woods\, 4265 E Dublin Granville Road\, Columbus\, 43081\, United States
END:VEVENT
BEGIN:VEVENT
DTSTART;TZID=America/New_York:20250126T100000
DTEND;TZID=America/New_York:20250126T110000
DTSTAMP:20260423T143712
CREATED:20241231T140837Z
LAST-MODIFIED:20241231T140837Z
UID:10002234-1737885600-1737889200@www.metroparks.net
SUMMARY:Cowboy Campfire Coffee!
DESCRIPTION:Howdy Y’all! Come out to the Lower Sled Hill at Quarry Trails Metro Park to learn how to make Cowboy style Campfire Coffee! All ingredients and equipment will be supplied\, feel free to bring your own reusable mug or cup and fill it up with some warm and toasty fire brewed coffee
URL:https://www.metroparks.net/event/cowboy-campfire-coffee/2025-01-26/
LOCATION:Quarry Trails\, 2600 Dublin Road\, Columbus\, OH\, 43228\, United States
END:VEVENT
BEGIN:VEVENT
DTSTART;TZID=America/New_York:20250126T100000
DTEND;TZID=America/New_York:20250126T120000
DTSTAMP:20260423T143712
CREATED:20241231T143431Z
LAST-MODIFIED:20241231T143431Z
UID:10002256-1737885600-1737892800@www.metroparks.net
SUMMARY:Bird BINGO
DESCRIPTION:Calling all bird lovers for a morning of BINGO! Whether you are a long time bird enthusiast or a newbie birder\, you can enjoy a fun game of BINGO with us. Stop by the shelter house from 10-12pm to get your BINGO card and hit the trail!\nThe bird trail will be along our Red Oak Trail which is 0.8 miles long with varying terrain of gravel and dirt paths.\nBinoculars and guide books will be provided!\nThis program is geared for all ages. Meet at the shelter house\, rain or shine!
URL:https://www.metroparks.net/event/bird-bingo/
LOCATION:Glacier Ridge\, 9801 Hyland Croy\, Plain City\, OH\, 43064\, United States
END:VEVENT
BEGIN:VEVENT
DTSTART;TZID=America/New_York:20250126T100000
DTEND;TZID=America/New_York:20250126T120000
DTSTAMP:20260423T143712
CREATED:20241230T141449Z
LAST-MODIFIED:20241230T141449Z
UID:10002220-1737885600-1737892800@www.metroparks.net
SUMMARY:Winter Watercolor
DESCRIPTION:Adults and kids can learn the basics of watercolor and paint a simple winter landscape. Class includes a short hike\, so please dress for the weather.
URL:https://www.metroparks.net/event/winter-watercolor/2025-01-26/1/
LOCATION:Spring Hollow at Sharon Woods\, 1069 W Main St\, Westerville\, OH\, 43081\, United States
END:VEVENT
BEGIN:VEVENT
DTSTART;TZID=America/New_York:20250126T100000
DTEND;TZID=America/New_York:20250126T130000
DTSTAMP:20260423T143712
CREATED:20241023T152435Z
LAST-MODIFIED:20241023T152435Z
UID:10001953-1737885600-1737896400@www.metroparks.net
SUMMARY:Scioto Grove Winter Hike
DESCRIPTION:Gather your friends and family for a hike on any trail at Scioto Grove Metro Park. Refreshments and a treat will be served between 10am and 1pm. \nLearn more about winter hikes by clicking here.
URL:https://www.metroparks.net/event/scioto-grove-winter-hike-2/
LOCATION:Scioto Grove\, 5172 Jackson Pike\, Grove City\, OH\, 43123\, United States
ATTACH;FMTTYPE=image/png:https://www.metroparks.net/wp-content/uploads/2024/10/27.png
END:VEVENT
BEGIN:VEVENT
DTSTART;TZID=America/New_York:20250126T130000
DTEND;TZID=America/New_York:20250126T150000
DTSTAMP:20260423T143712
CREATED:20241230T141449Z
LAST-MODIFIED:20241230T141449Z
UID:10002221-1737896400-1737903600@www.metroparks.net
SUMMARY:Winter Watercolor
DESCRIPTION:Adults and kids can learn the basics of watercolor and paint a simple winter landscape. Class includes a short hike\, so please dress for the weather.
URL:https://www.metroparks.net/event/winter-watercolor/2025-01-26/2/
LOCATION:Spring Hollow at Sharon Woods\, 1069 W Main St\, Westerville\, OH\, 43081\, United States
END:VEVENT
BEGIN:VEVENT
DTSTART;TZID=America/New_York:20250126T130000
DTEND;TZID=America/New_York:20250126T150000
DTSTAMP:20260423T143712
CREATED:20241226T150707Z
LAST-MODIFIED:20241226T150707Z
UID:10002199-1737896400-1737903600@www.metroparks.net
SUMMARY:Flying Squirrel Talk & Hike
DESCRIPTION:Learn all about the fascinating flying squirrel and go for a hike to check one of our nest boxes! Hike will be approximately 2 miles on crushed limestone. Ages 5+ \nMeeting Location Notes: Highbanks Nature Center is the first right after entering the park. There is limited parking in the Nature Center lot on busy days. Additional parking is available in the Oak Coves Picnic Area\, a 10 minute walk from the Nature Center. Follow the paved trail through Oak Coves toward the Nature Center.
URL:https://www.metroparks.net/event/flying-squirrel-talk-hike-2/
LOCATION:Highbanks\, 9466 Columbus Pike (US Rt 23 N)\, Lewis Center\, OH\, 43035\, United States
END:VEVENT
BEGIN:VEVENT
DTSTART;TZID=America/New_York:20250126T140000
DTEND;TZID=America/New_York:20250126T150000
DTSTAMP:20260423T143712
CREATED:20241226T150643Z
LAST-MODIFIED:20241226T150643Z
UID:10002198-1737900000-1737903600@www.metroparks.net
SUMMARY:Houseplant Basics
DESCRIPTION:Learn the basics of keeping houseplants happy. Brown thumbs welcome!
URL:https://www.metroparks.net/event/houseplant-basics/
LOCATION:Inniswood Metro Gardens\, 940 S. Hempstead Rd.\, Westerville\, OH\, 43081\, United States
END:VEVENT
BEGIN:VEVENT
DTSTART;TZID=America/New_York:20250126T140000
DTEND;TZID=America/New_York:20250126T153000
DTSTAMP:20260423T143712
CREATED:20241231T140200Z
LAST-MODIFIED:20241231T140200Z
UID:10002227-1737900000-1737905400@www.metroparks.net
SUMMARY:Try It! Archery
DESCRIPTION:Enjoy the thrill and fun of archery this winter while being toasty warm inside at the Blacklick Woods Golf Course!! Archery will be indoors at the Golf Course Pro Shop! All equipment provided\, fun and free! Ages 8+.
URL:https://www.metroparks.net/event/try-it-archery-16/2025-01-26/
LOCATION:Blacklick Woods Golf Course\, 7309 E Livingston Ave\, Reynoldsburg\, OH\, 43068\, United States
ATTACH;FMTTYPE=image/jpeg:https://www.metroparks.net/wp-content/uploads/2023/05/Golf-course-archery-and-wine-and-nine_Erin-Whitman-e1732631461941.jpg
END:VEVENT
BEGIN:VEVENT
DTSTART;TZID=America/New_York:20250127T100000
DTEND;TZID=America/New_York:20250127T110000
DTSTAMP:20260423T143712
CREATED:20241231T142127Z
LAST-MODIFIED:20241231T142127Z
UID:10002250-1737972000-1737975600@www.metroparks.net
SUMMARY:Toddler Hike
DESCRIPTION:Join us for a staff-led Toddler Hike around the lakes at Quarry Trails! We will walk as far as possible in the time allotted. We will be on stroller friendly trails
URL:https://www.metroparks.net/event/toddler-hike-13/
LOCATION:Quarry Trails\, 2600 Dublin Road\, Columbus\, OH\, 43228\, United States
END:VEVENT
BEGIN:VEVENT
DTSTART;TZID=America/New_York:20250127T130000
DTEND;TZID=America/New_York:20250127T140000
DTSTAMP:20260423T143712
CREATED:20241226T150734Z
LAST-MODIFIED:20241226T150734Z
UID:10002200-1737982800-1737986400@www.metroparks.net
SUMMARY:For Adults 50+: Winter Wild Edibles
DESCRIPTION:Take a 1.25-mile hike while we learn about what plants and fungi can be foraged as they begin to emerge around us.
URL:https://www.metroparks.net/event/for-adults-50-winter-wild-edibles/
LOCATION:Blacklick Woods\, 6975 East Livingston Ave\, Reynoldsburg\, OH\, 43068\, United States
END:VEVENT
BEGIN:VEVENT
DTSTART;TZID=America/New_York:20250128T173000
DTEND;TZID=America/New_York:20250128T190000
DTSTAMP:20260423T143712
CREATED:20241231T140200Z
LAST-MODIFIED:20241231T140200Z
UID:10002228-1738085400-1738090800@www.metroparks.net
SUMMARY:Try It! Archery
DESCRIPTION:Enjoy the thrill and fun of archery this winter while being toasty warm inside at the Blacklick Woods Golf Course!! Archery will be indoors at the Golf Course Pro Shop! All equipment provided\, fun and free! Ages 8+.
URL:https://www.metroparks.net/event/try-it-archery-16/2025-01-28/
LOCATION:Blacklick Woods Golf Course\, 7309 E Livingston Ave\, Reynoldsburg\, OH\, 43068\, United States
ATTACH;FMTTYPE=image/jpeg:https://www.metroparks.net/wp-content/uploads/2023/05/Golf-course-archery-and-wine-and-nine_Erin-Whitman-e1732631461941.jpg
END:VEVENT
BEGIN:VEVENT
DTSTART;TZID=America/New_York:20250130T100000
DTEND;TZID=America/New_York:20250130T110000
DTSTAMP:20260423T143712
CREATED:20241226T150812Z
LAST-MODIFIED:20241226T150812Z
UID:10002201-1738231200-1738234800@www.metroparks.net
SUMMARY:Tots on Trails
DESCRIPTION:Share a slow-paced\, half-mile hike with your toddler and discover nature together.
URL:https://www.metroparks.net/event/tots-on-trails-9/
LOCATION:Blacklick Woods\, 6975 East Livingston Ave\, Reynoldsburg\, OH\, 43068\, United States
END:VEVENT
BEGIN:VEVENT
DTSTART;TZID=America/New_York:20250130T173000
DTEND;TZID=America/New_York:20250130T183000
DTSTAMP:20260423T143712
CREATED:20241231T140337Z
LAST-MODIFIED:20241231T140337Z
UID:10002229-1738258200-1738261800@www.metroparks.net
SUMMARY:Pie Iron Cooking
DESCRIPTION:Pie irons? Pudgy pies? Toastie irons? Regardless of what you grew up calling them\, or are brand new to using them\, join us to make recipes and learn tips and tricks. Meet at the campfire in Arrowhead Picnic Area at Scioto Grove Metro Park.
URL:https://www.metroparks.net/event/pie-iron-cooking-4/
LOCATION:Scioto Grove\, 5172 Jackson Pike\, Grove City\, OH\, 43123\, United States
END:VEVENT
END:VCALENDAR