BEGIN:VCALENDAR
VERSION:2.0
PRODID:-//Metro Parks - Central Ohio Park System - ECPv6.15.16.1//NONSGML v1.0//EN
CALSCALE:GREGORIAN
METHOD:PUBLISH
X-WR-CALNAME:Metro Parks - Central Ohio Park System
X-ORIGINAL-URL:https://www.metroparks.net
X-WR-CALDESC:Events for Metro Parks - Central Ohio Park System
REFRESH-INTERVAL;VALUE=DURATION:PT1H
X-Robots-Tag:noindex
X-PUBLISHED-TTL:PT1H
BEGIN:VTIMEZONE
TZID:America/New_York
BEGIN:DAYLIGHT
TZOFFSETFROM:-0500
TZOFFSETTO:-0400
TZNAME:EDT
DTSTART:20240310T070000
END:DAYLIGHT
BEGIN:STANDARD
TZOFFSETFROM:-0400
TZOFFSETTO:-0500
TZNAME:EST
DTSTART:20241103T060000
END:STANDARD
BEGIN:DAYLIGHT
TZOFFSETFROM:-0500
TZOFFSETTO:-0400
TZNAME:EDT
DTSTART:20250309T070000
END:DAYLIGHT
BEGIN:STANDARD
TZOFFSETFROM:-0400
TZOFFSETTO:-0500
TZNAME:EST
DTSTART:20251102T060000
END:STANDARD
BEGIN:DAYLIGHT
TZOFFSETFROM:-0500
TZOFFSETTO:-0400
TZNAME:EDT
DTSTART:20260308T070000
END:DAYLIGHT
BEGIN:STANDARD
TZOFFSETFROM:-0400
TZOFFSETTO:-0500
TZNAME:EST
DTSTART:20261101T060000
END:STANDARD
END:VTIMEZONE
BEGIN:VEVENT
DTSTART;TZID=America/New_York:20250207T140000
DTEND;TZID=America/New_York:20250207T150000
DTSTAMP:20260423T181112
CREATED:20250127T142922Z
LAST-MODIFIED:20250127T142922Z
UID:10002299-1738936800-1738940400@www.metroparks.net
SUMMARY:For Adults 50+: Hobby Hour
DESCRIPTION:Join us for an indoor firelit session of hobbies and let nature spark your creativity! Bring a current project you are working on or opt for a craft provided by us! Snacks and drinks will be provided. Meet at the Cedar Ridge Lodge\, 1775 Darby Creek Dr.
URL:https://www.metroparks.net/event/for-adults-50-hobby-hour/
LOCATION:Battelle Darby Creek\, 1775 Darby Creek Drive\, Galloway\, OH\, 43119\, United States
END:VEVENT
BEGIN:VEVENT
DTSTART;TZID=America/New_York:20250207T170000
DTEND;TZID=America/New_York:20250207T183000
DTSTAMP:20260423T181112
CREATED:20250128T143317Z
LAST-MODIFIED:20250128T143317Z
UID:10002313-1738947600-1738953000@www.metroparks.net
SUMMARY:Sunset and S'mores
DESCRIPTION:Enjoy watching the sunset while eating a toasty s’more around a warm campfire at Quarry Trails Metro Park! Meet at the Basin Parking Lot\, all equipment provided. \nQuarry Trails Metro Park has several separate park entrances. The address is 2319 Quarry Trails Dr\, Columbus\, OH. This is a newly opened entrance. Please follow signage and be on the lookout for construction traffic.
URL:https://www.metroparks.net/event/sunset-and-smores-5/2025-02-07/
LOCATION:Quarry Trails\, 2600 Dublin Road\, Columbus\, OH\, 43228\, United States
ATTACH;FMTTYPE=image/jpeg:https://www.metroparks.net/wp-content/uploads/2024/12/QT-Sunset-JackRockwood-2024-06-21.jpg
END:VEVENT
END:VCALENDAR