BEGIN:VCALENDAR
VERSION:2.0
PRODID:-//Metro Parks - Central Ohio Park System - ECPv6.15.16.1//NONSGML v1.0//EN
CALSCALE:GREGORIAN
METHOD:PUBLISH
X-WR-CALNAME:Metro Parks - Central Ohio Park System
X-ORIGINAL-URL:https://www.metroparks.net
X-WR-CALDESC:Events for Metro Parks - Central Ohio Park System
REFRESH-INTERVAL;VALUE=DURATION:PT1H
X-Robots-Tag:noindex
X-PUBLISHED-TTL:PT1H
BEGIN:VTIMEZONE
TZID:America/New_York
BEGIN:DAYLIGHT
TZOFFSETFROM:-0500
TZOFFSETTO:-0400
TZNAME:EDT
DTSTART:20240310T070000
END:DAYLIGHT
BEGIN:STANDARD
TZOFFSETFROM:-0400
TZOFFSETTO:-0500
TZNAME:EST
DTSTART:20241103T060000
END:STANDARD
BEGIN:DAYLIGHT
TZOFFSETFROM:-0500
TZOFFSETTO:-0400
TZNAME:EDT
DTSTART:20250309T070000
END:DAYLIGHT
BEGIN:STANDARD
TZOFFSETFROM:-0400
TZOFFSETTO:-0500
TZNAME:EST
DTSTART:20251102T060000
END:STANDARD
BEGIN:DAYLIGHT
TZOFFSETFROM:-0500
TZOFFSETTO:-0400
TZNAME:EDT
DTSTART:20260308T070000
END:DAYLIGHT
BEGIN:STANDARD
TZOFFSETFROM:-0400
TZOFFSETTO:-0500
TZNAME:EST
DTSTART:20261101T060000
END:STANDARD
END:VTIMEZONE
BEGIN:VEVENT
DTSTART;TZID=America/New_York:20250209T110000
DTEND;TZID=America/New_York:20250209T160000
DTSTAMP:20260425T064256
CREATED:20250121T174920Z
LAST-MODIFIED:20250121T174920Z
UID:10002270-1739098800-1739116800@www.metroparks.net
SUMMARY:Annual Quilt Show
DESCRIPTION:View quilts\, wall hangings\, and quilted items with a “flora and fauna” theme made by the Columbus Metropolitan Quilters. Members will be available to answer questions on Saturdays and Sundays. The exhibit can be viewed when Innis House is open\, Tuesday-Friday 8am-4:30pm and weekends 11am-4pm.
URL:https://www.metroparks.net/event/annual-quilt-show/2025-02-09/
LOCATION:Innis House\, 940 S Hempstead Road\, Westerville\, OH\, 43081\, United States
END:VEVENT
BEGIN:VEVENT
DTSTART;TZID=America/New_York:20250209T140000
DTEND;TZID=America/New_York:20250209T150000
DTSTAMP:20260425T064256
CREATED:20250130T143153Z
LAST-MODIFIED:20250130T143153Z
UID:10002360-1739109600-1739113200@www.metroparks.net
SUMMARY:For Adults 50+: Beat The Winter Blues
DESCRIPTION:Join drum circle facilitator Iggy Garcia for a freestyle drumming program. Drums and percussion instruments will be available or bring your own. No drumming or musical experience necessary. All are welcome to play or enjoy watching and feeling the rhythm of the group. The drum circle is beginner friendly and informal and you may come and go at any time during the program.\nFrom Iggy: Together in the drum circle we will open up the space for all kinds of rhythmic beats to unfold in a magical harmonious way! It’s a great way to charge yourself up with positive energy and good vibrations. \nMeet at the Highbanks Nature Center Multi Purpose Room.
URL:https://www.metroparks.net/event/for-adults-50-beat-the-winter-blues/
LOCATION:Highbanks\, 9466 Columbus Pike (US Rt 23 N)\, Lewis Center\, OH\, 43035\, United States
END:VEVENT
BEGIN:VEVENT
DTSTART;TZID=America/New_York:20250209T140000
DTEND;TZID=America/New_York:20250209T150000
DTSTAMP:20260425T064256
CREATED:20250121T180325Z
LAST-MODIFIED:20250121T180325Z
UID:10002279-1739109600-1739113200@www.metroparks.net
SUMMARY:For Adults Only: Felt Bird Craft
DESCRIPTION:Chase away the winter blahs with a cheery felt bird craft! We provide all of the supplies. No sewing experience necessary; we will use hot glue\, needle & embroidery floss and scissors for assembly.
URL:https://www.metroparks.net/event/for-adults-only-felt-bird-craft/
LOCATION:Blendon Woods\, 4265 E Dublin Granville Road\, Columbus\, 43081\, United States
END:VEVENT
BEGIN:VEVENT
DTSTART;TZID=America/New_York:20250210T090000
DTEND;TZID=America/New_York:20250210T093000
DTSTAMP:20260425T064256
CREATED:20250127T143451Z
LAST-MODIFIED:20250127T143451Z
UID:10002306-1739178000-1739179800@www.metroparks.net
SUMMARY:Run With a Ranger
DESCRIPTION:Meet at the Kingfisher Shelter and come on a 1.5 Mile run with a Ranger! \nUse the address 2319 Quarry Trails Drive Columbus OH 43228 and follow the roadway back to the lake area parking lot.
URL:https://www.metroparks.net/event/run-with-a-ranger/
LOCATION:Quarry Trails\, 2600 Dublin Road\, Columbus\, OH\, 43228\, United States
END:VEVENT
BEGIN:VEVENT
DTSTART;TZID=America/New_York:20250210T100000
DTEND;TZID=America/New_York:20250210T113000
DTSTAMP:20260425T064256
CREATED:20250128T143743Z
LAST-MODIFIED:20250128T143743Z
UID:10002315-1739181600-1739187000@www.metroparks.net
SUMMARY:50+ Off-trail Hike
DESCRIPTION:Enjoy an off-trail hike through Slate Run Metro Park! Meet at the Buzzards Roost Picnic area. We will be hiking over uneven and unimproved terrain\, with steep incline. Hiking boots and trekking poles are recommended.
URL:https://www.metroparks.net/event/50-off-trail-hike/
LOCATION:Slate Run Park\, 1375 St. Rte. 674 North\, Canal Winchester\, 43110\, United States
END:VEVENT
BEGIN:VEVENT
DTSTART;TZID=America/New_York:20250210T140000
DTEND;TZID=America/New_York:20250210T153000
DTSTAMP:20260425T064256
CREATED:20250128T143917Z
LAST-MODIFIED:20250128T143917Z
UID:10002316-1739196000-1739201400@www.metroparks.net
SUMMARY:Trail Running
DESCRIPTION:Join us for a beginner-friendly intermittent trail run. We will have intervals of walking and running\, perfect for adventurers who want to try trail running! Wear comfortable shoes with treads and bring hydration. We will be trail running on the Benua loop\, a moderate 1.9 mile trail with some elevation change. Meet at the Park Office\, please keep in mind that the Park Office is a 10-minute drive from the entrance of the park. You may lose cell service upon entering the park so please plan accordingly.
URL:https://www.metroparks.net/event/trail-running-2/
LOCATION:Clear Creek\, 185 Clear Creek Road\, Lancaster\, OH\, 43130\, United States
END:VEVENT
BEGIN:VEVENT
DTSTART;TZID=America/New_York:20250211T173000
DTEND;TZID=America/New_York:20250211T190000
DTSTAMP:20260425T064256
CREATED:20250128T143956Z
LAST-MODIFIED:20250128T144223Z
UID:10002317-1739295000-1739300400@www.metroparks.net
SUMMARY:Galentine's Day Archery and S'mores
DESCRIPTION:Enjoy Galentine’s Day with Archery\, while getting the chance to enjoy a s’more around the campfire at Blacklick Woods Golf Course! Archery is for ages 8+. All other activities are open for all ages! Free and fun\, all equipment provided
URL:https://www.metroparks.net/event/galentines-day-archery-and-smores/
LOCATION:Blacklick Woods Golf Course\, 7309 E Livingston Ave\, Reynoldsburg\, OH\, 43068\, United States
END:VEVENT
BEGIN:VEVENT
DTSTART;TZID=America/New_York:20250212T100000
DTEND;TZID=America/New_York:20250212T110000
DTSTAMP:20260425T064256
CREATED:20250130T135129Z
LAST-MODIFIED:20250130T135129Z
UID:10002336-1739354400-1739358000@www.metroparks.net
SUMMARY:Preschoolers: Owls
DESCRIPTION:Learn about owls through a story\, activity and a craft.
URL:https://www.metroparks.net/event/preschoolers-owls/2025-02-12/1/
LOCATION:Blacklick Woods\, 6975 East Livingston Ave\, Reynoldsburg\, OH\, 43068\, United States
END:VEVENT
BEGIN:VEVENT
DTSTART;TZID=America/New_York:20250212T130000
DTEND;TZID=America/New_York:20250212T140000
DTSTAMP:20260425T064256
CREATED:20250130T135129Z
LAST-MODIFIED:20250130T135129Z
UID:10002337-1739365200-1739368800@www.metroparks.net
SUMMARY:Preschoolers: Owls
DESCRIPTION:Learn about owls through a story\, activity and a craft.
URL:https://www.metroparks.net/event/preschoolers-owls/2025-02-12/2/
LOCATION:Blacklick Woods\, 6975 East Livingston Ave\, Reynoldsburg\, OH\, 43068\, United States
END:VEVENT
BEGIN:VEVENT
DTSTART;TZID=America/New_York:20250212T170000
DTEND;TZID=America/New_York:20250212T190000
DTSTAMP:20260425T064256
CREATED:20250130T143633Z
LAST-MODIFIED:20250130T143633Z
UID:10002362-1739379600-1739386800@www.metroparks.net
SUMMARY:Full Moon Hike
DESCRIPTION:Take a brisk 4-mile hike through forests and fields. Meet us at the Ranger Station\, 1775 Darby Creek Drive.
URL:https://www.metroparks.net/event/full-moon-hike-16/
LOCATION:Battelle Darby Creek\, 1775 Darby Creek Drive\, Galloway\, OH\, 43119\, United States
END:VEVENT
BEGIN:VEVENT
DTSTART;TZID=America/New_York:20250212T173000
DTEND;TZID=America/New_York:20250212T183000
DTSTAMP:20260425T064256
CREATED:20250128T143158Z
LAST-MODIFIED:20250128T143158Z
UID:10002311-1739381400-1739385000@www.metroparks.net
SUMMARY:Campfire Cooking
DESCRIPTION:Join us for a meal around the campfire at Quarry Trails! All materials and equipment will be provided\, free and fun! Meet at the lower sled hill parking lot. Use address 2600 Dublin Rd.
URL:https://www.metroparks.net/event/campfire-cooking-3/2025-02-12/
LOCATION:Quarry Trails\, 2600 Dublin Road\, Columbus\, OH\, 43228\, United States
END:VEVENT
BEGIN:VEVENT
DTSTART;TZID=America/New_York:20250214T093000
DTEND;TZID=America/New_York:20250214T103000
DTSTAMP:20260425T064256
CREATED:20250130T135755Z
LAST-MODIFIED:20250130T135755Z
UID:10002339-1739525400-1739529000@www.metroparks.net
SUMMARY:Preschool: Whooo Loves Owls
DESCRIPTION:Learn about owls through story\, activities\, and a cute heart-shaped craft. Best for ages 3-5.
URL:https://www.metroparks.net/event/preschool-whooo-loves-owls/2025-02-14/1/
LOCATION:Battelle Darby Creek\, 1775 Darby Creek Drive\, Galloway\, OH\, 43119\, United States
ATTACH;FMTTYPE=image/jpeg:https://www.metroparks.net/wp-content/uploads/2019/03/gallery-spring-INN-barred-owl-CherylBlair.jpg
END:VEVENT
BEGIN:VEVENT
DTSTART;TZID=America/New_York:20250214T100000
DTEND;TZID=America/New_York:20250214T110000
DTSTAMP:20260425T064256
CREATED:20250128T145755Z
LAST-MODIFIED:20250128T145755Z
UID:10002330-1739527200-1739530800@www.metroparks.net
SUMMARY:Morning Lake Hike!
DESCRIPTION:Enjoy the beauty of the lakes in the morning sunlight\, as we hike around Prairie Oaks Metro Park. We will hike approx. 2-miles on easy to moderate trails. Meet at the Lake 3 parking lot (near the restroom) at Darby Bend Lakes\, 2755 Amity Rd.
URL:https://www.metroparks.net/event/morning-lake-hike/
LOCATION:Prairie Oaks\, 3225 Plain City-Georgesville Road\, West Jefferson\, OH\, 43162\, United States
END:VEVENT
BEGIN:VEVENT
DTSTART;TZID=America/New_York:20250214T100000
DTEND;TZID=America/New_York:20250214T130000
DTSTAMP:20260425T064256
CREATED:20250130T135546Z
LAST-MODIFIED:20250130T135546Z
UID:10002338-1739527200-1739538000@www.metroparks.net
SUMMARY:Valentine's Day Hike
DESCRIPTION:Fall in love with the trails on a guided hike. Choose from two distances\, 4 or 6-miles. Both hikes will start together. Trails at Clear Creek are rugged and steep. Be prepared for elevation gain and a moderate pace. Meet at the Creekside Meadows Parking Lot: 23833 Clear Creek Road\, Rockbridge (39.589033\, -82.577590).
URL:https://www.metroparks.net/event/valentines-day-hike/
LOCATION:Clear Creek\, 185 Clear Creek Road\, Lancaster\, OH\, 43130\, United States
END:VEVENT
BEGIN:VEVENT
DTSTART;TZID=America/New_York:20250214T100000
DTEND;TZID=America/New_York:20250214T160000
DTSTAMP:20260425T064256
CREATED:20250130T135936Z
LAST-MODIFIED:20250130T135936Z
UID:10002341-1739527200-1739548800@www.metroparks.net
SUMMARY:Heart Healthy Walk
DESCRIPTION:Take a stroll around the farm grounds to learn facts about the wonders of human and animal hearts. Enjoy a winter visit with the animals.
URL:https://www.metroparks.net/event/heart-healthy-walk-2/2025-02-14/
LOCATION:Slate Run Living Historical Farm\, 1375 OH-674\, Canal Winchester\, OH\, 43110\, United States
END:VEVENT
BEGIN:VEVENT
DTSTART;TZID=America/New_York:20250214T100000
DTEND;TZID=America/New_York:20250214T160000
DTSTAMP:20260425T064256
CREATED:20250130T134942Z
LAST-MODIFIED:20250130T134942Z
UID:10002333-1739527200-1739548800@www.metroparks.net
SUMMARY:Victorian Valentines
DESCRIPTION:Stop by the farmhouse and create your own Victorian valentine.
URL:https://www.metroparks.net/event/victorian-valentines/2025-02-14/
LOCATION:Slate Run Living Historical Farm\, 1375 OH-674\, Canal Winchester\, OH\, 43110\, United States
END:VEVENT
BEGIN:VEVENT
DTSTART;TZID=America/New_York:20250214T110000
DTEND;TZID=America/New_York:20250214T120000
DTSTAMP:20260425T064256
CREATED:20250130T135755Z
LAST-MODIFIED:20250130T135755Z
UID:10002340-1739530800-1739534400@www.metroparks.net
SUMMARY:Preschool: Whooo Loves Owls
DESCRIPTION:Learn about owls through story\, activities\, and a cute heart-shaped craft. Best for ages 3-5.
URL:https://www.metroparks.net/event/preschool-whooo-loves-owls/2025-02-14/2/
LOCATION:Battelle Darby Creek\, 1775 Darby Creek Drive\, Galloway\, OH\, 43119\, United States
ATTACH;FMTTYPE=image/jpeg:https://www.metroparks.net/wp-content/uploads/2019/03/gallery-spring-INN-barred-owl-CherylBlair.jpg
END:VEVENT
BEGIN:VEVENT
DTSTART;TZID=America/New_York:20250214T170000
DTEND;TZID=America/New_York:20250214T180000
DTSTAMP:20260425T064256
CREATED:20250127T143124Z
LAST-MODIFIED:20250127T143124Z
UID:10002302-1739552400-1739556000@www.metroparks.net
SUMMARY:Valentine's Day Bird Food Craft
DESCRIPTION:Meet at the lobby and make a heart shaped bird food craft to take home. All supplies provided. \nUse the address 2600 Dublin Rd Columbus OH 43228 and follow the roadway towards the dog park. When the road forces you to turn left the Park office will be on your left. Additional parking available at the dog park.
URL:https://www.metroparks.net/event/valentines-day-bird-food-craft/
LOCATION:Quarry Trails\, 2600 Dublin Road\, Columbus\, OH\, 43228\, United States
END:VEVENT
BEGIN:VEVENT
DTSTART;TZID=America/New_York:20250214T173000
DTEND;TZID=America/New_York:20250214T193000
DTSTAMP:20260425T064256
CREATED:20250121T180530Z
LAST-MODIFIED:20250121T180530Z
UID:10002282-1739554200-1739561400@www.metroparks.net
SUMMARY:For Adults: Wildlife Date Night
DESCRIPTION:Love is in the air here at Homestead! Grab your special someone and join us for an evening of live animals\, refreshments\, crafts\, and trivia! We will raffle off artwork done by our animal ambassadors\, making the perfect Valentines’ gift!\nThis program is geared for ages 18+. Meet at the Lakeside Pavilion\, our enclosed shelter. The pavilion will be heated with open fires\, but please dress warmly\, as the building is not insulated.
URL:https://www.metroparks.net/event/for-adults-wildlife-date-night/
LOCATION:Homestead\, 4675 Cosgray Road\, Hilliard\, OH\, 43026\, United States
END:VEVENT
END:VCALENDAR