BEGIN:VCALENDAR
VERSION:2.0
PRODID:-//Metro Parks - Central Ohio Park System - ECPv6.15.16.1//NONSGML v1.0//EN
CALSCALE:GREGORIAN
METHOD:PUBLISH
X-WR-CALNAME:Metro Parks - Central Ohio Park System
X-ORIGINAL-URL:https://www.metroparks.net
X-WR-CALDESC:Events for Metro Parks - Central Ohio Park System
REFRESH-INTERVAL;VALUE=DURATION:PT1H
X-Robots-Tag:noindex
X-PUBLISHED-TTL:PT1H
BEGIN:VTIMEZONE
TZID:America/New_York
BEGIN:DAYLIGHT
TZOFFSETFROM:-0500
TZOFFSETTO:-0400
TZNAME:EDT
DTSTART:20240310T070000
END:DAYLIGHT
BEGIN:STANDARD
TZOFFSETFROM:-0400
TZOFFSETTO:-0500
TZNAME:EST
DTSTART:20241103T060000
END:STANDARD
BEGIN:DAYLIGHT
TZOFFSETFROM:-0500
TZOFFSETTO:-0400
TZNAME:EDT
DTSTART:20250309T070000
END:DAYLIGHT
BEGIN:STANDARD
TZOFFSETFROM:-0400
TZOFFSETTO:-0500
TZNAME:EST
DTSTART:20251102T060000
END:STANDARD
BEGIN:DAYLIGHT
TZOFFSETFROM:-0500
TZOFFSETTO:-0400
TZNAME:EDT
DTSTART:20260308T070000
END:DAYLIGHT
BEGIN:STANDARD
TZOFFSETFROM:-0400
TZOFFSETTO:-0500
TZNAME:EST
DTSTART:20261101T060000
END:STANDARD
END:VTIMEZONE
BEGIN:VEVENT
DTSTART;TZID=America/New_York:20250215T130000
DTEND;TZID=America/New_York:20250215T140000
DTSTAMP:20260425T064153
CREATED:20250128T145850Z
LAST-MODIFIED:20250128T145850Z
UID:10002331-1739624400-1739628000@www.metroparks.net
SUMMARY:Adventure 101: Fire Building
DESCRIPTION:Our “Adventure 101” educational series includes everything from guest speakers to interactive outdoor skill lessons! Participants are encouraged to take notes and ask questions\nJoin us for an in-depth & hands on interactive class focused on campfires! Everything from different ways to build the perfect burn\, to types of fire starters that we recommend. Come with questions and topics for us to talk about\, meet at the arrowhead picnic area at Scioto Grove Metro Park.
URL:https://www.metroparks.net/event/adventure-101-fire-building/
LOCATION:Scioto Grove\, 5172 Jackson Pike\, Grove City\, OH\, 43123\, United States
END:VEVENT
BEGIN:VEVENT
DTSTART;TZID=America/New_York:20250215T140000
DTEND;TZID=America/New_York:20250215T150000
DTSTAMP:20260425T064153
CREATED:20250130T143834Z
LAST-MODIFIED:20250130T143834Z
UID:10002363-1739628000-1739631600@www.metroparks.net
SUMMARY:For Adults: Valentine's Hike
DESCRIPTION:February is known as the month of love and it’s not just humans that are caught by Cupid’s arrows. Join us for a hike through the Nature Preserve as we look for and learn about how animals show their love.
URL:https://www.metroparks.net/event/for-adults-valentines-hike/
LOCATION:Blacklick Woods\, 6975 East Livingston Ave\, Reynoldsburg\, OH\, 43068\, United States
END:VEVENT
BEGIN:VEVENT
DTSTART;TZID=America/New_York:20250215T140000
DTEND;TZID=America/New_York:20250215T150000
DTSTAMP:20260425T064153
CREATED:20250121T180658Z
LAST-MODIFIED:20250121T180658Z
UID:10002283-1739628000-1739631600@www.metroparks.net
SUMMARY:Conifer ID
DESCRIPTION:Learn the basics of identifying conifers and get to know some of Inniswood’s evergreens.
URL:https://www.metroparks.net/event/conifer-id/
LOCATION:Inniswood Metro Gardens\, 940 S. Hempstead Rd.\, Westerville\, OH\, 43081\, United States
END:VEVENT
END:VCALENDAR