BEGIN:VCALENDAR
VERSION:2.0
PRODID:-//Metro Parks - Central Ohio Park System - ECPv6.15.16.1//NONSGML v1.0//EN
CALSCALE:GREGORIAN
METHOD:PUBLISH
X-WR-CALNAME:Metro Parks - Central Ohio Park System
X-ORIGINAL-URL:https://www.metroparks.net
X-WR-CALDESC:Events for Metro Parks - Central Ohio Park System
REFRESH-INTERVAL;VALUE=DURATION:PT1H
X-Robots-Tag:noindex
X-PUBLISHED-TTL:PT1H
BEGIN:VTIMEZONE
TZID:America/New_York
BEGIN:DAYLIGHT
TZOFFSETFROM:-0500
TZOFFSETTO:-0400
TZNAME:EDT
DTSTART:20240310T070000
END:DAYLIGHT
BEGIN:STANDARD
TZOFFSETFROM:-0400
TZOFFSETTO:-0500
TZNAME:EST
DTSTART:20241103T060000
END:STANDARD
BEGIN:DAYLIGHT
TZOFFSETFROM:-0500
TZOFFSETTO:-0400
TZNAME:EDT
DTSTART:20250309T070000
END:DAYLIGHT
BEGIN:STANDARD
TZOFFSETFROM:-0400
TZOFFSETTO:-0500
TZNAME:EST
DTSTART:20251102T060000
END:STANDARD
BEGIN:DAYLIGHT
TZOFFSETFROM:-0500
TZOFFSETTO:-0400
TZNAME:EDT
DTSTART:20260308T070000
END:DAYLIGHT
BEGIN:STANDARD
TZOFFSETFROM:-0400
TZOFFSETTO:-0500
TZNAME:EST
DTSTART:20261101T060000
END:STANDARD
END:VTIMEZONE
BEGIN:VEVENT
DTSTART;TZID=America/New_York:20250221T110000
DTEND;TZID=America/New_York:20250221T120000
DTSTAMP:20260424T094118
CREATED:20250130T141028Z
LAST-MODIFIED:20250130T141028Z
UID:10002349-1740135600-1740139200@www.metroparks.net
SUMMARY:Wild Wetland Walk
DESCRIPTION:Muskrats\, coyotes\, owls and salamanders. Discover more about the elusive animals that also live in the wetlands. Trail less than a mile of wet or muddy grass- boots recommended. Wet Prairie\, 1378 Darby Creek Dr.
URL:https://www.metroparks.net/event/wild-wetland-walk/
LOCATION:Battelle Darby Creek\, 1775 Darby Creek Drive\, Galloway\, OH\, 43119\, United States
END:VEVENT
BEGIN:VEVENT
DTSTART;TZID=America/New_York:20250222T100000
DTEND;TZID=America/New_York:20250222T113000
DTSTAMP:20260424T094118
CREATED:20250130T141313Z
LAST-MODIFIED:20250130T141313Z
UID:10002351-1740218400-1740223800@www.metroparks.net
SUMMARY:Fly Tying for Beginners
DESCRIPTION:Get a head start on fly fishing season by learning how to tie your own flies. All supplies provided. Meet at the New Maintenance Shop\, 24920 Clear Creek Road\, Rockbridge (39.59755\,-82.55418).
URL:https://www.metroparks.net/event/fly-tying-for-beginners-2/
LOCATION:Clear Creek\, 185 Clear Creek Road\, Lancaster\, OH\, 43130\, United States
ATTACH;FMTTYPE=image/jpeg:https://www.metroparks.net/wp-content/uploads/2024/04/1200px_fly-fishing_for-HBK-activities_John-Nixon.jpg
END:VEVENT
BEGIN:VEVENT
DTSTART;TZID=America/New_York:20250222T110000
DTEND;TZID=America/New_York:20250222T120000
DTSTAMP:20260424T094118
CREATED:20250127T143338Z
LAST-MODIFIED:20250127T143338Z
UID:10002304-1740222000-1740225600@www.metroparks.net
SUMMARY:For Adults 50+: Looking Back- Day Camps
DESCRIPTION:Take a 2-mile hike and discover some of the ways certain areas of the park were used in the past. Meet at the Little Darby Picnic Area\, 3711 Gardner Rd.
URL:https://www.metroparks.net/event/for-adults-50-looking-back-day-camps/
LOCATION:Battelle Darby Creek\, 1775 Darby Creek Drive\, Galloway\, OH\, 43119\, United States
END:VEVENT
BEGIN:VEVENT
DTSTART;TZID=America/New_York:20250222T110000
DTEND;TZID=America/New_York:20250222T120000
DTSTAMP:20260424T094118
CREATED:20250121T181431Z
LAST-MODIFIED:20250121T181431Z
UID:10002293-1740222000-1740225600@www.metroparks.net
SUMMARY:For Families: Skunk Cabbage Hike
DESCRIPTION:Search for the first signs of spring as we hike 2 miles off trail to look for this early blooming plant. Prepare for mud!
URL:https://www.metroparks.net/event/for-families-skunk-cabbage-hike/
LOCATION:Blendon Woods\, 4265 E Dublin Granville Road\, Columbus\, 43081\, United States
ATTACH;FMTTYPE=image/jpeg:https://www.metroparks.net/wp-content/uploads/2022/03/BLN_Skunk-cabbage-with-flower-showing-off-trail-in-park_March_Patrick-Kelly.jpg
END:VEVENT
BEGIN:VEVENT
DTSTART;TZID=America/New_York:20250222T130000
DTEND;TZID=America/New_York:20250222T150000
DTSTAMP:20260424T094118
CREATED:20250130T141441Z
LAST-MODIFIED:20250206T155005Z
UID:10002352-1740229200-1740236400@www.metroparks.net
SUMMARY:Maple Time
DESCRIPTION:Program on going from 1am – 3pm. Take a short hike through the sugarbush to learn about tapping trees and collecting sap\, then go to the Farmhouse to watch sap boiling and sample a sweet maple treat.\nHikes leave at 1:15 am and 2pm from the Farmhouse. If needed\, additional hikes will be available.\nSap flow is dependent on weather conditions\, all other activities will take place.
URL:https://www.metroparks.net/event/maple-time-4/2025-02-22/
LOCATION:Slate Run Living Historical Farm\, 1375 OH-674\, Canal Winchester\, OH\, 43110\, United States
ATTACH;FMTTYPE=image/jpeg:https://www.metroparks.net/wp-content/uploads/2020/02/Shepherd-Larry-Maple-Syrup-Time-SRF-1080p.jpg
END:VEVENT
BEGIN:VEVENT
DTSTART;TZID=America/New_York:20250222T180000
DTEND;TZID=America/New_York:20250222T190000
DTSTAMP:20260424T094118
CREATED:20250121T181353Z
LAST-MODIFIED:20250121T181353Z
UID:10002292-1740247200-1740250800@www.metroparks.net
SUMMARY:Owl Prowl
DESCRIPTION:We’ll learn some owl basics then go on a short\, quiet walk to try to call in and observe our resident barred owls. We hear and see owls often but this is not guaranteed (especially in windy or bad weather). Appropriate for patient folks of all ages. No pets\, please. Meets at the Three Creeks Confluence Area bulletin board\, 3860 Bixby Rd\, Groveport
URL:https://www.metroparks.net/event/owl-prowl-6/
LOCATION:Three Creeks\, 3860 Bixby Road\, Groveport\, OH\, 43125\, United States
ATTACH;FMTTYPE=image/jpeg:https://www.metroparks.net/wp-content/uploads/2020/02/Zimmermann-Scott-Barred-Owl-in-Tree-BLK-1080p.jpg
END:VEVENT
BEGIN:VEVENT
DTSTART;TZID=America/New_York:20250223T090000
DTEND;TZID=America/New_York:20250223T110000
DTSTAMP:20260424T094118
CREATED:20250121T174001Z
LAST-MODIFIED:20250121T174001Z
UID:10002260-1740301200-1740308400@www.metroparks.net
SUMMARY:Coffee & Birds
DESCRIPTION:Drop by to enjoy a warm cup and beautiful birds at our viewing windows.
URL:https://www.metroparks.net/event/coffee-birds-3/2025-02-23/
LOCATION:Blendon Woods\, 4265 E Dublin Granville Road\, Columbus\, 43081\, United States
ATTACH;FMTTYPE=image/jpeg:https://www.metroparks.net/wp-content/uploads/2020/04/gray-catbird_Feb_WAL_M-McConnell-scaled.jpg
END:VEVENT
BEGIN:VEVENT
DTSTART;TZID=America/New_York:20250223T110000
DTEND;TZID=America/New_York:20250223T150000
DTSTAMP:20260424T094118
CREATED:20241023T151345Z
LAST-MODIFIED:20241023T151345Z
UID:10001945-1740308400-1740322800@www.metroparks.net
SUMMARY:Winter Hike Celebration!
DESCRIPTION:Join us at Blacklick Woods Golf Course to celebrate the end of winter hikes! Collect your patches here\, and visit Friends of Metro Parks. There will be games\, food trucks\, and other activities.
URL:https://www.metroparks.net/event/winter-hike-celebration-3/
LOCATION:Blacklick Woods Golf Course\, 7309 E Livingston Ave\, Reynoldsburg\, OH\, 43068\, United States
ATTACH;FMTTYPE=image/png:https://www.metroparks.net/wp-content/uploads/2024/10/33.png
END:VEVENT
BEGIN:VEVENT
DTSTART;TZID=America/New_York:20250223T120000
DTEND;TZID=America/New_York:20250223T140000
DTSTAMP:20260424T094118
CREATED:20250121T181759Z
LAST-MODIFIED:20250121T181759Z
UID:10002297-1740312000-1740319200@www.metroparks.net
SUMMARY:Toad Abode
DESCRIPTION:Get to know all about American Toads and their humble abodes! Meet our ambassador toads\, create a craft\, and leave behind a new toad abode for the wild toads that live in the park!\nThis program is geared for ages 5-11. Meet at the pine shelter\, rain or shine!
URL:https://www.metroparks.net/event/toad-abode/
LOCATION:Homestead\, 4675 Cosgray Road\, Hilliard\, OH\, 43026\, United States
ATTACH;FMTTYPE=image/jpeg:https://www.metroparks.net/wp-content/uploads/2019/03/gallery-spring-BLN-American-toad-Dan-Bissonette.jpg
END:VEVENT
BEGIN:VEVENT
DTSTART;TZID=America/New_York:20250223T140000
DTEND;TZID=America/New_York:20250223T150000
DTSTAMP:20260424T094118
CREATED:20250121T181609Z
LAST-MODIFIED:20250121T181609Z
UID:10002295-1740319200-1740322800@www.metroparks.net
SUMMARY:House Plant Propagation
DESCRIPTION:Learn easy ways to multiply your own plants and turn your home into a houseplant haven. Meet in the Greenhouse Multipurpose Center.
URL:https://www.metroparks.net/event/house-plant-propagation/
LOCATION:Inniswood Metro Gardens\, 940 S. Hempstead Rd.\, Westerville\, OH\, 43081\, United States
END:VEVENT
BEGIN:VEVENT
DTSTART;TZID=America/New_York:20250223T140000
DTEND;TZID=America/New_York:20250223T153000
DTSTAMP:20260424T094118
CREATED:20250121T181519Z
LAST-MODIFIED:20250121T181519Z
UID:10002294-1740319200-1740324600@www.metroparks.net
SUMMARY:Winter Tree ID Walk
DESCRIPTION:Discover the fun and challenges of learning to identify trees in winter on an easy 1-mile walk. Meets at Three Creeks Confluence Area bulletin board\, 3860 Bixby Rd\, Groveport.
URL:https://www.metroparks.net/event/winter-tree-id-walk-2/
LOCATION:Three Creeks\, 3860 Bixby Road\, Groveport\, OH\, 43125\, United States
END:VEVENT
BEGIN:VEVENT
DTSTART;TZID=America/New_York:20250223T150000
DTEND;TZID=America/New_York:20250223T160000
DTSTAMP:20260424T094118
CREATED:20250121T181638Z
LAST-MODIFIED:20250121T181638Z
UID:10002296-1740322800-1740326400@www.metroparks.net
SUMMARY:Strange Serpents
DESCRIPTION:Learn all about snakes\, bust some myths\, and meet some slithery friends.
URL:https://www.metroparks.net/event/strange-serpents-2/
LOCATION:Blendon Woods\, 4265 E Dublin Granville Road\, Columbus\, 43081\, United States
END:VEVENT
END:VCALENDAR