BEGIN:VCALENDAR
VERSION:2.0
PRODID:-//Metro Parks - Central Ohio Park System - ECPv6.15.16.1//NONSGML v1.0//EN
CALSCALE:GREGORIAN
METHOD:PUBLISH
X-WR-CALNAME:Metro Parks - Central Ohio Park System
X-ORIGINAL-URL:https://www.metroparks.net
X-WR-CALDESC:Events for Metro Parks - Central Ohio Park System
REFRESH-INTERVAL;VALUE=DURATION:PT1H
X-Robots-Tag:noindex
X-PUBLISHED-TTL:PT1H
BEGIN:VTIMEZONE
TZID:America/New_York
BEGIN:DAYLIGHT
TZOFFSETFROM:-0500
TZOFFSETTO:-0400
TZNAME:EDT
DTSTART:20240310T070000
END:DAYLIGHT
BEGIN:STANDARD
TZOFFSETFROM:-0400
TZOFFSETTO:-0500
TZNAME:EST
DTSTART:20241103T060000
END:STANDARD
BEGIN:DAYLIGHT
TZOFFSETFROM:-0500
TZOFFSETTO:-0400
TZNAME:EDT
DTSTART:20250309T070000
END:DAYLIGHT
BEGIN:STANDARD
TZOFFSETFROM:-0400
TZOFFSETTO:-0500
TZNAME:EST
DTSTART:20251102T060000
END:STANDARD
BEGIN:DAYLIGHT
TZOFFSETFROM:-0500
TZOFFSETTO:-0400
TZNAME:EDT
DTSTART:20260308T070000
END:DAYLIGHT
BEGIN:STANDARD
TZOFFSETFROM:-0400
TZOFFSETTO:-0500
TZNAME:EST
DTSTART:20261101T060000
END:STANDARD
END:VTIMEZONE
BEGIN:VEVENT
DTSTART;TZID=America/New_York:20250228T100000
DTEND;TZID=America/New_York:20250228T103000
DTSTAMP:20260425T154456
CREATED:20250121T181836Z
LAST-MODIFIED:20250121T181836Z
UID:10002298-1740736800-1740738600@www.metroparks.net
SUMMARY:Storytime
DESCRIPTION:Introduce your little one to nature through stories\, songs and large motor activities. Program held inside the Nature Center. Ages 2-5.
URL:https://www.metroparks.net/event/storytime-10/
LOCATION:Blendon Woods\, 4265 E Dublin Granville Road\, Columbus\, 43081\, United States
END:VEVENT
BEGIN:VEVENT
DTSTART;TZID=America/New_York:20250228T130000
DTEND;TZID=America/New_York:20250228T140000
DTSTAMP:20260425T154456
CREATED:20250130T144555Z
LAST-MODIFIED:20250130T144555Z
UID:10002368-1740747600-1740751200@www.metroparks.net
SUMMARY:For Adults 50+: Hike the Walter Tucker Preserve
DESCRIPTION:Take a 1.5-mile hike through the nature preserve and see what is happening as we begin to transition from winter to spring.
URL:https://www.metroparks.net/event/for-adults-50-hike-the-walter-tucker-preserve/
LOCATION:Blacklick Woods\, 6975 East Livingston Ave\, Reynoldsburg\, OH\, 43068\, United States
END:VEVENT
BEGIN:VEVENT
DTSTART;TZID=America/New_York:20250228T173000
DTEND;TZID=America/New_York:20250228T183000
DTSTAMP:20260425T154457
CREATED:20250128T143317Z
LAST-MODIFIED:20250128T143317Z
UID:10002314-1740763800-1740767400@www.metroparks.net
SUMMARY:Sunset and S'mores
DESCRIPTION:Enjoy watching the sunset while eating a toasty s’more around a warm campfire at Quarry Trails Metro Park! Meet at the Basin Parking Lot\, all equipment provided. \nQuarry Trails Metro Park has several separate park entrances. The address is 2319 Quarry Trails Dr\, Columbus\, OH. This is a newly opened entrance. Please follow signage and be on the lookout for construction traffic.
URL:https://www.metroparks.net/event/sunset-and-smores-5/2025-02-28/
LOCATION:Quarry Trails\, 2600 Dublin Road\, Columbus\, OH\, 43228\, United States
ATTACH;FMTTYPE=image/jpeg:https://www.metroparks.net/wp-content/uploads/2024/12/QT-Sunset-JackRockwood-2024-06-21.jpg
END:VEVENT
BEGIN:VEVENT
DTSTART;TZID=America/New_York:20250301T130000
DTEND;TZID=America/New_York:20250301T140000
DTSTAMP:20260425T154457
CREATED:20250224T175654Z
LAST-MODIFIED:20250224T175654Z
UID:10002418-1740834000-1740837600@www.metroparks.net
SUMMARY:Scrapbooking
DESCRIPTION:Get excited for spring as we try nature-themed scrapbooking! Scrapbooking paper\, glue\, and other decorative materials will be provided.
URL:https://www.metroparks.net/event/scrapbooking/
LOCATION:Inniswood Metro Gardens\, 940 S. Hempstead Rd.\, Westerville\, OH\, 43081\, United States
END:VEVENT
BEGIN:VEVENT
DTSTART;TZID=America/New_York:20250301T130000
DTEND;TZID=America/New_York:20250301T150000
DTSTAMP:20260425T154457
CREATED:20250130T141441Z
LAST-MODIFIED:20250206T155005Z
UID:10002369-1740834000-1740841200@www.metroparks.net
SUMMARY:Maple Time
DESCRIPTION:Program on going from 1am – 3pm. Take a short hike through the sugarbush to learn about tapping trees and collecting sap\, then go to the Farmhouse to watch sap boiling and sample a sweet maple treat.\nHikes leave at 1:15 am and 2pm from the Farmhouse. If needed\, additional hikes will be available.\nSap flow is dependent on weather conditions\, all other activities will take place.
URL:https://www.metroparks.net/event/maple-time-4/2025-03-01/
LOCATION:Slate Run Living Historical Farm\, 1375 OH-674\, Canal Winchester\, OH\, 43110\, United States
ATTACH;FMTTYPE=image/jpeg:https://www.metroparks.net/wp-content/uploads/2020/02/Shepherd-Larry-Maple-Syrup-Time-SRF-1080p.jpg
END:VEVENT
BEGIN:VEVENT
DTSTART;TZID=America/New_York:20250301T140000
DTEND;TZID=America/New_York:20250301T150000
DTSTAMP:20260425T154457
CREATED:20250221T173027Z
LAST-MODIFIED:20250221T173027Z
UID:10002411-1740837600-1740841200@www.metroparks.net
SUMMARY:Teens & Adults: Iditarod 101
DESCRIPTION:Come celebrate the ceremonial start of the 53rd Iditarod Trail Sled Dog Race and learn about the history\, the athletes\, and the traditions of this incredible sport! Indoor program. \nMeeting Location Notes: Highbanks Nature Center is the first right after entering the park. There is limited parking in the Nature Center lot on busy days. Additional parking is available in the Oak Coves Picnic Area\, a 10 minute walk from the Nature Center. Follow the paved trail through Oak Coves toward the Nature Center.
URL:https://www.metroparks.net/event/teens-adults-iditarod-101/
LOCATION:Highbanks\, 9466 Columbus Pike (US Rt 23 N)\, Lewis Center\, OH\, 43035\, United States
END:VEVENT
BEGIN:VEVENT
DTSTART;TZID=America/New_York:20250301T140000
DTEND;TZID=America/New_York:20250301T150000
DTSTAMP:20260425T154457
CREATED:20250217T134729Z
LAST-MODIFIED:20250217T134729Z
UID:10002371-1740837600-1740841200@www.metroparks.net
SUMMARY:Take a Lichen to Moss!
DESCRIPTION:Learn about mosses and lichens\, then make your own mini-habitat to take home. Ages 6+
URL:https://www.metroparks.net/event/take-a-lichen-to-moss/
LOCATION:Blendon Woods\, 4265 E Dublin Granville Road\, Columbus\, 43081\, United States
END:VEVENT
BEGIN:VEVENT
DTSTART;TZID=America/New_York:20250302T130000
DTEND;TZID=America/New_York:20250302T150000
DTSTAMP:20260425T154457
CREATED:20250130T141441Z
LAST-MODIFIED:20250206T155005Z
UID:10002370-1740920400-1740927600@www.metroparks.net
SUMMARY:Maple Time
DESCRIPTION:Program on going from 1am – 3pm. Take a short hike through the sugarbush to learn about tapping trees and collecting sap\, then go to the Farmhouse to watch sap boiling and sample a sweet maple treat.\nHikes leave at 1:15 am and 2pm from the Farmhouse. If needed\, additional hikes will be available.\nSap flow is dependent on weather conditions\, all other activities will take place.
URL:https://www.metroparks.net/event/maple-time-4/2025-03-02/
LOCATION:Slate Run Living Historical Farm\, 1375 OH-674\, Canal Winchester\, OH\, 43110\, United States
ATTACH;FMTTYPE=image/jpeg:https://www.metroparks.net/wp-content/uploads/2020/02/Shepherd-Larry-Maple-Syrup-Time-SRF-1080p.jpg
END:VEVENT
BEGIN:VEVENT
DTSTART;TZID=America/New_York:20250302T133000
DTEND;TZID=America/New_York:20250302T150000
DTSTAMP:20260425T154457
CREATED:20250226T133509Z
LAST-MODIFIED:20250226T133509Z
UID:10002434-1740922200-1740927600@www.metroparks.net
SUMMARY:For Adults 50+: Greg Miller - A Big Year
DESCRIPTION:Join Greg Miller\, Ohio Birder Extraordinaire\, as he tells stories about his big year of birding in North America in 1998. This amazing year inspired a book and a movie starring Jack Black\, Steve Martin and Owen Wilson. \n“The Big Year: A Tale of Man\, Nature\, and Fowl Obsession” by Mark Obmascik can be reserved at the Columbus Metropolitan Library in book or audiobook form. “The Big Year” movie can be reserved in DVD format at the library and is also available on several streaming platforms. \nMeet at the Grove Lodge.
URL:https://www.metroparks.net/event/for-adults-50-greg-miller-a-big-year/
LOCATION:Scioto Grove\, 5172 Jackson Pike\, Grove City\, OH\, 43123\, United States
ATTACH;FMTTYPE=image/png:https://www.metroparks.net/wp-content/uploads/2025/02/Greg-Miller-for-Online.png
END:VEVENT
BEGIN:VEVENT
DTSTART;TZID=America/New_York:20250302T140000
DTEND;TZID=America/New_York:20250302T150000
DTSTAMP:20260425T154457
CREATED:20250226T133313Z
LAST-MODIFIED:20250226T133313Z
UID:10002433-1740924000-1740927600@www.metroparks.net
SUMMARY:Secret Lives of Trees
DESCRIPTION:Join a naturalist on a 1-mile hike and learn how trees communicate with each other and how they are able to help each other out. Meet at the Ranger Station\, 1775 Darby Creek Dr.
URL:https://www.metroparks.net/event/secret-lives-of-trees/
LOCATION:Battelle Darby Creek\, 1775 Darby Creek Drive\, Galloway\, OH\, 43119\, United States
END:VEVENT
BEGIN:VEVENT
DTSTART;TZID=America/New_York:20250302T140000
DTEND;TZID=America/New_York:20250302T150000
DTSTAMP:20260425T154457
CREATED:20250217T135118Z
LAST-MODIFIED:20250217T135118Z
UID:10002372-1740924000-1740927600@www.metroparks.net
SUMMARY:Eagle Hikes
DESCRIPTION:Join us Sundays in March to check on the progress of the Bald Eagles at their nest at 100AcreWoods. HIke 1.5 mi. on flat\, primitive trail. Prepare for mud. Meet at 5225 Cambria Way.
URL:https://www.metroparks.net/event/eagle-hikes/2025-03-02/
LOCATION:100 Acre Wood\, 5280 Cambria Way\, Westerville\, Ohio\, 43081
ATTACH;FMTTYPE=image/jpeg:https://www.metroparks.net/wp-content/uploads/2020/02/eagles-in-nest_adults-and-babies_PKP_April_John-Anderson.jpg
END:VEVENT
END:VCALENDAR