BEGIN:VCALENDAR
VERSION:2.0
PRODID:-//Metro Parks - Central Ohio Park System - ECPv6.15.16.1//NONSGML v1.0//EN
CALSCALE:GREGORIAN
METHOD:PUBLISH
X-WR-CALNAME:Metro Parks - Central Ohio Park System
X-ORIGINAL-URL:https://www.metroparks.net
X-WR-CALDESC:Events for Metro Parks - Central Ohio Park System
REFRESH-INTERVAL;VALUE=DURATION:PT1H
X-Robots-Tag:noindex
X-PUBLISHED-TTL:PT1H
BEGIN:VTIMEZONE
TZID:America/New_York
BEGIN:DAYLIGHT
TZOFFSETFROM:-0500
TZOFFSETTO:-0400
TZNAME:EDT
DTSTART:20240310T070000
END:DAYLIGHT
BEGIN:STANDARD
TZOFFSETFROM:-0400
TZOFFSETTO:-0500
TZNAME:EST
DTSTART:20241103T060000
END:STANDARD
BEGIN:DAYLIGHT
TZOFFSETFROM:-0500
TZOFFSETTO:-0400
TZNAME:EDT
DTSTART:20250309T070000
END:DAYLIGHT
BEGIN:STANDARD
TZOFFSETFROM:-0400
TZOFFSETTO:-0500
TZNAME:EST
DTSTART:20251102T060000
END:STANDARD
BEGIN:DAYLIGHT
TZOFFSETFROM:-0500
TZOFFSETTO:-0400
TZNAME:EDT
DTSTART:20260308T070000
END:DAYLIGHT
BEGIN:STANDARD
TZOFFSETFROM:-0400
TZOFFSETTO:-0500
TZNAME:EST
DTSTART:20261101T060000
END:STANDARD
END:VTIMEZONE
BEGIN:VEVENT
DTSTART;TZID=America/New_York:20250310T180000
DTEND;TZID=America/New_York:20250310T190000
DTSTAMP:20260425T200056
CREATED:20250228T131334Z
LAST-MODIFIED:20250228T131334Z
UID:10002459-1741629600-1741633200@www.metroparks.net
SUMMARY:Run with a Ranger
DESCRIPTION:Meet at the Kingfisher shelter and come on a 1.5 mile run with a Ranger!\nUse address 2319 Quarry Trails Drive and follow the roadway to the lake area parking lot.
URL:https://www.metroparks.net/event/run-with-a-ranger-2/
LOCATION:Quarry Trails\, 2600 Dublin Road\, Columbus\, OH\, 43228\, United States
END:VEVENT
BEGIN:VEVENT
DTSTART;TZID=America/New_York:20250312T100000
DTEND;TZID=America/New_York:20250312T110000
DTSTAMP:20260425T200056
CREATED:20250228T163345Z
LAST-MODIFIED:20250228T163345Z
UID:10002479-1741773600-1741777200@www.metroparks.net
SUMMARY:For Adults 50+: Lake Hike
DESCRIPTION:Enjoy a hike around the lake at Prairie Oaks Metro Park! We will meet at the Lake 3 parking lot at Darby Bend Lakes. Our hike will be approx. 2-miles. Use address 2755 Amity Rd\, Hilliard OH.
URL:https://www.metroparks.net/event/for-adults-50-lake-hike/
LOCATION:Prairie Oaks\, 3225 Plain City-Georgesville Road\, West Jefferson\, OH\, 43162\, United States
END:VEVENT
BEGIN:VEVENT
DTSTART;TZID=America/New_York:20250312T100000
DTEND;TZID=America/New_York:20250312T110000
DTSTAMP:20260425T200056
CREATED:20250217T140829Z
LAST-MODIFIED:20250217T140829Z
UID:10002387-1741773600-1741777200@www.metroparks.net
SUMMARY:Preschool: Possum & Peeper
DESCRIPTION:Have fun with Opossum as he searches for the loudest frog in the forest! Story\, craft and activities.
URL:https://www.metroparks.net/event/preschool-possum-peeper/
LOCATION:Blendon Woods\, 4265 E Dublin Granville Road\, Columbus\, 43081\, United States
END:VEVENT
BEGIN:VEVENT
DTSTART;TZID=America/New_York:20250312T100000
DTEND;TZID=America/New_York:20250312T110000
DTSTAMP:20260425T200056
CREATED:20250217T140713Z
LAST-MODIFIED:20250217T140713Z
UID:10002385-1741773600-1741777200@www.metroparks.net
SUMMARY:Preschoolers: Salamanders
DESCRIPTION:Learn about these amazing amphibians through a story\, activity and a craft.
URL:https://www.metroparks.net/event/preschoolers-salamanders/2025-03-12/1/
LOCATION:Blacklick Woods\, 6975 East Livingston Ave\, Reynoldsburg\, OH\, 43068\, United States
ATTACH;FMTTYPE=image/jpeg:https://www.metroparks.net/wp-content/uploads/2021/07/SLR_red-backed-salamander_SLR_May_Andrea-Krava-scaled-1.jpg
END:VEVENT
BEGIN:VEVENT
DTSTART;TZID=America/New_York:20250312T130000
DTEND;TZID=America/New_York:20250312T140000
DTSTAMP:20260425T200056
CREATED:20250217T140713Z
LAST-MODIFIED:20250217T140713Z
UID:10002386-1741784400-1741788000@www.metroparks.net
SUMMARY:Preschoolers: Salamanders
DESCRIPTION:Learn about these amazing amphibians through a story\, activity and a craft.
URL:https://www.metroparks.net/event/preschoolers-salamanders/2025-03-12/2/
LOCATION:Blacklick Woods\, 6975 East Livingston Ave\, Reynoldsburg\, OH\, 43068\, United States
ATTACH;FMTTYPE=image/jpeg:https://www.metroparks.net/wp-content/uploads/2021/07/SLR_red-backed-salamander_SLR_May_Andrea-Krava-scaled-1.jpg
END:VEVENT
BEGIN:VEVENT
DTSTART;TZID=America/New_York:20250313T100000
DTEND;TZID=America/New_York:20250313T120000
DTSTAMP:20260425T200056
CREATED:20250221T174611Z
LAST-MODIFIED:20250221T174611Z
UID:10002414-1741860000-1741867200@www.metroparks.net
SUMMARY:Adults: Bird Friendly Forest Hike
DESCRIPTION:Aren’t all forests “bird friendly”? Not really…Take a 1-mile hike with a Highbanks naturalist to learn about the interconnectedness between forest health and bird populations\, and what you can do to help! Please be aware that the River Bluff Area trail is unimproved and can be very muddy depending on weather conditions – come dressed appropriately! Limited supply of binoculars provided. \nMeeting location notes: River Bluff area is not located at the main area Highbanks. River Bluff entrance is located off 315 on the opposite side of the river as Highbanks main park. River Bluff Area physical address: 8400 Olentangy River Road\, Columbus OH 43235 Please call Highbanks nature center 614-846-9962 for questions prior to the day of the program. Day of program\, please call Highbanks Ranger cell phone at 614-906-3149. IMPORTANT: River Bluff area does NOT have restrooms or water fountains. Please bring a water bottle. Apply insect repellent before coming to the program.
URL:https://www.metroparks.net/event/adults-bird-friendly-forest-hike/
LOCATION:Highbanks River Bluff\, 8400 Olentangy River Rd.\, Columbus\, OH\, 43235\, United States
END:VEVENT
BEGIN:VEVENT
DTSTART;TZID=America/New_York:20250313T173000
DTEND;TZID=America/New_York:20250313T183000
DTSTAMP:20260425T200056
CREATED:20250228T163454Z
LAST-MODIFIED:20250228T163454Z
UID:10002480-1741887000-1741890600@www.metroparks.net
SUMMARY:Campfire Cooking
DESCRIPTION:Join us for a meal around the campfire at Quarry Trails! All materials and equipment will be provided\, free and fun! Meet at the lower sled hill parking lot. Use address 2600 Dublin Rd.
URL:https://www.metroparks.net/event/campfire-cooking-4/
LOCATION:Quarry Trails\, 2600 Dublin Road\, Columbus\, OH\, 43228\, United States
END:VEVENT
END:VCALENDAR