BEGIN:VCALENDAR
VERSION:2.0
PRODID:-//Metro Parks - Central Ohio Park System - ECPv6.15.16.1//NONSGML v1.0//EN
CALSCALE:GREGORIAN
METHOD:PUBLISH
X-WR-CALNAME:Metro Parks - Central Ohio Park System
X-ORIGINAL-URL:https://www.metroparks.net
X-WR-CALDESC:Events for Metro Parks - Central Ohio Park System
REFRESH-INTERVAL;VALUE=DURATION:PT1H
X-Robots-Tag:noindex
X-PUBLISHED-TTL:PT1H
BEGIN:VTIMEZONE
TZID:America/New_York
BEGIN:DAYLIGHT
TZOFFSETFROM:-0500
TZOFFSETTO:-0400
TZNAME:EDT
DTSTART:20240310T070000
END:DAYLIGHT
BEGIN:STANDARD
TZOFFSETFROM:-0400
TZOFFSETTO:-0500
TZNAME:EST
DTSTART:20241103T060000
END:STANDARD
BEGIN:DAYLIGHT
TZOFFSETFROM:-0500
TZOFFSETTO:-0400
TZNAME:EDT
DTSTART:20250309T070000
END:DAYLIGHT
BEGIN:STANDARD
TZOFFSETFROM:-0400
TZOFFSETTO:-0500
TZNAME:EST
DTSTART:20251102T060000
END:STANDARD
BEGIN:DAYLIGHT
TZOFFSETFROM:-0500
TZOFFSETTO:-0400
TZNAME:EDT
DTSTART:20260308T070000
END:DAYLIGHT
BEGIN:STANDARD
TZOFFSETFROM:-0400
TZOFFSETTO:-0500
TZNAME:EST
DTSTART:20261101T060000
END:STANDARD
END:VTIMEZONE
BEGIN:VEVENT
DTSTART;TZID=America/New_York:20250322T150000
DTEND;TZID=America/New_York:20250322T160000
DTSTAMP:20260426T002151
CREATED:20250217T141837Z
LAST-MODIFIED:20250217T141837Z
UID:10002396-1742655600-1742659200@www.metroparks.net
SUMMARY:For Kids: Nature Journals
DESCRIPTION:Construct a nature journal of your own and learn how to use it to enrich your time in nature.
URL:https://www.metroparks.net/event/for-kids-nature-journals-2/
LOCATION:Blacklick Woods\, 6975 East Livingston Ave\, Reynoldsburg\, OH\, 43068\, United States
END:VEVENT
BEGIN:VEVENT
DTSTART;TZID=America/New_York:20250322T150000
DTEND;TZID=America/New_York:20250322T170000
DTSTAMP:20260426T002151
CREATED:20250221T175030Z
LAST-MODIFIED:20250221T175030Z
UID:10002417-1742655600-1742662800@www.metroparks.net
SUMMARY:Welcome to Spring Event
DESCRIPTION:Stop by the nature center between 3-5 pm to take part in some spring family fun! Enjoy spring crafts and games\, scavengers in and outside the nature center\, and a campfire and s’mores. All ages. \nMeeting Location Notes: Highbanks Nature Center is the first right after entering the park. There is limited parking in the Nature Center lot on busy days. Additional parking is available in the Oak Coves Picnic Area\, a 10 minute walk from the Nature Center. Follow the paved trail through Oak Coves toward the Nature Center.
URL:https://www.metroparks.net/event/welcome-to-spring-event/
LOCATION:Highbanks\, 9466 Columbus Pike (US Rt 23 N)\, Lewis Center\, OH\, 43035\, United States
END:VEVENT
BEGIN:VEVENT
DTSTART;TZID=America/New_York:20250323T110000
DTEND;TZID=America/New_York:20250323T140000
DTSTAMP:20260426T002151
CREATED:20250307T160013Z
LAST-MODIFIED:20250307T160013Z
UID:10002493-1742727600-1742738400@www.metroparks.net
SUMMARY:Metrological Day
DESCRIPTION:Stop by and celebrate the science of Metrology by doing some simple weather related experiments.
URL:https://www.metroparks.net/event/metrological-day/
LOCATION:Sharon Woods\, 6911 Cleveland Ave.\, Columbus\, OH\, 43081\, United States
END:VEVENT
BEGIN:VEVENT
DTSTART;TZID=America/New_York:20250323T130000
DTEND;TZID=America/New_York:20250323T140000
DTSTAMP:20260426T002151
CREATED:20250217T142029Z
LAST-MODIFIED:20250226T153921Z
UID:10002398-1742734800-1742738400@www.metroparks.net
SUMMARY:For Adults: Science Sundays - Sustainability
DESCRIPTION:Join Amy Densborn from Solid Waste Authority of Central Ohio (SWACO) as we learn about how we can incorporate sustainability practices into our daily lives to preserve natural resources for future generations. Meet at Beech Maple Lodge.
URL:https://www.metroparks.net/event/for-adults-science-sundays-sustainability/
LOCATION:Blacklick Woods\, 6975 East Livingston Ave\, Reynoldsburg\, OH\, 43068\, United States
ATTACH;FMTTYPE=image/png:https://www.metroparks.net/wp-content/uploads/2025/02/SWACO-1.png
END:VEVENT
BEGIN:VEVENT
DTSTART;TZID=America/New_York:20250323T130000
DTEND;TZID=America/New_York:20250323T150000
DTSTAMP:20260426T002151
CREATED:20250226T135422Z
LAST-MODIFIED:20250226T135422Z
UID:10002442-1742734800-1742742000@www.metroparks.net
SUMMARY:For Adults 50+: Prairies and Prescribed Fire
DESCRIPTION:Join Metro Parks Resource Management Team to learn about Ohio prairies\, our restoration efforts\, and the role of fire in maintaining these unique and beautiful ecosystems. Plan for 2 hours with some show and tell of our prescribed fire equipment outdoors\, weather permitting. \nMeet at the Cedar Ridge Lodge at 1775 Darby Creek Dr.\, Galloway\, 43119.
URL:https://www.metroparks.net/event/for-adults-50-prairies-and-prescribed-fire/
LOCATION:Battelle Darby Creek\, 1775 Darby Creek Drive\, Galloway\, OH\, 43119\, United States
END:VEVENT
BEGIN:VEVENT
DTSTART;TZID=America/New_York:20250323T133000
DTEND;TZID=America/New_York:20250323T150000
DTSTAMP:20260426T002151
CREATED:20250218T150053Z
LAST-MODIFIED:20250218T150053Z
UID:10002409-1742736600-1742742000@www.metroparks.net
SUMMARY:5-Mile Greenway Hike
DESCRIPTION:Let’s enjoy a nearly 5-mile hike along the Alum Creek Greenway Trail. We’ll get some exercise and make a few stops along the way for water and if we observe anything interesting. Wear comfortable shoes and bring water. Meets at the Heron Pond bulletin board\, 3400 Williams Rd.
URL:https://www.metroparks.net/event/5-mile-greenway-hike/
LOCATION:Three Creeks\, 3860 Bixby Road\, Groveport\, OH\, 43125\, United States
END:VEVENT
BEGIN:VEVENT
DTSTART;TZID=America/New_York:20250323T140000
DTEND;TZID=America/New_York:20250323T150000
DTSTAMP:20260426T002151
CREATED:20250226T135348Z
LAST-MODIFIED:20250226T135348Z
UID:10002441-1742738400-1742742000@www.metroparks.net
SUMMARY:The Art & The Artist
DESCRIPTION:Come on over to the Nature Center and witness our ambassador animals make some art of their own to display in the Nature Center while you learn more about them!
URL:https://www.metroparks.net/event/the-art-the-artist/
LOCATION:Battelle Darby Creek\, 1775 Darby Creek Drive\, Galloway\, OH\, 43119\, United States
END:VEVENT
BEGIN:VEVENT
DTSTART;TZID=America/New_York:20250323T140000
DTEND;TZID=America/New_York:20250323T150000
DTSTAMP:20260426T002151
CREATED:20250224T180822Z
LAST-MODIFIED:20250224T180822Z
UID:10002429-1742738400-1742742000@www.metroparks.net
SUMMARY:Houseplant Design
DESCRIPTION:Discover some creative ways to display your favorite houseplants.
URL:https://www.metroparks.net/event/houseplant-design/
LOCATION:Inniswood Metro Gardens\, 940 S. Hempstead Rd.\, Westerville\, OH\, 43081\, United States
END:VEVENT
BEGIN:VEVENT
DTSTART;TZID=America/New_York:20250323T140000
DTEND;TZID=America/New_York:20250323T150000
DTSTAMP:20260426T002151
CREATED:20250217T135118Z
LAST-MODIFIED:20250217T135118Z
UID:10002375-1742738400-1742742000@www.metroparks.net
SUMMARY:Eagle Hikes
DESCRIPTION:Join us Sundays in March to check on the progress of the Bald Eagles at their nest at 100AcreWoods. HIke 1.5 mi. on flat\, primitive trail. Prepare for mud. Meet at 5225 Cambria Way.
URL:https://www.metroparks.net/event/eagle-hikes/2025-03-23/
LOCATION:100 Acre Wood\, 5280 Cambria Way\, Westerville\, Ohio\, 43081
ATTACH;FMTTYPE=image/jpeg:https://www.metroparks.net/wp-content/uploads/2020/02/eagles-in-nest_adults-and-babies_PKP_April_John-Anderson.jpg
END:VEVENT
BEGIN:VEVENT
DTSTART;TZID=America/New_York:20250323T140000
DTEND;TZID=America/New_York:20250323T160000
DTSTAMP:20260426T002151
CREATED:20250224T180739Z
LAST-MODIFIED:20250224T180739Z
UID:10002428-1742738400-1742745600@www.metroparks.net
SUMMARY:Meet the Artist: Colin Harmon-Ulmer
DESCRIPTION:Meet artist of the month\, Colin Harmon-Ulmer and view his photographs on display in the Innis House.
URL:https://www.metroparks.net/event/meet-the-artist-colin-harmon-ulmer/
LOCATION:Innis House\, 940 S Hempstead Road\, Westerville\, OH\, 43081\, United States
END:VEVENT
END:VCALENDAR