BEGIN:VCALENDAR
VERSION:2.0
PRODID:-//Metro Parks - Central Ohio Park System - ECPv6.15.16.1//NONSGML v1.0//EN
CALSCALE:GREGORIAN
METHOD:PUBLISH
X-WR-CALNAME:Metro Parks - Central Ohio Park System
X-ORIGINAL-URL:https://www.metroparks.net
X-WR-CALDESC:Events for Metro Parks - Central Ohio Park System
REFRESH-INTERVAL;VALUE=DURATION:PT1H
X-Robots-Tag:noindex
X-PUBLISHED-TTL:PT1H
BEGIN:VTIMEZONE
TZID:America/New_York
BEGIN:DAYLIGHT
TZOFFSETFROM:-0500
TZOFFSETTO:-0400
TZNAME:EDT
DTSTART:20220313T070000
END:DAYLIGHT
BEGIN:STANDARD
TZOFFSETFROM:-0400
TZOFFSETTO:-0500
TZNAME:EST
DTSTART:20221106T060000
END:STANDARD
BEGIN:DAYLIGHT
TZOFFSETFROM:-0500
TZOFFSETTO:-0400
TZNAME:EDT
DTSTART:20230312T070000
END:DAYLIGHT
BEGIN:STANDARD
TZOFFSETFROM:-0400
TZOFFSETTO:-0500
TZNAME:EST
DTSTART:20231105T060000
END:STANDARD
BEGIN:DAYLIGHT
TZOFFSETFROM:-0500
TZOFFSETTO:-0400
TZNAME:EDT
DTSTART:20240310T070000
END:DAYLIGHT
BEGIN:STANDARD
TZOFFSETFROM:-0400
TZOFFSETTO:-0500
TZNAME:EST
DTSTART:20241103T060000
END:STANDARD
END:VTIMEZONE
BEGIN:VEVENT
DTSTART;TZID=America/New_York:20230226T110000
DTEND;TZID=America/New_York:20230226T150000
DTSTAMP:20260423T181659
CREATED:20221121T220914Z
LAST-MODIFIED:20221214T180703Z
UID:10000010-1677409200-1677423600@www.metroparks.net
SUMMARY:WINTER HIKE CELEBRATION!
DESCRIPTION:Sunday\, February 26\, 2023 11am-3pm at Blacklick Golf Course\nHike along the paths of our Audubon Sanctuary Golf Course\, collect your Winter Hike patch or Friends of Metro Parks hiking stick and medallion\, enjoy hot chocolate\, warm up by the fire and search for wooden ornaments along the trail.
URL:https://www.metroparks.net/event/winter-hike-celebration/
LOCATION:Blacklick Woods Golf Course\, 7309 E Livingston Ave\, Reynoldsburg\, OH\, 43068\, United States
ATTACH;FMTTYPE=image/jpeg:https://www.metroparks.net/wp-content/uploads/2022/11/BGC_StaffWinterHikeFinale-e1671041215208.jpeg
END:VEVENT
BEGIN:VEVENT
DTSTART;TZID=America/New_York:20230304T140000
DTEND;TZID=America/New_York:20230304T150000
DTSTAMP:20260423T181659
CREATED:20230215T185611Z
LAST-MODIFIED:20230215T185611Z
UID:10000389-1677938400-1677942000@www.metroparks.net
SUMMARY:Amphibian Search
DESCRIPTION:Hike 1.5 miles on- and off-trail at Rocky Fork Metro Park to look for early spring amphibians!
URL:https://www.metroparks.net/event/amphibian-search/2023-03-04/
LOCATION:Rocky Fork\, 7180 East Walnut St.\, Westerville\, OH\, 43081\, United States
ATTACH;FMTTYPE=image/jpeg:https://www.metroparks.net/wp-content/uploads/2023/02/Spotted-salamander-in-vernal-pool-off-Buttonbush-Trail-at-BLK_Feb_Cody-Berkebile-scaled.jpg
END:VEVENT
BEGIN:VEVENT
DTSTART;TZID=America/New_York:20230306T120000
DTEND;TZID=America/New_York:20230306T133000
DTSTAMP:20260423T181659
CREATED:20230223T204411Z
LAST-MODIFIED:20230223T204411Z
UID:10000391-1678104000-1678109400@www.metroparks.net
SUMMARY:Bigfoot Scavenger Hunt
DESCRIPTION:Come out to Scioto Grove Metro Park and search for Bigfoot at the Arrowhead Picnic Area!
URL:https://www.metroparks.net/event/bigfoot-scavenger-hunt/
LOCATION:Scioto Grove\, 5172 Jackson Pike\, Grove City\, OH\, 43123\, United States
END:VEVENT
BEGIN:VEVENT
DTSTART;TZID=America/New_York:20230311T140000
DTEND;TZID=America/New_York:20230311T150000
DTSTAMP:20260423T181659
CREATED:20230215T185611Z
LAST-MODIFIED:20230215T185611Z
UID:10000390-1678543200-1678546800@www.metroparks.net
SUMMARY:Amphibian Search
DESCRIPTION:Hike 1.5 miles on- and off-trail at Rocky Fork Metro Park to look for early spring amphibians!
URL:https://www.metroparks.net/event/amphibian-search/2023-03-11/
LOCATION:Rocky Fork\, 7180 East Walnut St.\, Westerville\, OH\, 43081\, United States
ATTACH;FMTTYPE=image/jpeg:https://www.metroparks.net/wp-content/uploads/2023/02/Spotted-salamander-in-vernal-pool-off-Buttonbush-Trail-at-BLK_Feb_Cody-Berkebile-scaled.jpg
END:VEVENT
BEGIN:VEVENT
DTSTART;TZID=America/New_York:20230316T190000
DTEND;TZID=America/New_York:20230316T200000
DTSTAMP:20260423T181659
CREATED:20230308T204144Z
LAST-MODIFIED:20230308T204144Z
UID:10000395-1678993200-1678996800@www.metroparks.net
SUMMARY:Virtual Speaker Series: Rock Climbing with Jordan Reding
DESCRIPTION:Get inspired for your next adventure from the comfort of your home! Join Metro Parks Outdoor Adventure for the following virtual presentation: Rock Climbing with Jordan Reding \nLearn about basic Rock Climbing gear and follow along with Jordan Reding as he talks about his amazing adventures as a climbing guide and how he got there! During this presentation he will talk about some of his favorite climbing trips and destinations! Jaw dropping photos and videos will inspire you to get outdoors and climbing! \nAn access link will be emailed to the email address provided via this form.
URL:https://www.metroparks.net/event/virtual-speaker-series-rock-climbing-with-jordan-reding/
LOCATION:Online
END:VEVENT
BEGIN:VEVENT
DTSTART;TZID=America/New_York:20230317T100000
DTEND;TZID=America/New_York:20230317T130000
DTSTAMP:20260423T181659
CREATED:20230223T204734Z
LAST-MODIFIED:20230223T205048Z
UID:10000392-1679047200-1679058000@www.metroparks.net
SUMMARY:St. Patrick's Day Hike
DESCRIPTION:Celebrate St. Patrick’s Day by taking in all things green on a 4-mile off-trail hike to a giant oak tree. Terrain at Clear Creek is steep and uneven in areas\, wear sturdy hiking shoes and bring water. Meet at the old Park Maintenance Shop\, 9935 Opossum Hollow Road\, Rockbridge.
URL:https://www.metroparks.net/event/st-patricks-day-hike/
LOCATION:Clear Creek\, 185 Clear Creek Road\, Lancaster\, OH\, 43130\, United States
END:VEVENT
BEGIN:VEVENT
DTSTART;TZID=America/New_York:20230318T130000
DTEND;TZID=America/New_York:20230318T150000
DTSTAMP:20260423T181659
CREATED:20230223T204941Z
LAST-MODIFIED:20230223T204941Z
UID:10000393-1679144400-1679151600@www.metroparks.net
SUMMARY:Backpacking and Hiking Open House
DESCRIPTION:Are you interested in backpacking or backcountry hiking\, but not sure how to get started? Come and explore the possibilities! At our backpacking and hiking open house we’ll have: The 10 essentials to always have with you\, whether hiking or backpacking\nLeave No Trace principles\nEquipment you might use for a day hike or 10 day wilderness hike\nTypical backpacking foods\, recipes\, and nutrition information\nSample hiking plans for the Appalachian Trail\nInformation about backpacking trails 1-4 hours from Columbus\nResource list to help you get started
URL:https://www.metroparks.net/event/backpacking-and-hiking-open-house/
LOCATION:Highbanks\, 9466 Columbus Pike (US Rt 23 N)\, Lewis Center\, OH\, 43035\, United States
END:VEVENT
BEGIN:VEVENT
DTSTART;TZID=America/New_York:20230325T140000
DTEND;TZID=America/New_York:20230325T153000
DTSTAMP:20260423T181659
CREATED:20230223T205354Z
LAST-MODIFIED:20230223T205354Z
UID:10000394-1679752800-1679758200@www.metroparks.net
SUMMARY:Eagle Watch
DESCRIPTION:Learn about the history of America’s national bird and take a 1/2 mile round-trip walk to observe nesting bald eagles through a spotting scope. No pets\, please. Meets at Pickerington Ponds Wood Duck area\, 4150 Bowen Rd\, Canal Winchester.
URL:https://www.metroparks.net/event/eagle-watch/
LOCATION:Pickerington Ponds\, 7680 Wright Road\, Canal Winchester\, OH\, 43110\, United States
ATTACH;FMTTYPE=image/jpeg:https://www.metroparks.net/wp-content/uploads/2020/02/eagles-in-nest_adults-and-babies_PKP_April_John-Anderson.jpg
END:VEVENT
BEGIN:VEVENT
DTSTART;TZID=America/New_York:20230326T130000
DTEND;TZID=America/New_York:20230326T143000
DTSTAMP:20260423T181659
CREATED:20230308T204515Z
LAST-MODIFIED:20230308T204515Z
UID:10000396-1679835600-1679841000@www.metroparks.net
SUMMARY:Clean Up by the Creek
DESCRIPTION:Help pick up trash in the floodplain near the Bluebell Trail and adjacent areas. We’ll supply the trash bags while you bring gloves\, wear boots for mud and bring trash grabbers if you’d like. Please note that if we get heavy rain in the week before the clean up\, area may be flooded and clean-up activity will be limited. Meets at the Three Creeks Confluence Area bulletin board.
URL:https://www.metroparks.net/event/clean-up-by-the-creek/
LOCATION:Three Creeks\, 3860 Bixby Road\, Groveport\, OH\, 43125\, United States
END:VEVENT
BEGIN:VEVENT
DTSTART;TZID=America/New_York:20230328T140000
DTEND;TZID=America/New_York:20230328T150000
DTSTAMP:20260423T181659
CREATED:20230323T185342Z
LAST-MODIFIED:20230323T185342Z
UID:10000397-1680012000-1680015600@www.metroparks.net
SUMMARY:Forts\, Fire & Fun
DESCRIPTION:Build a fort\, try your hand at fire starting and have fun in our natural play area.
URL:https://www.metroparks.net/event/forts-fire-fun/
LOCATION:Blacklick Woods\, 6975 East Livingston Ave\, Reynoldsburg\, OH\, 43068\, United States
END:VEVENT
BEGIN:VEVENT
DTSTART;TZID=America/New_York:20230329T180000
DTEND;TZID=America/New_York:20230329T193000
DTSTAMP:20260423T181659
CREATED:20230323T185620Z
LAST-MODIFIED:20230323T185620Z
UID:10000398-1680112800-1680118200@www.metroparks.net
SUMMARY:Volunteer Information Session
DESCRIPTION:Each Volunteer Information Session includes information on the Metro Parks organization and volunteer opportunities and expectations. There is also an opportunity to complete an interview and begin the background process.\nTo become a volunteer\, you should complete a volunteer application\, attend a Volunteer Information Session\, complete an interview at the Volunteer Information Session\, and pass a background screening including a reference check and fingerprinting.\nTo register\, email Jill Snyder snyder@metroparks.net. You MUST register to attend this session. \nSession is at Spring Hollow\, Sharon Woods Metro Park: 1069 W. Main St. Westerville\, OH 43081.
URL:https://www.metroparks.net/event/volunteer-information-session/
LOCATION:Spring Hollow at Sharon Woods\, 1069 W Main St\, Westerville\, OH\, 43081\, United States
END:VEVENT
BEGIN:VEVENT
DTSTART;TZID=America/New_York:20230331T110000
DTEND;TZID=America/New_York:20230331T120000
DTSTAMP:20260423T181659
CREATED:20230323T185738Z
LAST-MODIFIED:20230323T185738Z
UID:10000399-1680260400-1680264000@www.metroparks.net
SUMMARY:Minecraft IRL
DESCRIPTION:Join us as we play Minecraft but in real life. Create your own torch\, dig for fossils\, “hunt” for wildlife and resources\, and construct a shelter in this offline version of Minecraft.
URL:https://www.metroparks.net/event/minecraft-irl/
LOCATION:Blacklick Woods\, 6975 East Livingston Ave\, Reynoldsburg\, OH\, 43068\, United States
END:VEVENT
END:VCALENDAR