BEGIN:VCALENDAR
VERSION:2.0
PRODID:-//Metro Parks - Central Ohio Park System - ECPv6.15.16.1//NONSGML v1.0//EN
CALSCALE:GREGORIAN
METHOD:PUBLISH
X-WR-CALNAME:Metro Parks - Central Ohio Park System
X-ORIGINAL-URL:https://www.metroparks.net
X-WR-CALDESC:Events for Metro Parks - Central Ohio Park System
REFRESH-INTERVAL;VALUE=DURATION:PT1H
X-Robots-Tag:noindex
X-PUBLISHED-TTL:PT1H
BEGIN:VTIMEZONE
TZID:America/New_York
BEGIN:DAYLIGHT
TZOFFSETFROM:-0500
TZOFFSETTO:-0400
TZNAME:EDT
DTSTART:20220313T070000
END:DAYLIGHT
BEGIN:STANDARD
TZOFFSETFROM:-0400
TZOFFSETTO:-0500
TZNAME:EST
DTSTART:20221106T060000
END:STANDARD
BEGIN:DAYLIGHT
TZOFFSETFROM:-0500
TZOFFSETTO:-0400
TZNAME:EDT
DTSTART:20230312T070000
END:DAYLIGHT
BEGIN:STANDARD
TZOFFSETFROM:-0400
TZOFFSETTO:-0500
TZNAME:EST
DTSTART:20231105T060000
END:STANDARD
BEGIN:DAYLIGHT
TZOFFSETFROM:-0500
TZOFFSETTO:-0400
TZNAME:EDT
DTSTART:20240310T070000
END:DAYLIGHT
BEGIN:STANDARD
TZOFFSETFROM:-0400
TZOFFSETTO:-0500
TZNAME:EST
DTSTART:20241103T060000
END:STANDARD
END:VTIMEZONE
BEGIN:VEVENT
DTSTART;TZID=America/New_York:20230521T100000
DTEND;TZID=America/New_York:20230521T140000
DTSTAMP:20260424T053450
CREATED:20230515T165147Z
LAST-MODIFIED:20230517T185451Z
UID:10000437-1684663200-1684677600@www.metroparks.net
SUMMARY:Mud & Madness
DESCRIPTION:Navigate several muddy obstacles on a 1.5-mile adventure. Obstacles are a little challenging and a lotta mud but a whole lot more FUN than RUN. Perfect for mud-loving children\, adults & families. We will help you hose down afterwards so don’t forget to bring towels! Please refrain from bringing your strollers and pets to this event. Carpooling is encouraged! Please register in advance here: https://tinyurl.com/mr3n67mc
URL:https://www.metroparks.net/event/mud-madness/2023-05-21/
LOCATION:Blacklick Woods\, 6975 East Livingston Ave\, Reynoldsburg\, OH\, 43068\, United States
ATTACH;FMTTYPE=image/jpeg:https://www.metroparks.net/wp-content/uploads/2015/07/mud_run.jpg
END:VEVENT
BEGIN:VEVENT
DTSTART;TZID=America/New_York:20230521T140000
DTEND;TZID=America/New_York:20230521T150000
DTSTAMP:20260424T053450
CREATED:20230515T165022Z
LAST-MODIFIED:20230515T165022Z
UID:10000435-1684677600-1684681200@www.metroparks.net
SUMMARY:Spring Creeking
DESCRIPTION:Hike about .5 mil to the creek to look for critters under the rocks. Wear shoes that can get wet.
URL:https://www.metroparks.net/event/spring-creeking/
LOCATION:Blendon Woods\, 4265 E Dublin Granville Road\, Columbus\, 43081\, United States
END:VEVENT
BEGIN:VEVENT
DTSTART;TZID=America/New_York:20230522T180000
DTEND;TZID=America/New_York:20230522T193000
DTSTAMP:20260424T053450
CREATED:20230515T165245Z
LAST-MODIFIED:20230515T165245Z
UID:10000438-1684778400-1684783800@www.metroparks.net
SUMMARY:For Adults: Wildflower Stroll
DESCRIPTION:Join a naturalist for a relaxing evening stroll on the Scenic River Trail to observe and learn about our May blooming wildflowers. Meet in Big Meadows picnic area next to restrooms. Hike will be approximately 1 mile in total\, along some paved surface as well as unimproved dirt trail. For ages 16+. Meet in the Big Meadows picnic area by the restrooms; orange Metro Parks program signs will guide towards the meeting location. \nMeeting location notes: Big Meadows Picnic Area Big Meadows picnic area is at the back of the park. After you enter the park\, take the main road down the hill. At the bottom of the hill\, take the ROAD on the LEFT. Park in the lot with a playground. Meet near restrooms.
URL:https://www.metroparks.net/event/for-adults-wildflower-stroll/
LOCATION:Highbanks\, 9466 Columbus Pike (US Rt 23 N)\, Lewis Center\, OH\, 43035\, United States
END:VEVENT
END:VCALENDAR