BEGIN:VCALENDAR
VERSION:2.0
PRODID:-//Metro Parks - Central Ohio Park System - ECPv6.15.16.1//NONSGML v1.0//EN
CALSCALE:GREGORIAN
METHOD:PUBLISH
X-WR-CALNAME:Metro Parks - Central Ohio Park System
X-ORIGINAL-URL:https://www.metroparks.net
X-WR-CALDESC:Events for Metro Parks - Central Ohio Park System
REFRESH-INTERVAL;VALUE=DURATION:PT1H
X-Robots-Tag:noindex
X-PUBLISHED-TTL:PT1H
BEGIN:VTIMEZONE
TZID:America/New_York
BEGIN:DAYLIGHT
TZOFFSETFROM:-0500
TZOFFSETTO:-0400
TZNAME:EDT
DTSTART:20230312T070000
END:DAYLIGHT
BEGIN:STANDARD
TZOFFSETFROM:-0400
TZOFFSETTO:-0500
TZNAME:EST
DTSTART:20231105T060000
END:STANDARD
BEGIN:DAYLIGHT
TZOFFSETFROM:-0500
TZOFFSETTO:-0400
TZNAME:EDT
DTSTART:20240310T070000
END:DAYLIGHT
BEGIN:STANDARD
TZOFFSETFROM:-0400
TZOFFSETTO:-0500
TZNAME:EST
DTSTART:20241103T060000
END:STANDARD
BEGIN:DAYLIGHT
TZOFFSETFROM:-0500
TZOFFSETTO:-0400
TZNAME:EDT
DTSTART:20250309T070000
END:DAYLIGHT
BEGIN:STANDARD
TZOFFSETFROM:-0400
TZOFFSETTO:-0500
TZNAME:EST
DTSTART:20251102T060000
END:STANDARD
END:VTIMEZONE
BEGIN:VEVENT
DTSTART;TZID=America/New_York:20240428T140000
DTEND;TZID=America/New_York:20240428T160000
DTSTAMP:20260420T035918
CREATED:20240325T144035Z
LAST-MODIFIED:20240325T144035Z
UID:10001187-1714312800-1714320000@www.metroparks.net
SUMMARY:Invasive Removal at Hundred Acre Wood
DESCRIPTION:Bring you gloves or borrow ours to help clear invasive species. Meet at 5220 Cambria Way. Park along the street.
URL:https://www.metroparks.net/event/invasive-removal-at-hundred-acre-wood/
LOCATION:100 Acre Wood\, 5280 Cambria Way\, Westerville\, Ohio\, 43081
END:VEVENT
BEGIN:VEVENT
DTSTART;TZID=America/New_York:20240430T100000
DTEND;TZID=America/New_York:20240430T110000
DTSTAMP:20260420T035918
CREATED:20240326T135554Z
LAST-MODIFIED:20240326T135554Z
UID:10001195-1714471200-1714474800@www.metroparks.net
SUMMARY:Preschool: Hide-and-Seek
DESCRIPTION:Search for hidden animals hidden throughout the park and learn about camouflage. This program is geared for children ages 3-5.
URL:https://www.metroparks.net/event/preschool-hide-and-seek/2024-04-30/1/
LOCATION:Homestead\, 4675 Cosgray Road\, Hilliard\, OH\, 43026\, United States
END:VEVENT
BEGIN:VEVENT
DTSTART;TZID=America/New_York:20240430T130000
DTEND;TZID=America/New_York:20240430T140000
DTSTAMP:20260420T035918
CREATED:20240326T135554Z
LAST-MODIFIED:20240326T135554Z
UID:10001196-1714482000-1714485600@www.metroparks.net
SUMMARY:Preschool: Hide-and-Seek
DESCRIPTION:Search for hidden animals hidden throughout the park and learn about camouflage. This program is geared for children ages 3-5.
URL:https://www.metroparks.net/event/preschool-hide-and-seek/2024-04-30/2/
LOCATION:Homestead\, 4675 Cosgray Road\, Hilliard\, OH\, 43026\, United States
END:VEVENT
BEGIN:VEVENT
DTSTART;TZID=America/New_York:20240501T100000
DTEND;TZID=America/New_York:20240501T110000
DTSTAMP:20260420T035918
CREATED:20240424T172319Z
LAST-MODIFIED:20240424T172319Z
UID:10001251-1714557600-1714561200@www.metroparks.net
SUMMARY:Preschool in the Gardens: Terrific Turtles
DESCRIPTION:Learn about the turtles that live in the gardens.
URL:https://www.metroparks.net/event/preschool-in-the-gardens-terrific-turtles/2024-05-01/1/
LOCATION:Inniswood Metro Gardens\, 940 S. Hempstead Rd.\, Westerville\, OH\, 43081\, United States
ATTACH;FMTTYPE=image/jpeg:https://www.metroparks.net/wp-content/uploads/2018/05/WEB-turtles.jpg
END:VEVENT
BEGIN:VEVENT
DTSTART;TZID=America/New_York:20240501T100000
DTEND;TZID=America/New_York:20240501T110000
DTSTAMP:20260420T035918
CREATED:20240422T131833Z
LAST-MODIFIED:20240422T131833Z
UID:10001221-1714557600-1714561200@www.metroparks.net
SUMMARY:Homeschoolers: Beginning Bird Watching
DESCRIPTION:Learn how to use binoculars\, use ID books and have fun as you look for birds. We have a limited supply of loaner binoculars but bring your own if you have them. Best for kids 6 years and older but younger siblings are welcome to tag along. Meets at Three Creeks Metro Park Confluence Area bulletin board\, 3860 Bixby Rd\, Groveport
URL:https://www.metroparks.net/event/homeschoolers-beginning-bird-watching-2/
LOCATION:Three Creeks\, 3860 Bixby Road\, Groveport\, OH\, 43125\, United States
END:VEVENT
BEGIN:VEVENT
DTSTART;TZID=America/New_York:20240501T130000
DTEND;TZID=America/New_York:20240501T140000
DTSTAMP:20260420T035918
CREATED:20240424T172319Z
LAST-MODIFIED:20240424T172319Z
UID:10001252-1714568400-1714572000@www.metroparks.net
SUMMARY:Preschool in the Gardens: Terrific Turtles
DESCRIPTION:Learn about the turtles that live in the gardens.
URL:https://www.metroparks.net/event/preschool-in-the-gardens-terrific-turtles/2024-05-01/2/
LOCATION:Inniswood Metro Gardens\, 940 S. Hempstead Rd.\, Westerville\, OH\, 43081\, United States
ATTACH;FMTTYPE=image/jpeg:https://www.metroparks.net/wp-content/uploads/2018/05/WEB-turtles.jpg
END:VEVENT
BEGIN:VEVENT
DTSTART;TZID=America/New_York:20240501T180000
DTEND;TZID=America/New_York:20240501T193000
DTSTAMP:20260420T035918
CREATED:20240424T172151Z
LAST-MODIFIED:20240424T172228Z
UID:10001250-1714586400-1714591800@www.metroparks.net
SUMMARY:COSI Science Festival - Fantastic Fungi BioBlitz
DESCRIPTION:Be a scientist! Learn to use iNaturalist to record scientific observations and then set out on a 1.25-mile hike to observe\, identify and record mushrooms and other fungi around Blacklick Woods.
URL:https://www.metroparks.net/event/cosi-science-festival-fantastic-fungi-bioblitz/
LOCATION:Blacklick Woods\, 6975 East Livingston Ave\, Reynoldsburg\, OH\, 43068\, United States
ATTACH;FMTTYPE=image/jpeg:https://www.metroparks.net/wp-content/uploads/2018/03/1080p_Molitierno-Arthur_BLK_Fungi_100.jpg
END:VEVENT
BEGIN:VEVENT
DTSTART;TZID=America/New_York:20240502T180000
DTEND;TZID=America/New_York:20240502T193000
DTSTAMP:20260420T035918
CREATED:20240429T132033Z
LAST-MODIFIED:20240429T132033Z
UID:10001284-1714672800-1714678200@www.metroparks.net
SUMMARY:COSI ScienceFest: Woods & Water BioBlitz
DESCRIPTION:Become a citizen scientist\, and join the park Naturalists as we explore a State Nature Preserve and sample aquatic life. We’ll teach you how to use the free app iNaturalist to record and document the natural world around you.\nYour observations will help add to the park’s biodiversity list and may even be used by scientists around the world! Be sure to download the iNaturalist app and sign up for a free account before the program. Meet at the Schrock Lake Picnic Shelter.
URL:https://www.metroparks.net/event/cosi-sciencefest-woods-water-bioblitz/
LOCATION:Sharon Woods\, 6911 Cleveland Ave.\, Columbus\, OH\, 43081\, United States
ATTACH;FMTTYPE=image/jpeg:https://www.metroparks.net/wp-content/uploads/2024/04/SHN_COSIBioBlitz_LizChristian.jpg
END:VEVENT
BEGIN:VEVENT
DTSTART;TZID=America/New_York:20240503T173000
DTEND;TZID=America/New_York:20240503T190000
DTSTAMP:20260420T035918
CREATED:20240422T125730Z
LAST-MODIFIED:20240422T125730Z
UID:10001210-1714757400-1714762800@www.metroparks.net
SUMMARY:COSI BioBlitz - Be a Citizen Scientist
DESCRIPTION:Join the naturalist for a fun and interactive citizen science program! Using iNaturalist\, we’ll observe Glacier Ridge’s biodiversity on a guided hike. We will be partnering with COSI for this experience!\nMeet at the shelter house by the flagpole. Please dress for hiking.
URL:https://www.metroparks.net/event/cosi-bioblitz-be-a-citizen-scientist-2/
LOCATION:Glacier Ridge\, 9801 Hyland Croy\, Plain City\, OH\, 43064\, United States
END:VEVENT
END:VCALENDAR