BEGIN:VCALENDAR
VERSION:2.0
PRODID:-//Metro Parks - Central Ohio Park System - ECPv6.15.16.1//NONSGML v1.0//EN
CALSCALE:GREGORIAN
METHOD:PUBLISH
X-WR-CALNAME:Metro Parks - Central Ohio Park System
X-ORIGINAL-URL:https://www.metroparks.net
X-WR-CALDESC:Events for Metro Parks - Central Ohio Park System
REFRESH-INTERVAL;VALUE=DURATION:PT1H
X-Robots-Tag:noindex
X-PUBLISHED-TTL:PT1H
BEGIN:VTIMEZONE
TZID:America/New_York
BEGIN:DAYLIGHT
TZOFFSETFROM:-0500
TZOFFSETTO:-0400
TZNAME:EDT
DTSTART:20230312T070000
END:DAYLIGHT
BEGIN:STANDARD
TZOFFSETFROM:-0400
TZOFFSETTO:-0500
TZNAME:EST
DTSTART:20231105T060000
END:STANDARD
BEGIN:DAYLIGHT
TZOFFSETFROM:-0500
TZOFFSETTO:-0400
TZNAME:EDT
DTSTART:20240310T070000
END:DAYLIGHT
BEGIN:STANDARD
TZOFFSETFROM:-0400
TZOFFSETTO:-0500
TZNAME:EST
DTSTART:20241103T060000
END:STANDARD
BEGIN:DAYLIGHT
TZOFFSETFROM:-0500
TZOFFSETTO:-0400
TZNAME:EDT
DTSTART:20250309T070000
END:DAYLIGHT
BEGIN:STANDARD
TZOFFSETFROM:-0400
TZOFFSETTO:-0500
TZNAME:EST
DTSTART:20251102T060000
END:STANDARD
END:VTIMEZONE
BEGIN:VEVENT
DTSTART;TZID=America/New_York:20240505T140000
DTEND;TZID=America/New_York:20240505T160000
DTSTAMP:20260419T185126
CREATED:20240429T131638Z
LAST-MODIFIED:20240429T131638Z
UID:10001282-1714917600-1714924800@www.metroparks.net
SUMMARY:Meet the Artist: Pam Hartford
DESCRIPTION:Meet artist of the month\, Pam Hartford\, and view her watercolor artwork on display in the Innis House.
URL:https://www.metroparks.net/event/meet-the-artist-pam-hartford/
LOCATION:Inniswood Metro Gardens\, 940 S. Hempstead Rd.\, Westerville\, OH\, 43081\, United States
ATTACH;FMTTYPE=image/jpeg:https://www.metroparks.net/wp-content/uploads/2015/01/INN_gazebo-through-arch_Chris-Shea.jpg
END:VEVENT
BEGIN:VEVENT
DTSTART;TZID=America/New_York:20240505T153000
DTEND;TZID=America/New_York:20240505T170000
DTSTAMP:20260419T185126
CREATED:20240422T130957Z
LAST-MODIFIED:20240422T130957Z
UID:10001216-1714923000-1714928400@www.metroparks.net
SUMMARY:For Adults 50+: Wildflowers and Other Spring Things
DESCRIPTION:Hike the moderate 1.1- mile Sycamore Plains trail in search of late spring flowers\, large sycamores and wildlife in and around Big Darby Creek. \nMeet at the Sycamore Plains Area at 2009 Amity Rd.\, Hilliard
URL:https://www.metroparks.net/event/for-adults-50-wildflowers-and-other-spring-things/
LOCATION:Prairie Oaks\, 3225 Plain City-Georgesville Road\, West Jefferson\, OH\, 43162\, United States
END:VEVENT
END:VCALENDAR