BEGIN:VCALENDAR
VERSION:2.0
PRODID:-//Metro Parks - Central Ohio Park System - ECPv6.15.16.1//NONSGML v1.0//EN
CALSCALE:GREGORIAN
METHOD:PUBLISH
X-WR-CALNAME:Metro Parks - Central Ohio Park System
X-ORIGINAL-URL:https://www.metroparks.net
X-WR-CALDESC:Events for Metro Parks - Central Ohio Park System
REFRESH-INTERVAL;VALUE=DURATION:PT1H
X-Robots-Tag:noindex
X-PUBLISHED-TTL:PT1H
BEGIN:VTIMEZONE
TZID:America/New_York
BEGIN:DAYLIGHT
TZOFFSETFROM:-0500
TZOFFSETTO:-0400
TZNAME:EDT
DTSTART:20230312T070000
END:DAYLIGHT
BEGIN:STANDARD
TZOFFSETFROM:-0400
TZOFFSETTO:-0500
TZNAME:EST
DTSTART:20231105T060000
END:STANDARD
BEGIN:DAYLIGHT
TZOFFSETFROM:-0500
TZOFFSETTO:-0400
TZNAME:EDT
DTSTART:20240310T070000
END:DAYLIGHT
BEGIN:STANDARD
TZOFFSETFROM:-0400
TZOFFSETTO:-0500
TZNAME:EST
DTSTART:20241103T060000
END:STANDARD
BEGIN:DAYLIGHT
TZOFFSETFROM:-0500
TZOFFSETTO:-0400
TZNAME:EDT
DTSTART:20250309T070000
END:DAYLIGHT
BEGIN:STANDARD
TZOFFSETFROM:-0400
TZOFFSETTO:-0500
TZNAME:EST
DTSTART:20251102T060000
END:STANDARD
END:VTIMEZONE
BEGIN:VEVENT
DTSTART;TZID=America/New_York:20240625T170000
DTEND;TZID=America/New_York:20240625T180000
DTSTAMP:20260419T140131
CREATED:20240528T125719Z
LAST-MODIFIED:20240528T125719Z
UID:10001375-1719334800-1719338400@www.metroparks.net
SUMMARY:For Adults: Bluebirds
DESCRIPTION:Have you seen the bluebirds flying around recently? Find out all you need to know about bluebirds’ lives and how Glacier Ridge works to help in their conservation effort.\nThis program is for adults 18 and up. We will meet at the shelter house and do a short hike to visit bluebird boxes. Please dress appropriately (close-toed shoes and pants).
URL:https://www.metroparks.net/event/for-adults-bluebirds/
LOCATION:Glacier Ridge\, 9801 Hyland Croy\, Plain City\, OH\, 43064\, United States
ATTACH;FMTTYPE=image/jpeg:https://www.metroparks.net/wp-content/uploads/2020/04/Bluebird-at-HBK_Mike-H.jpg
END:VEVENT
BEGIN:VEVENT
DTSTART;TZID=America/New_York:20240625T170000
DTEND;TZID=America/New_York:20240625T183000
DTSTAMP:20260419T140131
CREATED:20240603T132504Z
LAST-MODIFIED:20240603T132504Z
UID:10001419-1719334800-1719340200@www.metroparks.net
SUMMARY:Try it! Archery
DESCRIPTION:Come try your hand at this free archery program! Come out anytime between the times listed. All equipment provided. Ages 8+.
URL:https://www.metroparks.net/event/try-it-archery-9/2024-06-25/
LOCATION:Scioto Grove\, 5172 Jackson Pike\, Grove City\, OH\, 43123\, United States
END:VEVENT
BEGIN:VEVENT
DTSTART;TZID=America/New_York:20240625T170000
DTEND;TZID=America/New_York:20240625T190000
DTSTAMP:20260419T140131
CREATED:20240530T142804Z
LAST-MODIFIED:20240530T142901Z
UID:10001401-1719334800-1719342000@www.metroparks.net
SUMMARY:Archery Experience
DESCRIPTION:Ages 8+. Come take a shot at archery. Learn the basics\, or just get an opportunity to shoot some arrows. Meet in the Nature Center overflow parking lot.
URL:https://www.metroparks.net/event/archery-experience-3/
LOCATION:Battelle Darby Creek\, 1775 Darby Creek Drive\, Galloway\, OH\, 43119\, United States
END:VEVENT
BEGIN:VEVENT
DTSTART;TZID=America/New_York:20240626T100000
DTEND;TZID=America/New_York:20240626T113000
DTSTAMP:20260419T140131
CREATED:20240524T193859Z
LAST-MODIFIED:20240524T193859Z
UID:10001370-1719396000-1719401400@www.metroparks.net
SUMMARY:Summer Children's Programs: Swimmers & Divers
DESCRIPTION:Learn about the best wild swimmers and divers around Ohio\, including muskrats\, frogs\, diving beetles\, and minks. Participate in games and crafts themed around these swimming and diving animals. Geared for ages 8 and younger.
URL:https://www.metroparks.net/event/summer-childrens-programs-swimmers-divers/2024-06-26/1/
LOCATION:Inniswood Metro Gardens\, 940 S. Hempstead Rd.\, Westerville\, OH\, 43081\, United States
END:VEVENT
BEGIN:VEVENT
DTSTART;TZID=America/New_York:20240626T110000
DTEND;TZID=America/New_York:20240626T150000
DTSTAMP:20260419T140131
CREATED:20240522T170902Z
LAST-MODIFIED:20240522T170902Z
UID:10001330-1719399600-1719414000@www.metroparks.net
SUMMARY:Riddle Me These\, Please
DESCRIPTION:Ongoing from 11am-3pm\nPick up a list of riddles at the farmhouse that will have you thinking your way around the farmhouse.
URL:https://www.metroparks.net/event/riddle-me-these-please/2024-06-26/
LOCATION:Slate Run Living Historical Farm\, 1375 OH-674\, Canal Winchester\, OH\, 43110\, United States
ATTACH;FMTTYPE=image/jpeg:https://www.metroparks.net/wp-content/uploads/2023/08/1200px_SRF_farmhouse_July_Honour-Lackey.jpg
END:VEVENT
BEGIN:VEVENT
DTSTART;TZID=America/New_York:20240626T130000
DTEND;TZID=America/New_York:20240626T143000
DTSTAMP:20260419T140131
CREATED:20240524T193859Z
LAST-MODIFIED:20240524T193859Z
UID:10001371-1719406800-1719412200@www.metroparks.net
SUMMARY:Summer Children's Programs: Swimmers & Divers
DESCRIPTION:Learn about the best wild swimmers and divers around Ohio\, including muskrats\, frogs\, diving beetles\, and minks. Participate in games and crafts themed around these swimming and diving animals. Geared for ages 8 and younger.
URL:https://www.metroparks.net/event/summer-childrens-programs-swimmers-divers/2024-06-26/2/
LOCATION:Inniswood Metro Gardens\, 940 S. Hempstead Rd.\, Westerville\, OH\, 43081\, United States
END:VEVENT
BEGIN:VEVENT
DTSTART;TZID=America/New_York:20240626T150000
DTEND;TZID=America/New_York:20240626T160000
DTSTAMP:20260419T140131
CREATED:20240528T125901Z
LAST-MODIFIED:20240528T125901Z
UID:10001376-1719414000-1719417600@www.metroparks.net
SUMMARY:Learning & Loving Lepidoptera
DESCRIPTION:Learn about the importance of butterflies and moths\, as well as how to identify several common species found at Blacklick Woods. Take a 1-mile hike to see what is flying.
URL:https://www.metroparks.net/event/learning-loving-lepidoptera/
LOCATION:Blacklick Woods\, 6975 East Livingston Ave\, Reynoldsburg\, OH\, 43068\, United States
ATTACH;FMTTYPE=image/jpeg:https://www.metroparks.net/wp-content/uploads/2020/09/question-mark-butterfly_HBK_Sept-13-2018_Adam-Brandemihl.jpg
END:VEVENT
BEGIN:VEVENT
DTSTART;TZID=America/New_York:20240626T180000
DTEND;TZID=America/New_York:20240626T200000
DTSTAMP:20260419T140131
CREATED:20240528T125313Z
LAST-MODIFIED:20240528T125348Z
UID:10001373-1719424800-1719432000@www.metroparks.net
SUMMARY:For Adults: Art Night: Create a Recycled Terrarium!
DESCRIPTION:Recycle your old plastic bottles into beautiful art! Create your very own recycled terrarium that you can take home with you.\nThis program is for adults 18 and up. We will be using candles and hot glue to make our masterpiece\, so please bring your own gloves.\nADULTS ONLY
URL:https://www.metroparks.net/event/for-adults-art-night-create-a-recycled-terrarium/
LOCATION:Homestead\, 4675 Cosgray Road\, Hilliard\, OH\, 43026\, United States
END:VEVENT
BEGIN:VEVENT
DTSTART;TZID=America/New_York:20240627T100000
DTEND;TZID=America/New_York:20240627T110000
DTSTAMP:20260419T140131
CREATED:20240528T130310Z
LAST-MODIFIED:20240528T130310Z
UID:10001380-1719482400-1719486000@www.metroparks.net
SUMMARY:Tots on the Trails
DESCRIPTION:Share a slow-paced\, half-mile hike with your toddler and discover nature together.
URL:https://www.metroparks.net/event/tots-on-the-trails/
LOCATION:Blacklick Woods\, 6975 East Livingston Ave\, Reynoldsburg\, OH\, 43068\, United States
END:VEVENT
BEGIN:VEVENT
DTSTART;TZID=America/New_York:20240627T100000
DTEND;TZID=America/New_York:20240627T120000
DTSTAMP:20260419T140131
CREATED:20240522T171246Z
LAST-MODIFIED:20240522T171246Z
UID:10001335-1719482400-1719489600@www.metroparks.net
SUMMARY:MUD DAY!
DESCRIPTION:Wallow to your heart’s content and have some down and dirty fun at our annual mud day event. Rinse station provided. Follow signs in park for location.
URL:https://www.metroparks.net/event/mud-day-2/
LOCATION:Blendon Woods\, 4265 E Dublin Granville Road\, Columbus\, 43081\, United States
ATTACH;FMTTYPE=image/jpeg:https://www.metroparks.net/wp-content/uploads/2024/05/BLN_MudDay5_LizChristian.jpg
END:VEVENT
BEGIN:VEVENT
DTSTART;TZID=America/New_York:20240627T110000
DTEND;TZID=America/New_York:20240627T150000
DTSTAMP:20260419T140131
CREATED:20240522T170902Z
LAST-MODIFIED:20240522T170902Z
UID:10001331-1719486000-1719500400@www.metroparks.net
SUMMARY:Riddle Me These\, Please
DESCRIPTION:Ongoing from 11am-3pm\nPick up a list of riddles at the farmhouse that will have you thinking your way around the farmhouse.
URL:https://www.metroparks.net/event/riddle-me-these-please/2024-06-27/
LOCATION:Slate Run Living Historical Farm\, 1375 OH-674\, Canal Winchester\, OH\, 43110\, United States
ATTACH;FMTTYPE=image/jpeg:https://www.metroparks.net/wp-content/uploads/2023/08/1200px_SRF_farmhouse_July_Honour-Lackey.jpg
END:VEVENT
BEGIN:VEVENT
DTSTART;TZID=America/New_York:20240627T120000
DTEND;TZID=America/New_York:20240627T130000
DTSTAMP:20260419T140131
CREATED:20240528T125633Z
LAST-MODIFIED:20240528T125633Z
UID:10001374-1719489600-1719493200@www.metroparks.net
SUMMARY:Turtle Trek
DESCRIPTION:Meet at the Kingfisher Shelter. Use address 2319 Quarry Trails Drive Columbus OH 43228. Take a trek around the lakes to look for turtles.
URL:https://www.metroparks.net/event/turtle-trek/
LOCATION:Quarry Trails\, 2600 Dublin Road\, Columbus\, OH\, 43228\, United States
ATTACH;FMTTYPE=image/jpeg:https://www.metroparks.net/wp-content/uploads/2016/08/Turtle-Crossing-2.jpg
END:VEVENT
BEGIN:VEVENT
DTSTART;TZID=America/New_York:20240627T193000
DTEND;TZID=America/New_York:20240627T210000
DTSTAMP:20260419T140131
CREATED:20240603T132624Z
LAST-MODIFIED:20240603T133151Z
UID:10001422-1719516600-1719522000@www.metroparks.net
SUMMARY:Sunset SUP and S'mores
DESCRIPTION:Come out and enjoy the sunset on a Stand Up Paddle Board and enjoy a little sweet treat! SUPs are for ages 10+\, both inflatable and hard paddle bards will be available to use\, first come first served!\nFree instruction\, equipment and life jackets provided\nMeet at Lake 1 at Darby Bend Lakes (Prairie Oaks Metro Park)\n2755 Amity Rd\, Hilliard\, OH 4
URL:https://www.metroparks.net/event/sunset-sup-and-smores/2024-06-27/
LOCATION:Prairie Oaks\, 3225 Plain City-Georgesville Road\, West Jefferson\, OH\, 43162\, United States
ATTACH;FMTTYPE=image/jpeg:https://www.metroparks.net/wp-content/uploads/2019/03/gallery-spring-PRO_sunset-and-flag_May-Brandon-Novotny.jpg
END:VEVENT
END:VCALENDAR