BEGIN:VCALENDAR
VERSION:2.0
PRODID:-//Metro Parks - Central Ohio Park System - ECPv6.15.16.1//NONSGML v1.0//EN
CALSCALE:GREGORIAN
METHOD:PUBLISH
X-WR-CALNAME:Metro Parks - Central Ohio Park System
X-ORIGINAL-URL:https://www.metroparks.net
X-WR-CALDESC:Events for Metro Parks - Central Ohio Park System
REFRESH-INTERVAL;VALUE=DURATION:PT1H
X-Robots-Tag:noindex
X-PUBLISHED-TTL:PT1H
BEGIN:VTIMEZONE
TZID:America/New_York
BEGIN:DAYLIGHT
TZOFFSETFROM:-0500
TZOFFSETTO:-0400
TZNAME:EDT
DTSTART:20230312T070000
END:DAYLIGHT
BEGIN:STANDARD
TZOFFSETFROM:-0400
TZOFFSETTO:-0500
TZNAME:EST
DTSTART:20231105T060000
END:STANDARD
BEGIN:DAYLIGHT
TZOFFSETFROM:-0500
TZOFFSETTO:-0400
TZNAME:EDT
DTSTART:20240310T070000
END:DAYLIGHT
BEGIN:STANDARD
TZOFFSETFROM:-0400
TZOFFSETTO:-0500
TZNAME:EST
DTSTART:20241103T060000
END:STANDARD
BEGIN:DAYLIGHT
TZOFFSETFROM:-0500
TZOFFSETTO:-0400
TZNAME:EDT
DTSTART:20250309T070000
END:DAYLIGHT
BEGIN:STANDARD
TZOFFSETFROM:-0400
TZOFFSETTO:-0500
TZNAME:EST
DTSTART:20251102T060000
END:STANDARD
END:VTIMEZONE
BEGIN:VEVENT
DTSTART;TZID=America/New_York:20240701T120000
DTEND;TZID=America/New_York:20240701T180000
DTSTAMP:20260419T105227
CREATED:20240628T130231Z
LAST-MODIFIED:20240628T130231Z
UID:10001526-1719835200-1719856800@www.metroparks.net
SUMMARY:Try It! Kayaking and SUP
DESCRIPTION:Come out and try standup paddle boarding and kayaking for free at Quarry Trails Metro Park. First come first served. All equipment provided. SUPs and Solo sit-in kayaks ages 10+ only. Tandems open for all ages. Solo sit-kayaks have a 275Ibs limit.\nQuarry Trails Metro Park has several park entrances-\n* The closest parking lot to the paddling launch area is off of Trabue Road. The address is 2319 Quarry Trails Dr\, Columbus\, OH. This is a newly opened entrance. Please follow signage and be on the lookout for construction traffic.
URL:https://www.metroparks.net/event/try-it-kayaking-and-sup-4/2024-07-01/
LOCATION:Quarry Trails\, 2600 Dublin Road\, Columbus\, OH\, 43228\, United States
ATTACH;FMTTYPE=image/jpeg:https://www.metroparks.net/wp-content/uploads/2020/12/OA_Kid-poses-in-kayak-at-Outdoor-Adventure-program-at-Scioto-Grove_July_Melissa-Turpening-1.jpg
END:VEVENT
BEGIN:VEVENT
DTSTART;TZID=America/New_York:20240701T130000
DTEND;TZID=America/New_York:20240701T140000
DTSTAMP:20260419T105227
CREATED:20240624T125031Z
LAST-MODIFIED:20240624T125155Z
UID:10001478-1719838800-1719842400@www.metroparks.net
SUMMARY:Creeking
DESCRIPTION:Explore Spring Run Creek with the Inniswood educators. Supplies will be provided. Closed-toe water shoes or boots are recommended.
URL:https://www.metroparks.net/event/creeking/
LOCATION:Inniswood Metro Gardens\, 940 S. Hempstead Rd.\, Westerville\, OH\, 43081\, United States
END:VEVENT
BEGIN:VEVENT
DTSTART;TZID=America/New_York:20240701T130000
DTEND;TZID=America/New_York:20240701T140000
DTSTAMP:20260419T105227
CREATED:20240621T132452Z
LAST-MODIFIED:20240621T132452Z
UID:10001462-1719838800-1719842400@www.metroparks.net
SUMMARY:For Adults: Summer Fungi
DESCRIPTION:Join other adults on this 1.25-mile hike to search for mushrooms and learn about fungi.
URL:https://www.metroparks.net/event/for-adults-summer-fungi-2/
LOCATION:Blacklick Woods\, 6975 East Livingston Ave\, Reynoldsburg\, OH\, 43068\, United States
ATTACH;FMTTYPE=image/jpeg:https://www.metroparks.net/wp-content/uploads/2024/04/1200px_BLN_trio-of-fungi_Aug_Patrick-Kelly.jpg
END:VEVENT
BEGIN:VEVENT
DTSTART;TZID=America/New_York:20240702T100000
DTEND;TZID=America/New_York:20240702T160000
DTSTAMP:20260419T105227
CREATED:20240620T190624Z
LAST-MODIFIED:20240620T190624Z
UID:10001424-1719914400-1719936000@www.metroparks.net
SUMMARY:What Is It?
DESCRIPTION:Ongoing between 10am-4pm\nAll ages\nEveryday objects familiar to people in the 1880s are a mystery to modern folks. Guess how ours work and what they do.
URL:https://www.metroparks.net/event/what-is-it/2024-07-02/
LOCATION:Slate Run Living Historical Farm\, 1375 OH-674\, Canal Winchester\, OH\, 43110\, United States
END:VEVENT
END:VCALENDAR