BEGIN:VCALENDAR
VERSION:2.0
PRODID:-//Metro Parks - Central Ohio Park System - ECPv6.15.16.1//NONSGML v1.0//EN
CALSCALE:GREGORIAN
METHOD:PUBLISH
X-WR-CALNAME:Metro Parks - Central Ohio Park System
X-ORIGINAL-URL:https://www.metroparks.net
X-WR-CALDESC:Events for Metro Parks - Central Ohio Park System
REFRESH-INTERVAL;VALUE=DURATION:PT1H
X-Robots-Tag:noindex
X-PUBLISHED-TTL:PT1H
BEGIN:VTIMEZONE
TZID:America/New_York
BEGIN:DAYLIGHT
TZOFFSETFROM:-0500
TZOFFSETTO:-0400
TZNAME:EDT
DTSTART:20230312T070000
END:DAYLIGHT
BEGIN:STANDARD
TZOFFSETFROM:-0400
TZOFFSETTO:-0500
TZNAME:EST
DTSTART:20231105T060000
END:STANDARD
BEGIN:DAYLIGHT
TZOFFSETFROM:-0500
TZOFFSETTO:-0400
TZNAME:EDT
DTSTART:20240310T070000
END:DAYLIGHT
BEGIN:STANDARD
TZOFFSETFROM:-0400
TZOFFSETTO:-0500
TZNAME:EST
DTSTART:20241103T060000
END:STANDARD
BEGIN:DAYLIGHT
TZOFFSETFROM:-0500
TZOFFSETTO:-0400
TZNAME:EDT
DTSTART:20250309T070000
END:DAYLIGHT
BEGIN:STANDARD
TZOFFSETFROM:-0400
TZOFFSETTO:-0500
TZNAME:EST
DTSTART:20251102T060000
END:STANDARD
END:VTIMEZONE
BEGIN:VEVENT
DTSTART;TZID=America/New_York:20240704T140000
DTEND;TZID=America/New_York:20240704T150000
DTSTAMP:20260420T224031
CREATED:20240621T132025Z
LAST-MODIFIED:20240621T132025Z
UID:10001456-1720101600-1720105200@www.metroparks.net
SUMMARY:Red\, White & Explore
DESCRIPTION:Explore in the creek with our naturalists as we try and catch fish\, bugs and crawdads. Closed toed shoes recommended\, prepare to get wet. This will be 2-3pm\, meet us down the Riffle Run trail by the nature center.
URL:https://www.metroparks.net/event/red-white-explore-2/
LOCATION:Battelle Darby Creek\, 1775 Darby Creek Drive\, Galloway\, OH\, 43119\, United States
END:VEVENT
BEGIN:VEVENT
DTSTART;TZID=America/New_York:20240704T170000
DTEND;TZID=America/New_York:20240704T180000
DTSTAMP:20260420T224031
CREATED:20240621T132131Z
LAST-MODIFIED:20240621T132131Z
UID:10001457-1720112400-1720116000@www.metroparks.net
SUMMARY:Red\, White & Explore
DESCRIPTION:Explore the prairies and fields around the nature center as we try and catch insects\, both those that fly and those that hop! This will be from 5-6pm\, supplies provided.
URL:https://www.metroparks.net/event/red-white-explore-3/
LOCATION:Battelle Darby Creek\, 1775 Darby Creek Drive\, Galloway\, OH\, 43119\, United States
ATTACH;FMTTYPE=image/jpeg:https://www.metroparks.net/wp-content/uploads/2022/05/1200px_BDC_mallards-at-Kuhlwein-wet-prairie_Kim-Graham.jpg
END:VEVENT
BEGIN:VEVENT
DTSTART;TZID=America/New_York:20240705T100000
DTEND;TZID=America/New_York:20240705T160000
DTSTAMP:20260420T224031
CREATED:20240620T190624Z
LAST-MODIFIED:20240620T190624Z
UID:10001427-1720173600-1720195200@www.metroparks.net
SUMMARY:What Is It?
DESCRIPTION:Ongoing between 10am-4pm\nAll ages\nEveryday objects familiar to people in the 1880s are a mystery to modern folks. Guess how ours work and what they do.
URL:https://www.metroparks.net/event/what-is-it/2024-07-05/
LOCATION:Slate Run Living Historical Farm\, 1375 OH-674\, Canal Winchester\, OH\, 43110\, United States
END:VEVENT
BEGIN:VEVENT
DTSTART;TZID=America/New_York:20240705T203000
DTEND;TZID=America/New_York:20240705T213000
DTSTAMP:20260420T224031
CREATED:20240702T150827Z
LAST-MODIFIED:20240702T150827Z
UID:10001565-1720211400-1720215000@www.metroparks.net
SUMMARY:For Families: Fireflies
DESCRIPTION:Learn all about fireflies and go on a short hike to look for them! Trail will be paved and about 1 mile.\nMeeting Location Notes: Big Meadows Picnic Area. This meeting location is located near the back of the park area in the back of the park. After you enter the park\, take the main road down the hill. At the bottom of the hill\, a sign will be on the right side saying “Big Meadows picnic area”. After the sign\, take the ROAD on the LEFT. Park in the first lot on the left. Meet near the restrooms/bulletin board/playground area.
URL:https://www.metroparks.net/event/for-families-fireflies/
LOCATION:Highbanks\, 9466 Columbus Pike (US Rt 23 N)\, Lewis Center\, OH\, 43035\, United States
END:VEVENT
BEGIN:VEVENT
DTSTART;TZID=America/New_York:20240705T210000
DTEND;TZID=America/New_York:20240705T220000
DTSTAMP:20260420T224031
CREATED:20240621T132212Z
LAST-MODIFIED:20240621T132212Z
UID:10001458-1720213200-1720216800@www.metroparks.net
SUMMARY:For Kids: Talking with Fireflies
DESCRIPTION:Take a 1-mile hike where you can learn how fireflies communicate with one another and have a chance to communicate with them. Best for ages 6-12. Meet at the Indian Ridge Bulletin Board\, 2705 Darby Creek Dr.
URL:https://www.metroparks.net/event/for-kids-talking-with-fireflies/
LOCATION:Battelle Darby Creek\, 1775 Darby Creek Drive\, Galloway\, OH\, 43119\, United States
END:VEVENT
END:VCALENDAR