BEGIN:VCALENDAR
VERSION:2.0
PRODID:-//Metro Parks - Central Ohio Park System - ECPv6.15.16.1//NONSGML v1.0//EN
CALSCALE:GREGORIAN
METHOD:PUBLISH
X-WR-CALNAME:Metro Parks - Central Ohio Park System
X-ORIGINAL-URL:https://www.metroparks.net
X-WR-CALDESC:Events for Metro Parks - Central Ohio Park System
REFRESH-INTERVAL;VALUE=DURATION:PT1H
X-Robots-Tag:noindex
X-PUBLISHED-TTL:PT1H
BEGIN:VTIMEZONE
TZID:America/New_York
BEGIN:DAYLIGHT
TZOFFSETFROM:-0500
TZOFFSETTO:-0400
TZNAME:EDT
DTSTART:20220313T070000
END:DAYLIGHT
BEGIN:STANDARD
TZOFFSETFROM:-0400
TZOFFSETTO:-0500
TZNAME:EST
DTSTART:20221106T060000
END:STANDARD
BEGIN:DAYLIGHT
TZOFFSETFROM:-0500
TZOFFSETTO:-0400
TZNAME:EDT
DTSTART:20230312T070000
END:DAYLIGHT
BEGIN:STANDARD
TZOFFSETFROM:-0400
TZOFFSETTO:-0500
TZNAME:EST
DTSTART:20231105T060000
END:STANDARD
BEGIN:DAYLIGHT
TZOFFSETFROM:-0500
TZOFFSETTO:-0400
TZNAME:EDT
DTSTART:20240310T070000
END:DAYLIGHT
BEGIN:STANDARD
TZOFFSETFROM:-0400
TZOFFSETTO:-0500
TZNAME:EST
DTSTART:20241103T060000
END:STANDARD
END:VTIMEZONE
BEGIN:VEVENT
DTSTART;TZID=America/New_York:20230609T180000
DTEND;TZID=America/New_York:20230609T233000
DTSTAMP:20260424T001257
CREATED:20230517T185359Z
LAST-MODIFIED:20230517T185359Z
UID:10000442-1686333600-1686353400@www.metroparks.net
SUMMARY:Late Night Climbing
DESCRIPTION:Enjoy Late Nights at the Climbing Wall at Scioto Audubon Metro Park! On the 2nd and 4th Fridays of the month\, the climbing wall lights will stay on until midnight for open climb. Please bring your own gear.
URL:https://www.metroparks.net/event/late-night-climbing/2023-06-09/
LOCATION:Scioto Audubon\, 400 West Whittier St.\, Columbus\, OH\, 43215\, United States
ATTACH;FMTTYPE=image/jpeg:https://www.metroparks.net/wp-content/uploads/2022/11/SAU-wall-and-tower-1200px.jpg
END:VEVENT
BEGIN:VEVENT
DTSTART;TZID=America/New_York:20230614T100000
DTEND;TZID=America/New_York:20230614T120000
DTSTAMP:20260424T001257
CREATED:20230612T162105Z
LAST-MODIFIED:20230612T162105Z
UID:10000469-1686736800-1686744000@www.metroparks.net
SUMMARY:Adult: Off-trail Ravine Geology Hike
DESCRIPTION:JUST ADDED!!! Join a geologist on an 2.5-mile off-trail hike in the ravine. Learn the story about the discovery of the prehistoric shark fossil found right here in a Highbanks ravine. Explore the geology and fossils of Highbanks while hiking in a picturesque ravine. Please wear closed-toed shoes. The hike will be in the water of the ravine . Expect to get wet and encounter muddy\, rugged conditions as we climb over logs and rocks. Program will last approx. 2.5 hours. Don’t forget your complete change of clothes in case you get wet. Hiking stick encouraged. Program length approx 2 hours. Hiking will be 2-miles total. Not wheelchair friendly. Ages 16+. Meet location notes: Big Meadows Picnic Area. Big Meadows is at the back of the park. After you enter the park\, take the main road down the hill. At the bottom of hill\, take the ROAD on the LEFT. Park in the lot with playground. Meet near restrooms. Age 16+
URL:https://www.metroparks.net/event/adult-off-trail-ravine-geology-hike/
LOCATION:Highbanks\, 9466 Columbus Pike (US Rt 23 N)\, Lewis Center\, OH\, 43035\, United States
END:VEVENT
BEGIN:VEVENT
DTSTART;TZID=America/New_York:20230614T160000
DTEND;TZID=America/New_York:20230614T200000
DTSTAMP:20260424T001257
CREATED:20230612T162021Z
LAST-MODIFIED:20230612T162021Z
UID:10000468-1686758400-1686772800@www.metroparks.net
SUMMARY:Try It! SUP
DESCRIPTION:Have you ever wanted to try Standup Paddle Boarding? Come out to Darby Bend Lakes at Prairie Oaks Metro Park to try it! Free and fun\, all equipment provided. Ages 10+. Meet at Lake 1 at Darby Bend Lakes\, use address 2755 Amity Rd\, Hilliard\, OH.
URL:https://www.metroparks.net/event/try-it-sup/
LOCATION:Prairie Oaks\, 3225 Plain City-Georgesville Road\, West Jefferson\, OH\, 43162\, United States
END:VEVENT
BEGIN:VEVENT
DTSTART;TZID=America/New_York:20230616T180000
DTEND;TZID=America/New_York:20230616T210000
DTSTAMP:20260424T001257
CREATED:20230530T130925Z
LAST-MODIFIED:20230530T130925Z
UID:10000455-1686938400-1686949200@www.metroparks.net
SUMMARY:Canoe the Lake
DESCRIPTION:Stop by and take a canoe out for a ride on the lake. Canoes and life jackets provided. We have size infant through adult life jackets\, so feel free to bring the whole family! \nPlease check in at the tent when you arrive to put your name on the list. Boats will be filled on an ongoing basis based on the order of your arrival. Please note that there may be a wait before we can get you in a canoe\, but we will do our best to accommodate everyone within the timeframe of the program.\nProgram is rain or shine. In the event of thunderstorms\, the program will shut down for 30 min from the occurrence of thunder and/or lightning.
URL:https://www.metroparks.net/event/canoe-the-lake/2023-06-16/
LOCATION:Sharon Woods\, 6911 Cleveland Ave.\, Columbus\, OH\, 43081\, United States
ATTACH;FMTTYPE=image/jpeg:https://www.metroparks.net/wp-content/uploads/2019/10/activities-canoeing_SHN_July_Kim-Strosnider_sm.jpg
END:VEVENT
BEGIN:VEVENT
DTSTART;TZID=America/New_York:20230616T180000
DTEND;TZID=America/New_York:20230617T083000
DTSTAMP:20260424T001257
CREATED:20230612T162202Z
LAST-MODIFIED:20230612T162202Z
UID:10000470-1686938400-1686990600@www.metroparks.net
SUMMARY:For Adults: Camp Under The Stars
DESCRIPTION:Experience Clear Creek in a unique way by camping overnight in the park. Space is limited\, registration is required to participate. Follow this link for additional details and to register: https://tinyurl.com/328yka5d
URL:https://www.metroparks.net/event/for-adults-camp-under-the-stars/
LOCATION:Clear Creek\, 185 Clear Creek Road\, Lancaster\, OH\, 43130\, United States
END:VEVENT
BEGIN:VEVENT
DTSTART;TZID=America/New_York:20230617T090000
DTEND;TZID=America/New_York:20230617T120000
DTSTAMP:20260424T001257
CREATED:20230530T130925Z
LAST-MODIFIED:20230530T130925Z
UID:10000456-1686992400-1687003200@www.metroparks.net
SUMMARY:Canoe the Lake
DESCRIPTION:Stop by and take a canoe out for a ride on the lake. Canoes and life jackets provided. We have size infant through adult life jackets\, so feel free to bring the whole family! \nPlease check in at the tent when you arrive to put your name on the list. Boats will be filled on an ongoing basis based on the order of your arrival. Please note that there may be a wait before we can get you in a canoe\, but we will do our best to accommodate everyone within the timeframe of the program.\nProgram is rain or shine. In the event of thunderstorms\, the program will shut down for 30 min from the occurrence of thunder and/or lightning.
URL:https://www.metroparks.net/event/canoe-the-lake/2023-06-17/1/
LOCATION:Sharon Woods\, 6911 Cleveland Ave.\, Columbus\, OH\, 43081\, United States
ATTACH;FMTTYPE=image/jpeg:https://www.metroparks.net/wp-content/uploads/2019/10/activities-canoeing_SHN_July_Kim-Strosnider_sm.jpg
END:VEVENT
BEGIN:VEVENT
DTSTART;TZID=America/New_York:20230617T120000
DTEND;TZID=America/New_York:20230617T140000
DTSTAMP:20260424T001257
CREATED:20230612T162515Z
LAST-MODIFIED:20230612T162515Z
UID:10000472-1687003200-1687010400@www.metroparks.net
SUMMARY:Bison Baby Shower
DESCRIPTION:Drop by the Summer Bison Pasture anytime between 12-2pm to enjoy some baby shower games and help us celebrate the impending summer arrivals! Follow the signs from the Nature Center parking lot to the Bison Pasture.
URL:https://www.metroparks.net/event/bison-baby-shower/
LOCATION:Battelle Darby Creek\, 1775 Darby Creek Drive\, Galloway\, OH\, 43119\, United States
ATTACH;FMTTYPE=image/jpeg:https://www.metroparks.net/wp-content/uploads/2018/08/990px-BDC-bison-in-fall-and-winter-paddock-2_M-Fetherolf-1.jpg
END:VEVENT
BEGIN:VEVENT
DTSTART;TZID=America/New_York:20230617T140000
DTEND;TZID=America/New_York:20230617T170000
DTSTAMP:20260424T001257
CREATED:20230530T130925Z
LAST-MODIFIED:20230530T130925Z
UID:10000457-1687010400-1687021200@www.metroparks.net
SUMMARY:Canoe the Lake
DESCRIPTION:Stop by and take a canoe out for a ride on the lake. Canoes and life jackets provided. We have size infant through adult life jackets\, so feel free to bring the whole family! \nPlease check in at the tent when you arrive to put your name on the list. Boats will be filled on an ongoing basis based on the order of your arrival. Please note that there may be a wait before we can get you in a canoe\, but we will do our best to accommodate everyone within the timeframe of the program.\nProgram is rain or shine. In the event of thunderstorms\, the program will shut down for 30 min from the occurrence of thunder and/or lightning.
URL:https://www.metroparks.net/event/canoe-the-lake/2023-06-17/2/
LOCATION:Sharon Woods\, 6911 Cleveland Ave.\, Columbus\, OH\, 43081\, United States
ATTACH;FMTTYPE=image/jpeg:https://www.metroparks.net/wp-content/uploads/2019/10/activities-canoeing_SHN_July_Kim-Strosnider_sm.jpg
END:VEVENT
BEGIN:VEVENT
DTSTART;TZID=America/New_York:20230617T203000
DTEND;TZID=America/New_York:20230617T213000
DTSTAMP:20260424T001257
CREATED:20230612T162322Z
LAST-MODIFIED:20230612T162322Z
UID:10000471-1687033800-1687037400@www.metroparks.net
SUMMARY:Bats by The Pond
DESCRIPTION:Discover cool facts about our remarkable bats then gather by the pond as we watch them emerge at sunset to feed on insects and listen to their calls with our special bat detectors. Meets at Three Creeks Confluence Area bulletin board\, 3860 Bixby Rd\, Groveport
URL:https://www.metroparks.net/event/bats-by-the-pond/
LOCATION:Three Creeks\, 3860 Bixby Road\, Groveport\, OH\, 43125\, United States
END:VEVENT
BEGIN:VEVENT
DTSTART;TZID=America/New_York:20230618T090000
DTEND;TZID=America/New_York:20230618T120000
DTSTAMP:20260424T001257
CREATED:20230530T130925Z
LAST-MODIFIED:20230530T130925Z
UID:10000458-1687078800-1687089600@www.metroparks.net
SUMMARY:Canoe the Lake
DESCRIPTION:Stop by and take a canoe out for a ride on the lake. Canoes and life jackets provided. We have size infant through adult life jackets\, so feel free to bring the whole family! \nPlease check in at the tent when you arrive to put your name on the list. Boats will be filled on an ongoing basis based on the order of your arrival. Please note that there may be a wait before we can get you in a canoe\, but we will do our best to accommodate everyone within the timeframe of the program.\nProgram is rain or shine. In the event of thunderstorms\, the program will shut down for 30 min from the occurrence of thunder and/or lightning.
URL:https://www.metroparks.net/event/canoe-the-lake/2023-06-18/1/
LOCATION:Sharon Woods\, 6911 Cleveland Ave.\, Columbus\, OH\, 43081\, United States
ATTACH;FMTTYPE=image/jpeg:https://www.metroparks.net/wp-content/uploads/2019/10/activities-canoeing_SHN_July_Kim-Strosnider_sm.jpg
END:VEVENT
BEGIN:VEVENT
DTSTART;TZID=America/New_York:20230618T140000
DTEND;TZID=America/New_York:20230618T150000
DTSTAMP:20260424T001257
CREATED:20230612T162648Z
LAST-MODIFIED:20230612T162648Z
UID:10000473-1687096800-1687100400@www.metroparks.net
SUMMARY:Father's Day Fish & Chips
DESCRIPTION:Join us on Father’s Day and Go Fishing Day for some quality time with a father figure in your life. We will provide poles and bait to fish with and chips to snack on\, all you need is to show up! Meet at Ashton Pond.
URL:https://www.metroparks.net/event/fathers-day-fish-chips/
LOCATION:Blacklick Woods\, 6975 East Livingston Ave\, Reynoldsburg\, OH\, 43068\, United States
ATTACH;FMTTYPE=image/jpeg:https://www.metroparks.net/wp-content/uploads/2019/05/gallery-summer-BDC-fishing-Darby-Creek-FrankKozarich-1.jpg
END:VEVENT
BEGIN:VEVENT
DTSTART;TZID=America/New_York:20230618T140000
DTEND;TZID=America/New_York:20230618T170000
DTSTAMP:20260424T001257
CREATED:20230530T130925Z
LAST-MODIFIED:20230530T130925Z
UID:10000459-1687096800-1687107600@www.metroparks.net
SUMMARY:Canoe the Lake
DESCRIPTION:Stop by and take a canoe out for a ride on the lake. Canoes and life jackets provided. We have size infant through adult life jackets\, so feel free to bring the whole family! \nPlease check in at the tent when you arrive to put your name on the list. Boats will be filled on an ongoing basis based on the order of your arrival. Please note that there may be a wait before we can get you in a canoe\, but we will do our best to accommodate everyone within the timeframe of the program.\nProgram is rain or shine. In the event of thunderstorms\, the program will shut down for 30 min from the occurrence of thunder and/or lightning.
URL:https://www.metroparks.net/event/canoe-the-lake/2023-06-18/2/
LOCATION:Sharon Woods\, 6911 Cleveland Ave.\, Columbus\, OH\, 43081\, United States
ATTACH;FMTTYPE=image/jpeg:https://www.metroparks.net/wp-content/uploads/2019/10/activities-canoeing_SHN_July_Kim-Strosnider_sm.jpg
END:VEVENT
BEGIN:VEVENT
DTSTART;TZID=America/New_York:20230619T110000
DTEND;TZID=America/New_York:20230619T123000
DTSTAMP:20260424T001257
CREATED:20230612T162743Z
LAST-MODIFIED:20230612T162743Z
UID:10000474-1687172400-1687177800@www.metroparks.net
SUMMARY:Family Creeking
DESCRIPTION:Explore the Olentangy River to look for some of the animals that live there. Be prepared to get wet! Shoes required in the river for your safety. Please no flip flops or crocs. Limited supply of buckets and nets. All animals will be released back into the river at the end of the program. Don’t forget a towel and complete a change of clothes to dry off after the program.\nMeeting location notes: Big Meadows Picnic Area is at the back of the park. After you enter the park\, take the main road down the hill. At the bottom of the hill\, take the ROAD on the LEFT. Park in the lot with a playground. Meet near restrooms.
URL:https://www.metroparks.net/event/family-creeking/
LOCATION:Highbanks\, 9466 Columbus Pike (US Rt 23 N)\, Lewis Center\, OH\, 43035\, United States
END:VEVENT
BEGIN:VEVENT
DTSTART;TZID=America/New_York:20230621T190000
DTEND;TZID=America/New_York:20230621T210000
DTSTAMP:20260424T001257
CREATED:20230612T162852Z
LAST-MODIFIED:20230612T162852Z
UID:10000475-1687374000-1687381200@www.metroparks.net
SUMMARY:Summer Solstice Hike and Yoga
DESCRIPTION:Celebrate the Solstice at Scioto Grove Metro Park! Enjoy a 1-mile hike through the woods on the longest day of the year followed by relaxation yoga. Meet at The Grove facility. Free and fun!!
URL:https://www.metroparks.net/event/summer-solstice-hike-and-yoga/
LOCATION:Scioto Grove\, 5172 Jackson Pike\, Grove City\, OH\, 43123\, United States
END:VEVENT
END:VCALENDAR