BEGIN:VCALENDAR
VERSION:2.0
PRODID:-//Metro Parks - Central Ohio Park System - ECPv6.15.16.1//NONSGML v1.0//EN
CALSCALE:GREGORIAN
METHOD:PUBLISH
X-WR-CALNAME:Metro Parks - Central Ohio Park System
X-ORIGINAL-URL:https://www.metroparks.net
X-WR-CALDESC:Events for Metro Parks - Central Ohio Park System
REFRESH-INTERVAL;VALUE=DURATION:PT1H
X-Robots-Tag:noindex
X-PUBLISHED-TTL:PT1H
BEGIN:VTIMEZONE
TZID:America/New_York
BEGIN:DAYLIGHT
TZOFFSETFROM:-0500
TZOFFSETTO:-0400
TZNAME:EDT
DTSTART:20230312T070000
END:DAYLIGHT
BEGIN:STANDARD
TZOFFSETFROM:-0400
TZOFFSETTO:-0500
TZNAME:EST
DTSTART:20231105T060000
END:STANDARD
BEGIN:DAYLIGHT
TZOFFSETFROM:-0500
TZOFFSETTO:-0400
TZNAME:EDT
DTSTART:20240310T070000
END:DAYLIGHT
BEGIN:STANDARD
TZOFFSETFROM:-0400
TZOFFSETTO:-0500
TZNAME:EST
DTSTART:20241103T060000
END:STANDARD
BEGIN:DAYLIGHT
TZOFFSETFROM:-0500
TZOFFSETTO:-0400
TZNAME:EDT
DTSTART:20250309T070000
END:DAYLIGHT
BEGIN:STANDARD
TZOFFSETFROM:-0400
TZOFFSETTO:-0500
TZNAME:EST
DTSTART:20251102T060000
END:STANDARD
END:VTIMEZONE
BEGIN:VEVENT
DTSTART;TZID=America/New_York:20240707T100000
DTEND;TZID=America/New_York:20240707T160000
DTSTAMP:20260420T124346
CREATED:20240620T190624Z
LAST-MODIFIED:20240620T190624Z
UID:10001429-1720346400-1720368000@www.metroparks.net
SUMMARY:What Is It?
DESCRIPTION:Ongoing between 10am-4pm\nAll ages\nEveryday objects familiar to people in the 1880s are a mystery to modern folks. Guess how ours work and what they do.
URL:https://www.metroparks.net/event/what-is-it/2024-07-07/
LOCATION:Slate Run Living Historical Farm\, 1375 OH-674\, Canal Winchester\, OH\, 43110\, United States
END:VEVENT
BEGIN:VEVENT
DTSTART;TZID=America/New_York:20240707T130000
DTEND;TZID=America/New_York:20240707T140000
DTSTAMP:20260420T124346
CREATED:20240702T150910Z
LAST-MODIFIED:20240702T150910Z
UID:10001566-1720357200-1720360800@www.metroparks.net
SUMMARY:Family Creeking
DESCRIPTION:Explore the Olentangy River to look for some of the animals that live there. Be prepared to get wet! Shoes required in the river for your safety. Please no flip flops or crocs. Limited supply of buckets and nets. All animals will be released back into the river at the end of the program. Don’t forget a towel and complete a change of clothes to dry off after the program.\nMeeting location notes:Highbanks Metro Park-Big Meadows Picnic Area. This meeting location is located near the back of the park area in the back of the park. After you enter the park\, take the main road down the hill. At the bottom of the hill\, a sign will be on the right side saying “Big Meadows picnic area”. After the sign\, take the ROAD on the LEFT. Park in the first lot on the left. Meet near the restrooms/bulletin board/playground area.
URL:https://www.metroparks.net/event/family-creeking-6/
LOCATION:Highbanks\, 9466 Columbus Pike (US Rt 23 N)\, Lewis Center\, OH\, 43035\, United States
ATTACH;FMTTYPE=image/jpeg:https://www.metroparks.net/wp-content/uploads/2020/04/Olentangy-3343s-3x4-HB-scaled.jpg
END:VEVENT
BEGIN:VEVENT
DTSTART;TZID=America/New_York:20240707T133000
DTEND;TZID=America/New_York:20240707T150000
DTSTAMP:20260420T124346
CREATED:20240624T125636Z
LAST-MODIFIED:20240624T125653Z
UID:10001480-1720359000-1720364400@www.metroparks.net
SUMMARY:Let's Go Creeking
DESCRIPTION:Take a 1-mile round-trip hike to our creeking area and use nets and hands to search for critters in the creek. For safety\, please wear closed-toed shoes. In case of high water\, an alternate activity will be held. No pets\, please. Meets at the Three Creeks Confluence Area bulletin board\, 3860 Bixby Rd\, Groveport
URL:https://www.metroparks.net/event/lets-go-creeking/
LOCATION:Three Creeks\, 3860 Bixby Road\, Groveport\, OH\, 43125\, United States
ATTACH;FMTTYPE=image/jpeg:https://www.metroparks.net/wp-content/uploads/2019/05/THC-confluence-summer-Carey-Sherrill.jpg
END:VEVENT
BEGIN:VEVENT
DTSTART;TZID=America/New_York:20240707T140000
DTEND;TZID=America/New_York:20240707T150000
DTSTAMP:20260420T124346
CREATED:20240620T192312Z
LAST-MODIFIED:20240620T192312Z
UID:10001452-1720360800-1720364400@www.metroparks.net
SUMMARY:Reptiles of Blendon
DESCRIPTION:Come learn about Ohio reptiles and meet some representatives from our Blendon ambassador animals during a presentation at the Nature Center.
URL:https://www.metroparks.net/event/reptiles-of-blendon/
LOCATION:Blendon Woods\, 4265 E Dublin Granville Road\, Columbus\, 43081\, United States
ATTACH;FMTTYPE=image/jpeg:https://www.metroparks.net/wp-content/uploads/2017/07/Gray-rat-snake-7-2017-SHW-e1499886873173.jpg
END:VEVENT
BEGIN:VEVENT
DTSTART;TZID=America/New_York:20240708T093000
DTEND;TZID=America/New_York:20240708T113000
DTSTAMP:20260420T124346
CREATED:20240702T150936Z
LAST-MODIFIED:20240702T150936Z
UID:10001567-1720431000-1720438200@www.metroparks.net
SUMMARY:For Kids: Feeder Watch Drop-In
DESCRIPTION:Join a naturalist in the nature center library to learn about Ohio’s backyard birds. We’ll watch the feeders for cardinals\, woodpeckers\, and turkeys\, and learn all about their diets and habitats in the process. Stop by whenever you’d like\, and stay for however long you want! Drop in anytime between 930am-1130am. Naturalist will be in the library talking about birds. Come enjoy the fun! \nMeeting Location Notes: Highbanks Nature Center is the first right after entering the park. There is limited parking in the Nature Center lot on busy days. Additional parking is available in the Oak Coves Picnic Area\, a 10 minute walk from the Nature Center. Follow the paved trail through Oak Coves toward the Nature Center.
URL:https://www.metroparks.net/event/for-kids-feeder-watch-drop-in/
LOCATION:Highbanks\, 9466 Columbus Pike (US Rt 23 N)\, Lewis Center\, OH\, 43035\, United States
END:VEVENT
BEGIN:VEVENT
DTSTART;TZID=America/New_York:20240708T100000
DTEND;TZID=America/New_York:20240708T110000
DTSTAMP:20260420T124346
CREATED:20240621T132559Z
LAST-MODIFIED:20240621T132559Z
UID:10001463-1720432800-1720436400@www.metroparks.net
SUMMARY:Summer Fungi
DESCRIPTION:Bring the family to learn about mushrooms and search the trails for fungi on this 1.25-mile hike.
URL:https://www.metroparks.net/event/summer-fungi-2/
LOCATION:Blacklick Woods\, 6975 East Livingston Ave\, Reynoldsburg\, OH\, 43068\, United States
ATTACH;FMTTYPE=image/jpeg:https://www.metroparks.net/wp-content/uploads/2018/03/1080p_Molitierno-Arthur_BLK_Fungi_100.jpg
END:VEVENT
BEGIN:VEVENT
DTSTART;TZID=America/New_York:20240708T140000
DTEND;TZID=America/New_York:20240708T150000
DTSTAMP:20260420T124346
CREATED:20240624T125824Z
LAST-MODIFIED:20240715T124836Z
UID:10001481-1720447200-1720450800@www.metroparks.net
SUMMARY:Intro to Tai Chi
DESCRIPTION:Join instructor Midge Krause for an introductory tai chi class.
URL:https://www.metroparks.net/event/intro-to-tai-chi-2/2024-07-08/
LOCATION:Inniswood Metro Gardens\, 940 S. Hempstead Rd.\, Westerville\, OH\, 43081\, United States
ATTACH;FMTTYPE=image/jpeg:https://www.metroparks.net/wp-content/uploads/2024/06/INS-Tai-Chi-JackRockwood-2024-06-24-1.jpg
END:VEVENT
BEGIN:VEVENT
DTSTART;TZID=America/New_York:20240708T180000
DTEND;TZID=America/New_York:20240708T190000
DTSTAMP:20260420T124346
CREATED:20240621T132622Z
LAST-MODIFIED:20240621T132622Z
UID:10001464-1720461600-1720465200@www.metroparks.net
SUMMARY:For Adults: Nature Photography
DESCRIPTION:Learn the ins and outs of your camera in our classroom before heading outside for a 1-mile hike to look for birds\, butterflies and blooms to photograph.
URL:https://www.metroparks.net/event/for-adults-nature-photography/
LOCATION:Blacklick Woods\, 6975 East Livingston Ave\, Reynoldsburg\, OH\, 43068\, United States
END:VEVENT
END:VCALENDAR