BEGIN:VCALENDAR
VERSION:2.0
PRODID:-//Metro Parks - Central Ohio Park System - ECPv6.15.16.1//NONSGML v1.0//EN
CALSCALE:GREGORIAN
METHOD:PUBLISH
X-WR-CALNAME:Metro Parks - Central Ohio Park System
X-ORIGINAL-URL:https://www.metroparks.net
X-WR-CALDESC:Events for Metro Parks - Central Ohio Park System
REFRESH-INTERVAL;VALUE=DURATION:PT1H
X-Robots-Tag:noindex
X-PUBLISHED-TTL:PT1H
BEGIN:VTIMEZONE
TZID:America/New_York
BEGIN:DAYLIGHT
TZOFFSETFROM:-0500
TZOFFSETTO:-0400
TZNAME:EDT
DTSTART:20230312T070000
END:DAYLIGHT
BEGIN:STANDARD
TZOFFSETFROM:-0400
TZOFFSETTO:-0500
TZNAME:EST
DTSTART:20231105T060000
END:STANDARD
BEGIN:DAYLIGHT
TZOFFSETFROM:-0500
TZOFFSETTO:-0400
TZNAME:EDT
DTSTART:20240310T070000
END:DAYLIGHT
BEGIN:STANDARD
TZOFFSETFROM:-0400
TZOFFSETTO:-0500
TZNAME:EST
DTSTART:20241103T060000
END:STANDARD
BEGIN:DAYLIGHT
TZOFFSETFROM:-0500
TZOFFSETTO:-0400
TZNAME:EDT
DTSTART:20250309T070000
END:DAYLIGHT
BEGIN:STANDARD
TZOFFSETFROM:-0400
TZOFFSETTO:-0500
TZNAME:EST
DTSTART:20251102T060000
END:STANDARD
END:VTIMEZONE
BEGIN:VEVENT
DTSTART;TZID=America/New_York:20240711T190000
DTEND;TZID=America/New_York:20240711T203000
DTSTAMP:20260421T061038
CREATED:20240628T132418Z
LAST-MODIFIED:20240628T132418Z
UID:10001546-1720724400-1720729800@www.metroparks.net
SUMMARY:Sunset SUP and S'mores
DESCRIPTION:Come out and enjoy the sunset on a Stand Up Paddle Board and enjoy a little sweet treat! SUPs are for ages 10+\, both inflatable and hard paddle bards will be available to use\, first come first served!\nFree instruction\, equipment and life jackets provided\nMeet at Lake 1 at Darby Bend Lakes (Prairie Oaks Metro Park)\n2755 Amity Rd\, Hilliard\, OH 43026
URL:https://www.metroparks.net/event/sunset-sup-and-smores-2/2024-07-11/
LOCATION:Prairie Oaks\, 3225 Plain City-Georgesville Road\, West Jefferson\, OH\, 43162\, United States
ATTACH;FMTTYPE=image/jpeg:https://www.metroparks.net/wp-content/uploads/2015/01/PRO_sunrise-and-mist-at-DBL_Dawn-Archey.jpg
END:VEVENT
BEGIN:VEVENT
DTSTART;TZID=America/New_York:20240712T090000
DTEND;TZID=America/New_York:20240712T103000
DTSTAMP:20260421T061038
CREATED:20240702T151034Z
LAST-MODIFIED:20240702T151034Z
UID:10001568-1720774800-1720780200@www.metroparks.net
SUMMARY:Adult: Summer Wildflower Hike
DESCRIPTION:Learn about summer wildflowers blooming at the park on a 1.5 mile hike Expect a combination of paved and unimproved (dirt) trails. Exact trail will depend upon the wildflowers in bloom. Ages 18+\nMeeting Location Notes: Highbanks Nature Center is the first right after entering the park. There is limited parking in the Nature Center lot on busy days. Additional parking is available in the Oak Coves Picnic Area\, a 10 minute walk from the Nature Center. Follow the paved trail through Oak Coves toward the Nature Center.
URL:https://www.metroparks.net/event/adult-summer-wildflower-hike/
LOCATION:Highbanks\, 9466 Columbus Pike (US Rt 23 N)\, Lewis Center\, OH\, 43035\, United States
ATTACH;FMTTYPE=image/jpeg:https://www.metroparks.net/wp-content/uploads/2018/02/1080p_BLK_harbinger-of-spring_2015_Diana-Morse.jpg
END:VEVENT
BEGIN:VEVENT
DTSTART;TZID=America/New_York:20240712T100000
DTEND;TZID=America/New_York:20240712T160000
DTSTAMP:20260421T061038
CREATED:20240620T190907Z
LAST-MODIFIED:20240620T190907Z
UID:10001433-1720778400-1720800000@www.metroparks.net
SUMMARY:A Hunting We will Go
DESCRIPTION:Program ongoing 10am-4pm\nAll ages\nPick up a scavenger hunt list at the farmhouse and enjoy searching for items around the farm.
URL:https://www.metroparks.net/event/a-hunting-we-will-go/2024-07-12/
LOCATION:Slate Run Living Historical Farm\, 1375 OH-674\, Canal Winchester\, OH\, 43110\, United States
ATTACH;FMTTYPE=image/jpeg:https://www.metroparks.net/wp-content/uploads/2023/01/SRF_1200px-barn-and-blue-sky_K-Beiling.jpg
END:VEVENT
BEGIN:VEVENT
DTSTART;TZID=America/New_York:20240712T120000
DTEND;TZID=America/New_York:20240712T130000
DTSTAMP:20260421T061038
CREATED:20240625T171519Z
LAST-MODIFIED:20240625T171519Z
UID:10001523-1720785600-1720789200@www.metroparks.net
SUMMARY:Ice Cream Social
DESCRIPTION:Meet at the Kingfisher Shelter. Use address 2319 Quarry Trails Drive Columbus OH 43228. Go on a 1 mile hike and then enjoy a sweet treat!
URL:https://www.metroparks.net/event/ice-cream-social/
LOCATION:Quarry Trails\, 2600 Dublin Road\, Columbus\, OH\, 43228\, United States
END:VEVENT
BEGIN:VEVENT
DTSTART;TZID=America/New_York:20240713T100000
DTEND;TZID=America/New_York:20240713T110000
DTSTAMP:20260421T061038
CREATED:20240702T151058Z
LAST-MODIFIED:20240702T151058Z
UID:10001569-1720864800-1720868400@www.metroparks.net
SUMMARY:Kids: Mindfulness Hike
DESCRIPTION:Join a naturalist to learn how to connect with the forest in a mindful way. Participants will learn mindfulness techniques to use in their day to day life to keep themselves centered and grounded. We will take notice of different components of the forest ecosystem and learn how to experience using all of our senses. The hike will be about .75 miles along gravel trail surfaces with some stops exploring off-trail. \nMeeting Location Notes: Highbanks Nature Center is the first right after entering the park. There is limited parking in the Nature Center lot on busy days. Additional parking is available in the Oak Coves Picnic Area\, a 10 minute walk from the Nature Center. Follow the paved trail through Oak Coves toward the Nature Center.
URL:https://www.metroparks.net/event/kids-mindfulness-hike/
LOCATION:Highbanks\, 9466 Columbus Pike (US Rt 23 N)\, Lewis Center\, OH\, 43035\, United States
END:VEVENT
BEGIN:VEVENT
DTSTART;TZID=America/New_York:20240713T100000
DTEND;TZID=America/New_York:20240713T130000
DTSTAMP:20260421T061038
CREATED:20240624T130639Z
LAST-MODIFIED:20240624T130639Z
UID:10001489-1720864800-1720875600@www.metroparks.net
SUMMARY:The Big Splash
DESCRIPTION:Try canoeing\, look for critters in a table-top pond\, slide down a water slide or get wet in the squirt zone. Three Creeks Metro park Confluence Area\, 3860 Bixby Rd\, Groveport
URL:https://www.metroparks.net/event/the-big-splash-2/
LOCATION:Three Creeks\, 3860 Bixby Road\, Groveport\, OH\, 43125\, United States
END:VEVENT
BEGIN:VEVENT
DTSTART;TZID=America/New_York:20240713T100000
DTEND;TZID=America/New_York:20240713T160000
DTSTAMP:20260421T061038
CREATED:20240620T190907Z
LAST-MODIFIED:20240620T190907Z
UID:10001434-1720864800-1720886400@www.metroparks.net
SUMMARY:A Hunting We will Go
DESCRIPTION:Program ongoing 10am-4pm\nAll ages\nPick up a scavenger hunt list at the farmhouse and enjoy searching for items around the farm.
URL:https://www.metroparks.net/event/a-hunting-we-will-go/2024-07-13/
LOCATION:Slate Run Living Historical Farm\, 1375 OH-674\, Canal Winchester\, OH\, 43110\, United States
ATTACH;FMTTYPE=image/jpeg:https://www.metroparks.net/wp-content/uploads/2023/01/SRF_1200px-barn-and-blue-sky_K-Beiling.jpg
END:VEVENT
BEGIN:VEVENT
DTSTART;TZID=America/New_York:20240713T140000
DTEND;TZID=America/New_York:20240713T160000
DTSTAMP:20260421T061038
CREATED:20240628T133203Z
LAST-MODIFIED:20240628T133203Z
UID:10001553-1720879200-1720886400@www.metroparks.net
SUMMARY:Pokémon Go Hike!
DESCRIPTION:Enjoy Pokémon Go! Community Day at Homestead Metro Park! Bring you own device to access Pokémon Go! and hike around the park with park staff to find different Pokémon! Meet at the Homestead Nature Center.
URL:https://www.metroparks.net/event/pokemon-go-hike-2/
LOCATION:Homestead\, 4675 Cosgray Road\, Hilliard\, OH\, 43026\, United States
END:VEVENT
BEGIN:VEVENT
DTSTART;TZID=America/New_York:20240713T190000
DTEND;TZID=America/New_York:20240713T200000
DTSTAMP:20260421T061038
CREATED:20240702T151205Z
LAST-MODIFIED:20240702T151205Z
UID:10001570-1720897200-1720900800@www.metroparks.net
SUMMARY:Happy Tails & Trails (Dog Hike)
DESCRIPTION:Bring your dog for a 1.5 mile hike. Please bring your own drinking water for your dog. Leashes must be shorter than 6 feet. Near the end of the hike\, we will stop for the optional cool down in the Olentangy River.\nMeeting location notes:Highbanks Metro Park-Big Meadows Picnic Area. This meeting location is located near the back of the park area in the back of the park. After you enter the park\, take the main road down the hill. At the bottom of the hill\, a sign will be on the right side saying “Big Meadows picnic area”. After the sign\, take the ROAD on the LEFT. Park in the first lot on the left. Meet near the restrooms/bulletin board/playground area.
URL:https://www.metroparks.net/event/happy-tails-trails-dog-hike/
LOCATION:Highbanks\, 9466 Columbus Pike (US Rt 23 N)\, Lewis Center\, OH\, 43035\, United States
ATTACH;FMTTYPE=image/jpeg:https://www.metroparks.net/wp-content/uploads/2023/03/QT_DogOnAWalk_LizChristian-scaled-e1679671380201.jpg
END:VEVENT
END:VCALENDAR