BEGIN:VCALENDAR
VERSION:2.0
PRODID:-//Metro Parks - Central Ohio Park System - ECPv6.15.16.1//NONSGML v1.0//EN
CALSCALE:GREGORIAN
METHOD:PUBLISH
X-WR-CALNAME:Metro Parks - Central Ohio Park System
X-ORIGINAL-URL:https://www.metroparks.net
X-WR-CALDESC:Events for Metro Parks - Central Ohio Park System
REFRESH-INTERVAL;VALUE=DURATION:PT1H
X-Robots-Tag:noindex
X-PUBLISHED-TTL:PT1H
BEGIN:VTIMEZONE
TZID:America/New_York
BEGIN:DAYLIGHT
TZOFFSETFROM:-0500
TZOFFSETTO:-0400
TZNAME:EDT
DTSTART:20230312T070000
END:DAYLIGHT
BEGIN:STANDARD
TZOFFSETFROM:-0400
TZOFFSETTO:-0500
TZNAME:EST
DTSTART:20231105T060000
END:STANDARD
BEGIN:DAYLIGHT
TZOFFSETFROM:-0500
TZOFFSETTO:-0400
TZNAME:EDT
DTSTART:20240310T070000
END:DAYLIGHT
BEGIN:STANDARD
TZOFFSETFROM:-0400
TZOFFSETTO:-0500
TZNAME:EST
DTSTART:20241103T060000
END:STANDARD
BEGIN:DAYLIGHT
TZOFFSETFROM:-0500
TZOFFSETTO:-0400
TZNAME:EDT
DTSTART:20250309T070000
END:DAYLIGHT
BEGIN:STANDARD
TZOFFSETFROM:-0400
TZOFFSETTO:-0500
TZNAME:EST
DTSTART:20251102T060000
END:STANDARD
END:VTIMEZONE
BEGIN:VEVENT
DTSTART;TZID=America/New_York:20240716T183000
DTEND;TZID=America/New_York:20240716T200000
DTSTAMP:20260420T001206
CREATED:20240628T133427Z
LAST-MODIFIED:20240628T133427Z
UID:10001556-1721154600-1721160000@www.metroparks.net
SUMMARY:SUP Dawgs!
DESCRIPTION:Come out to Quarry Trails for a SUP session and stay for a hot dog! Equipment and food provided. Vegetarian option hot dogs provided. Real dogs welcome too! SUP ages 10+. Address: Quarry Trails Metro Park\, Lake Area\n2319 Quarry Trails Dr\, Columbus\, OH 43228
URL:https://www.metroparks.net/event/sup-dawgs/
LOCATION:Quarry Trails\, 2600 Dublin Road\, Columbus\, OH\, 43228\, United States
END:VEVENT
BEGIN:VEVENT
DTSTART;TZID=America/New_York:20240716T190000
DTEND;TZID=America/New_York:20240716T200000
DTSTAMP:20260420T001206
CREATED:20240624T130941Z
LAST-MODIFIED:20240624T130941Z
UID:10001492-1721156400-1721160000@www.metroparks.net
SUMMARY:Evening Tree ID Walk
DESCRIPTION:Take an easy\, 1-mile walk with stops to learn how to identify trees along the way. Meets at Three Creeks Confluence Area bulletin board\, 3860 Bixby Rd\, Groveport
URL:https://www.metroparks.net/event/evening-tree-id-walk/
LOCATION:Three Creeks\, 3860 Bixby Road\, Groveport\, OH\, 43125\, United States
END:VEVENT
END:VCALENDAR