BEGIN:VCALENDAR
VERSION:2.0
PRODID:-//Metro Parks - Central Ohio Park System - ECPv6.15.16.1//NONSGML v1.0//EN
CALSCALE:GREGORIAN
METHOD:PUBLISH
X-WR-CALNAME:Metro Parks - Central Ohio Park System
X-ORIGINAL-URL:https://www.metroparks.net
X-WR-CALDESC:Events for Metro Parks - Central Ohio Park System
REFRESH-INTERVAL;VALUE=DURATION:PT1H
X-Robots-Tag:noindex
X-PUBLISHED-TTL:PT1H
BEGIN:VTIMEZONE
TZID:America/New_York
BEGIN:DAYLIGHT
TZOFFSETFROM:-0500
TZOFFSETTO:-0400
TZNAME:EDT
DTSTART:20230312T070000
END:DAYLIGHT
BEGIN:STANDARD
TZOFFSETFROM:-0400
TZOFFSETTO:-0500
TZNAME:EST
DTSTART:20231105T060000
END:STANDARD
BEGIN:DAYLIGHT
TZOFFSETFROM:-0500
TZOFFSETTO:-0400
TZNAME:EDT
DTSTART:20240310T070000
END:DAYLIGHT
BEGIN:STANDARD
TZOFFSETFROM:-0400
TZOFFSETTO:-0500
TZNAME:EST
DTSTART:20241103T060000
END:STANDARD
BEGIN:DAYLIGHT
TZOFFSETFROM:-0500
TZOFFSETTO:-0400
TZNAME:EDT
DTSTART:20250309T070000
END:DAYLIGHT
BEGIN:STANDARD
TZOFFSETFROM:-0400
TZOFFSETTO:-0500
TZNAME:EST
DTSTART:20251102T060000
END:STANDARD
END:VTIMEZONE
BEGIN:VEVENT
DTSTART;TZID=America/New_York:20240719T093000
DTEND;TZID=America/New_York:20240719T103000
DTSTAMP:20260421T050457
CREATED:20240624T131643Z
LAST-MODIFIED:20240624T131643Z
UID:10001501-1721381400-1721385000@www.metroparks.net
SUMMARY:Preschool: Creeking
DESCRIPTION:Let’s explore the Big Darby Creek and meet some of the animals that live there. We will be getting in the water. Closed-toed shoes required: Old tennis shoes work best. Nets and buckets provided. Trail is crushed gravel and unimproved in parts\, which might not be navigable in a stroller. Program for ages 3-5. Meet at Indian Ridge.
URL:https://www.metroparks.net/event/preschool-creeking/2024-07-19/1/
LOCATION:OH
ATTACH;FMTTYPE=image/jpeg:https://www.metroparks.net/wp-content/uploads/2019/03/BDC_exposed-tree-roots-along-Darby-Creek_L-Williams.jpg
END:VEVENT
BEGIN:VEVENT
DTSTART;TZID=America/New_York:20240719T110000
DTEND;TZID=America/New_York:20240719T120000
DTSTAMP:20260421T050457
CREATED:20240624T131643Z
LAST-MODIFIED:20240624T131643Z
UID:10001502-1721386800-1721390400@www.metroparks.net
SUMMARY:Preschool: Creeking
DESCRIPTION:Let’s explore the Big Darby Creek and meet some of the animals that live there. We will be getting in the water. Closed-toed shoes required: Old tennis shoes work best. Nets and buckets provided. Trail is crushed gravel and unimproved in parts\, which might not be navigable in a stroller. Program for ages 3-5. Meet at Indian Ridge.
URL:https://www.metroparks.net/event/preschool-creeking/2024-07-19/2/
LOCATION:OH
ATTACH;FMTTYPE=image/jpeg:https://www.metroparks.net/wp-content/uploads/2019/03/BDC_exposed-tree-roots-along-Darby-Creek_L-Williams.jpg
END:VEVENT
BEGIN:VEVENT
DTSTART;TZID=America/New_York:20240719T150000
DTEND;TZID=America/New_York:20240719T160000
DTSTAMP:20260421T050457
CREATED:20240621T132827Z
LAST-MODIFIED:20240621T132827Z
UID:10001468-1721401200-1721404800@www.metroparks.net
SUMMARY:For Adults 50+: Nature Origami
DESCRIPTION:Follow directions to make some nature-themed origami at the Nature Center. Materials provided.
URL:https://www.metroparks.net/event/for-adults-50-nature-origami/
LOCATION:Blacklick Woods\, 6975 East Livingston Ave\, Reynoldsburg\, OH\, 43068\, United States
END:VEVENT
BEGIN:VEVENT
DTSTART;TZID=America/New_York:20240719T150000
DTEND;TZID=America/New_York:20240719T180000
DTSTAMP:20260421T050457
CREATED:20240628T130756Z
LAST-MODIFIED:20240628T130756Z
UID:10001529-1721401200-1721412000@www.metroparks.net
SUMMARY:Try it! Kayak and SUP
DESCRIPTION:Come out and try standup paddle boarding and kayaking for free at Prairie Oaks Metro Park\, Darby Bend Lakes. SUPs and Solo sit-in kayaks ages 10+ only. Tandems open for all ages. Solo sit-kayaks have a 275Ibs limit. Meet at Lake 1 at Darby Bend Lakes\, 2755 Amity Rd\, Hilliard OH.\nFirst come/first serve. Equipment and instruction are provided.
URL:https://www.metroparks.net/event/try-it-kayak-and-sup-2/2024-07-19/
LOCATION:Prairie Oaks\, 3225 Plain City-Georgesville Road\, West Jefferson\, OH\, 43162\, United States
ATTACH;FMTTYPE=image/jpeg:https://www.metroparks.net/wp-content/uploads/2024/06/POK-Kayaking-JackRockwood-2024-05-31-1.jpg
END:VEVENT
BEGIN:VEVENT
DTSTART;TZID=America/New_York:20240719T180000
DTEND;TZID=America/New_York:20240719T193000
DTSTAMP:20260421T050457
CREATED:20240628T133500Z
LAST-MODIFIED:20240628T133500Z
UID:10001557-1721412000-1721417400@www.metroparks.net
SUMMARY:50+ SUP
DESCRIPTION:Enjoy SUP or Standup Paddle Boarding at Prairie Oaks Metro Park\, Darby Bend Lakes. Ages 50+ only\, free and fun. Meet at Lake 1 2755 Amity Rd\, Hilliard OH.
URL:https://www.metroparks.net/event/50-sup/
LOCATION:Prairie Oaks\, 3225 Plain City-Georgesville Road\, West Jefferson\, OH\, 43162\, United States
END:VEVENT
BEGIN:VEVENT
DTSTART;TZID=America/New_York:20240720T100000
DTEND;TZID=America/New_York:20240720T120000
DTSTAMP:20260421T050457
CREATED:20240702T151320Z
LAST-MODIFIED:20240702T151320Z
UID:10001572-1721469600-1721476800@www.metroparks.net
SUMMARY:Backcountry Hike - Dog Friendly
DESCRIPTION:Take a guided 3.5 mile dog friendly hike on public and backcountry trails. All dogs are required to be on a leash. Meet at the Park Office\, 185 Clear Creek Road in Lancaster.
URL:https://www.metroparks.net/event/backcountry-hike-dog-friendly/
LOCATION:Clear Creek\, 185 Clear Creek Road\, Lancaster\, OH\, 43130\, United States
END:VEVENT
BEGIN:VEVENT
DTSTART;TZID=America/New_York:20240720T110000
DTEND;TZID=America/New_York:20240720T130000
DTSTAMP:20260421T050457
CREATED:20240702T151341Z
LAST-MODIFIED:20240702T151341Z
UID:10001573-1721473200-1721480400@www.metroparks.net
SUMMARY:Science Saturday: H2Olympics
DESCRIPTION:Join us for our second installation of Science Saturday summer series! This month we are focusing on water and its properties. Why does water flow together? How does a stream clean itself and how can we help? Come join us for some fun experiments with water!\nPlease bring a towel – getting wet is part of the fun!\nMeet at the wind and solar lot. This program is geared towards ages 5-10.
URL:https://www.metroparks.net/event/science-saturday-h2olympics/
LOCATION:Glacier Ridge\, 9801 Hyland Croy\, Plain City\, OH\, 43064\, United States
END:VEVENT
BEGIN:VEVENT
DTSTART;TZID=America/New_York:20240720T120000
DTEND;TZID=America/New_York:20240720T140000
DTSTAMP:20260421T050457
CREATED:20240620T191637Z
LAST-MODIFIED:20240620T191637Z
UID:10001445-1721476800-1721484000@www.metroparks.net
SUMMARY:Turtle Shellebration
DESCRIPTION:Celebrate turtles! Drop by for activities\, crafts\, and to meet our ambassador turtles.
URL:https://www.metroparks.net/event/turtle-shellebration/
LOCATION:Blendon Woods\, 4265 E Dublin Granville Road\, Columbus\, 43081\, United States
ATTACH;FMTTYPE=image/jpeg:https://www.metroparks.net/wp-content/uploads/2023/07/HBK_TerraTheTurtle_GabbyPower-scaled.jpg
END:VEVENT
BEGIN:VEVENT
DTSTART;TZID=America/New_York:20240720T130000
DTEND;TZID=America/New_York:20240720T150000
DTSTAMP:20260421T050457
CREATED:20240620T191545Z
LAST-MODIFIED:20240620T191545Z
UID:10001444-1721480400-1721487600@www.metroparks.net
SUMMARY:Horse Powered Grain Threshing
DESCRIPTION:Ongoing from 1-3pm in the barnyard\nSee how horses power machinery that separates grain from straw.\nWeather and crop permitting.
URL:https://www.metroparks.net/event/horse-powered-grain-threshing-2/
LOCATION:Slate Run Living Historical Farm\, 1375 OH-674\, Canal Winchester\, OH\, 43110\, United States
ATTACH;FMTTYPE=image/jpeg:https://www.metroparks.net/wp-content/uploads/2017/06/1080p_threshing-machine-chute.jpg
END:VEVENT
BEGIN:VEVENT
DTSTART;TZID=America/New_York:20240720T140000
DTEND;TZID=America/New_York:20240720T150000
DTSTAMP:20260421T050457
CREATED:20240621T132803Z
LAST-MODIFIED:20240621T132803Z
UID:10001467-1721484000-1721487600@www.metroparks.net
SUMMARY:For Families: Decomposer Hike
DESCRIPTION:Take a 1.25-mile hike and learn about the important role decomposers play in an ecosystem.
URL:https://www.metroparks.net/event/for-families-decomposer-hike/
LOCATION:Blacklick Woods\, 6975 East Livingston Ave\, Reynoldsburg\, OH\, 43068\, United States
END:VEVENT
END:VCALENDAR