BEGIN:VCALENDAR
VERSION:2.0
PRODID:-//Metro Parks - Central Ohio Park System - ECPv6.15.16.1//NONSGML v1.0//EN
CALSCALE:GREGORIAN
METHOD:PUBLISH
X-WR-CALNAME:Metro Parks - Central Ohio Park System
X-ORIGINAL-URL:https://www.metroparks.net
X-WR-CALDESC:Events for Metro Parks - Central Ohio Park System
REFRESH-INTERVAL;VALUE=DURATION:PT1H
X-Robots-Tag:noindex
X-PUBLISHED-TTL:PT1H
BEGIN:VTIMEZONE
TZID:America/New_York
BEGIN:DAYLIGHT
TZOFFSETFROM:-0500
TZOFFSETTO:-0400
TZNAME:EDT
DTSTART:20230312T070000
END:DAYLIGHT
BEGIN:STANDARD
TZOFFSETFROM:-0400
TZOFFSETTO:-0500
TZNAME:EST
DTSTART:20231105T060000
END:STANDARD
BEGIN:DAYLIGHT
TZOFFSETFROM:-0500
TZOFFSETTO:-0400
TZNAME:EDT
DTSTART:20240310T070000
END:DAYLIGHT
BEGIN:STANDARD
TZOFFSETFROM:-0400
TZOFFSETTO:-0500
TZNAME:EST
DTSTART:20241103T060000
END:STANDARD
BEGIN:DAYLIGHT
TZOFFSETFROM:-0500
TZOFFSETTO:-0400
TZNAME:EDT
DTSTART:20250309T070000
END:DAYLIGHT
BEGIN:STANDARD
TZOFFSETFROM:-0400
TZOFFSETTO:-0500
TZNAME:EST
DTSTART:20251102T060000
END:STANDARD
END:VTIMEZONE
BEGIN:VEVENT
DTSTART;TZID=America/New_York:20240721T193000
DTEND;TZID=America/New_York:20240721T210000
DTSTAMP:20260420T020711
CREATED:20240624T131750Z
LAST-MODIFIED:20240624T131750Z
UID:10001503-1721590200-1721595600@www.metroparks.net
SUMMARY:For Adults 50+: Walk The Dog
DESCRIPTION:Bring your canine friend for an easy\, 2-mile walk along the Scioto River. Pets must be leashed. \nMeet at the Hickory Picnic Area close to the restrooms
URL:https://www.metroparks.net/event/for-adults-50-walk-the-dog-2/
LOCATION:Scioto Grove\, 5172 Jackson Pike\, Grove City\, OH\, 43123\, United States
ATTACH;FMTTYPE=image/jpeg:https://www.metroparks.net/wp-content/uploads/2019/03/gallery-spring-SGR_woman-and-dog-May_Virginia-Gordon.jpg
END:VEVENT
BEGIN:VEVENT
DTSTART;TZID=America/New_York:20240721T200000
DTEND;TZID=America/New_York:20240721T220000
DTSTAMP:20260420T020711
CREATED:20240624T131845Z
LAST-MODIFIED:20240624T131845Z
UID:10001504-1721592000-1721599200@www.metroparks.net
SUMMARY:Full Moon Hike
DESCRIPTION:Take a brisk 4-mile hike through forests and fields. Meet us at the Ranger Station\, 1775 Darby Creek Drive.
URL:https://www.metroparks.net/event/full-moon-hike-10/
LOCATION:Battelle Darby Creek\, 1775 Darby Creek Drive\, Galloway\, OH\, 43119\, United States
ATTACH;FMTTYPE=image/jpeg:https://www.metroparks.net/wp-content/uploads/2022/06/full-moon-dan-bissonette.jpg
END:VEVENT
BEGIN:VEVENT
DTSTART;TZID=America/New_York:20240722T100000
DTEND;TZID=America/New_York:20240722T130000
DTSTAMP:20260420T020711
CREATED:20240628T133556Z
LAST-MODIFIED:20240628T133556Z
UID:10001558-1721642400-1721653200@www.metroparks.net
SUMMARY:Morning SUP
DESCRIPTION:Enjoy the lovely morning air from a Stand Up Paddle Board on the Lake! SUPs are first come\, first served\, ages 10+. All equipment\, life jackets and instruction provided. Come out to this free and fun program!!\nDarby Bend Lakes\, Prairie Oaks Metro Park Lake 1\n2755 Amity Rd\, Hilliard\, OH 43026
URL:https://www.metroparks.net/event/morning-sup-2/
LOCATION:Prairie Oaks\, 3225 Plain City-Georgesville Road\, West Jefferson\, OH\, 43162\, United States
END:VEVENT
BEGIN:VEVENT
DTSTART;TZID=America/New_York:20240722T130000
DTEND;TZID=America/New_York:20240722T140000
DTSTAMP:20260420T020711
CREATED:20240621T133725Z
LAST-MODIFIED:20240621T133725Z
UID:10001472-1721653200-1721656800@www.metroparks.net
SUMMARY:Off-trail Exploration
DESCRIPTION:Join a naturalist on this 1.5-mile hike and go off the trail along the Mud Run to explore everything from fungi in the woods to flowers in the fields.
URL:https://www.metroparks.net/event/off-trail-exploration/
LOCATION:Blacklick Woods\, 6975 East Livingston Ave\, Reynoldsburg\, OH\, 43068\, United States
END:VEVENT
BEGIN:VEVENT
DTSTART;TZID=America/New_York:20240722T140000
DTEND;TZID=America/New_York:20240722T150000
DTSTAMP:20260420T020711
CREATED:20240624T125824Z
LAST-MODIFIED:20240715T124836Z
UID:10001482-1721656800-1721660400@www.metroparks.net
SUMMARY:Intro to Tai Chi
DESCRIPTION:Join instructor Midge Krause for an introductory tai chi class.
URL:https://www.metroparks.net/event/intro-to-tai-chi-2/2024-07-22/
LOCATION:Inniswood Metro Gardens\, 940 S. Hempstead Rd.\, Westerville\, OH\, 43081\, United States
ATTACH;FMTTYPE=image/jpeg:https://www.metroparks.net/wp-content/uploads/2024/06/INS-Tai-Chi-JackRockwood-2024-06-24-1.jpg
END:VEVENT
BEGIN:VEVENT
DTSTART;TZID=America/New_York:20240723T100000
DTEND;TZID=America/New_York:20240723T110000
DTSTAMP:20260420T020711
CREATED:20240624T132147Z
LAST-MODIFIED:20240624T132309Z
UID:10001505-1721728800-1721732400@www.metroparks.net
SUMMARY:Summer Children's Programs: Flyers
DESCRIPTION:Discover the plants and animals that take flight in the gardens. Participate in activities to learn more about these garden flyers. Geared for ages 8 and younger.
URL:https://www.metroparks.net/event/summer-childrens-programs-flyers-2/2024-07-23/1/
LOCATION:Inniswood Metro Gardens\, 940 S. Hempstead Rd.\, Westerville\, OH\, 43081\, United States
END:VEVENT
BEGIN:VEVENT
DTSTART;TZID=America/New_York:20240723T130000
DTEND;TZID=America/New_York:20240723T140000
DTSTAMP:20260420T020711
CREATED:20240624T132147Z
LAST-MODIFIED:20240624T132309Z
UID:10001506-1721739600-1721743200@www.metroparks.net
SUMMARY:Summer Children's Programs: Flyers
DESCRIPTION:Discover the plants and animals that take flight in the gardens. Participate in activities to learn more about these garden flyers. Geared for ages 8 and younger.
URL:https://www.metroparks.net/event/summer-childrens-programs-flyers-2/2024-07-23/2/
LOCATION:Inniswood Metro Gardens\, 940 S. Hempstead Rd.\, Westerville\, OH\, 43081\, United States
END:VEVENT
BEGIN:VEVENT
DTSTART;TZID=America/New_York:20240723T140000
DTEND;TZID=America/New_York:20240723T150000
DTSTAMP:20260420T020711
CREATED:20240621T132419Z
LAST-MODIFIED:20240621T132419Z
UID:10001461-1721743200-1721746800@www.metroparks.net
SUMMARY:Junior Naturalist: Bird Watching
DESCRIPTION:Junior Naturalist- 4 part summer series for ages 8-14. During this series\, kids will learn some “naturalist skills”. If kids attend 3/5 programs\, they can earn a prize. This week\, we will be learning how to use binoculars\, and identify some commonly seen birds in Ohio. Please note\, this is not a drop-off program. Parents are required to stay nearby for the duration of the program.
URL:https://www.metroparks.net/event/junior-naturalist-bird-watching/
LOCATION:Battelle Darby Creek\, 1775 Darby Creek Drive\, Galloway\, OH\, 43119\, United States
END:VEVENT
BEGIN:VEVENT
DTSTART;TZID=America/New_York:20240723T143000
DTEND;TZID=America/New_York:20240723T160000
DTSTAMP:20260420T020711
CREATED:20240628T131619Z
LAST-MODIFIED:20240628T131619Z
UID:10001538-1721745000-1721750400@www.metroparks.net
SUMMARY:Try it! Climbing
DESCRIPTION:Come out and climb at this free program! Meet at the Scioto Audubon Metro Park Climbing wall. All equipment provided. Tennis shoes with good tread recommended.
URL:https://www.metroparks.net/event/try-it-climbing-2/2024-07-23/
LOCATION:Scioto Audubon\, 400 West Whittier St.\, Columbus\, OH\, 43215\, United States
END:VEVENT
BEGIN:VEVENT
DTSTART;TZID=America/New_York:20240723T180000
DTEND;TZID=America/New_York:20240723T190000
DTSTAMP:20260420T020711
CREATED:20240628T133639Z
LAST-MODIFIED:20240628T133639Z
UID:10001559-1721757600-1721761200@www.metroparks.net
SUMMARY:Relaxation Yoga
DESCRIPTION:Enjoy a relaxing yoga session on the deck of The Grove Lodge at Scioto Grove Metro Park. Bring your own mat. Instruction provided.
URL:https://www.metroparks.net/event/relaxation-yoga/
LOCATION:Scioto Grove\, 5172 Jackson Pike\, Grove City\, OH\, 43123\, United States
END:VEVENT
BEGIN:VEVENT
DTSTART;TZID=America/New_York:20240724T100000
DTEND;TZID=America/New_York:20240724T110000
DTSTAMP:20260420T020711
CREATED:20240624T132147Z
LAST-MODIFIED:20240624T132309Z
UID:10001507-1721815200-1721818800@www.metroparks.net
SUMMARY:Summer Children's Programs: Flyers
DESCRIPTION:Discover the plants and animals that take flight in the gardens. Participate in activities to learn more about these garden flyers. Geared for ages 8 and younger.
URL:https://www.metroparks.net/event/summer-childrens-programs-flyers-2/2024-07-24/1/
LOCATION:Inniswood Metro Gardens\, 940 S. Hempstead Rd.\, Westerville\, OH\, 43081\, United States
END:VEVENT
BEGIN:VEVENT
DTSTART;TZID=America/New_York:20240724T100000
DTEND;TZID=America/New_York:20240724T130000
DTSTAMP:20260420T020711
CREATED:20240624T132347Z
LAST-MODIFIED:20240624T133628Z
UID:10001511-1721815200-1721826000@www.metroparks.net
SUMMARY:Mud Day
DESCRIPTION:Kids and adults of all ages can play in the giant mud pit. Wear old or easily cleaned clothing! Water will be available for basic clean-up. It’s probably a good idea to bring some protective newspapers\, bags\, etc for your car seats as well. Three Creeks Metro Park Confluence Area\, 3860 Bixby Rd\, Groveport
URL:https://www.metroparks.net/event/mud-day-3/2024-07-24/
LOCATION:Three Creeks\, 3860 Bixby Road\, Groveport\, OH\, 43125\, United States
ATTACH;FMTTYPE=image/jpeg:https://www.metroparks.net/wp-content/uploads/2024/05/BLN_MudDay5_LizChristian.jpg
END:VEVENT
BEGIN:VEVENT
DTSTART;TZID=America/New_York:20240724T130000
DTEND;TZID=America/New_York:20240724T140000
DTSTAMP:20260420T020711
CREATED:20240624T132147Z
LAST-MODIFIED:20240624T132309Z
UID:10001508-1721826000-1721829600@www.metroparks.net
SUMMARY:Summer Children's Programs: Flyers
DESCRIPTION:Discover the plants and animals that take flight in the gardens. Participate in activities to learn more about these garden flyers. Geared for ages 8 and younger.
URL:https://www.metroparks.net/event/summer-childrens-programs-flyers-2/2024-07-24/2/
LOCATION:Inniswood Metro Gardens\, 940 S. Hempstead Rd.\, Westerville\, OH\, 43081\, United States
END:VEVENT
BEGIN:VEVENT
DTSTART;TZID=America/New_York:20240724T150000
DTEND;TZID=America/New_York:20240724T160000
DTSTAMP:20260420T020711
CREATED:20240621T134039Z
LAST-MODIFIED:20240621T134039Z
UID:10001473-1721833200-1721836800@www.metroparks.net
SUMMARY:Learning & Loving Lepidoptera
DESCRIPTION:Learn about the importance of butterflies and moths\, as well as how to identify several common species found at Blacklick Woods. Take a 1-mile hike to see what is flying.
URL:https://www.metroparks.net/event/learning-loving-lepidoptera-2/
LOCATION:Blacklick Woods\, 6975 East Livingston Ave\, Reynoldsburg\, OH\, 43068\, United States
ATTACH;FMTTYPE=image/jpeg:https://www.metroparks.net/wp-content/uploads/2017/05/1080p_black-swallowtial-butterfly-on-flower-at-INN_J-Cagnina.jpg
END:VEVENT
END:VCALENDAR