BEGIN:VCALENDAR
VERSION:2.0
PRODID:-//Metro Parks - Central Ohio Park System - ECPv6.15.16.1//NONSGML v1.0//EN
CALSCALE:GREGORIAN
METHOD:PUBLISH
X-WR-CALNAME:Metro Parks - Central Ohio Park System
X-ORIGINAL-URL:https://www.metroparks.net
X-WR-CALDESC:Events for Metro Parks - Central Ohio Park System
REFRESH-INTERVAL;VALUE=DURATION:PT1H
X-Robots-Tag:noindex
X-PUBLISHED-TTL:PT1H
BEGIN:VTIMEZONE
TZID:America/New_York
BEGIN:DAYLIGHT
TZOFFSETFROM:-0500
TZOFFSETTO:-0400
TZNAME:EDT
DTSTART:20230312T070000
END:DAYLIGHT
BEGIN:STANDARD
TZOFFSETFROM:-0400
TZOFFSETTO:-0500
TZNAME:EST
DTSTART:20231105T060000
END:STANDARD
BEGIN:DAYLIGHT
TZOFFSETFROM:-0500
TZOFFSETTO:-0400
TZNAME:EDT
DTSTART:20240310T070000
END:DAYLIGHT
BEGIN:STANDARD
TZOFFSETFROM:-0400
TZOFFSETTO:-0500
TZNAME:EST
DTSTART:20241103T060000
END:STANDARD
BEGIN:DAYLIGHT
TZOFFSETFROM:-0500
TZOFFSETTO:-0400
TZNAME:EDT
DTSTART:20250309T070000
END:DAYLIGHT
BEGIN:STANDARD
TZOFFSETFROM:-0400
TZOFFSETTO:-0500
TZNAME:EST
DTSTART:20251102T060000
END:STANDARD
END:VTIMEZONE
BEGIN:VEVENT
DTSTART;TZID=America/New_York:20240728T100000
DTEND;TZID=America/New_York:20240728T160000
DTSTAMP:20260421T185208
CREATED:20240620T191113Z
LAST-MODIFIED:20240620T191113Z
UID:10001439-1722160800-1722182400@www.metroparks.net
SUMMARY:Growing Vegetable Soup Story Walk
DESCRIPTION:Program on-going from 10am-4pm\nEnjoy the “Growing Vegetable Soup” Story Walk and try to find the stuffed vegetables hidden around the house. Afterwards\, check out the garden to see what vegetables are growing.
URL:https://www.metroparks.net/event/growing-vegetable-soup-story-walk-2/2024-07-28/
LOCATION:OH
END:VEVENT
BEGIN:VEVENT
DTSTART;TZID=America/New_York:20240728T120000
DTEND;TZID=America/New_York:20240728T140000
DTSTAMP:20260421T185208
CREATED:20240702T151526Z
LAST-MODIFIED:20240702T151526Z
UID:10001575-1722168000-1722175200@www.metroparks.net
SUMMARY:Cattail Basket Weaving
DESCRIPTION:Learn how to weave your own basket using cattails! We will teach you how to harvest the cattails ethically\, how to dry them\, and how to make a simple cattail basket that you will love!\nThis program is geared for ages 16 and up. Meet at the Wetland Education Building (2 miles south of the main entrance)\, rain or shine!
URL:https://www.metroparks.net/event/cattail-basket-weaving/
LOCATION:Glacier Ridge\, 9801 Hyland Croy\, Plain City\, OH\, 43064\, United States
END:VEVENT
BEGIN:VEVENT
DTSTART;TZID=America/New_York:20240728T120000
DTEND;TZID=America/New_York:20240728T150000
DTSTAMP:20260421T185208
CREATED:20240628T132543Z
LAST-MODIFIED:20240628T132543Z
UID:10001549-1722168000-1722178800@www.metroparks.net
SUMMARY:Try It! Kayaking
DESCRIPTION:Come out anytime during the listed time and enjoy kayaking the lake at Quarry Trails Metro Park\, kayaking will be first come first served. Solo\, sit in kayaks available for ages 10+\, max weight: 275Ibs. A couple of tandem kayaks will be available for participants of all ages\, with an adult\, on a first come first serve basis. Equipment and instruction is provided. Free and fun!\nQuarry Trails Metro Park has several park entrances-\n* The closest parking lot to the paddling launch area is off of Trabue Road. The address is 2319 Quarry Trails Dr\, Columbus\, OH. This is a newly opened entrance. Please follow signage and be on the lookout for construction traffic.
URL:https://www.metroparks.net/event/try-it-kayaking-6/2024-07-28/
LOCATION:Quarry Trails\, 2600 Dublin Road\, Columbus\, OH\, 43228\, United States
ATTACH;FMTTYPE=image/jpeg:https://www.metroparks.net/wp-content/uploads/2022/02/Camp-at-HBK_Virginia-Gordon-scaled.jpg
END:VEVENT
BEGIN:VEVENT
DTSTART;TZID=America/New_York:20240728T130000
DTEND;TZID=America/New_York:20240728T150000
DTSTAMP:20260421T185208
CREATED:20240624T131434Z
LAST-MODIFIED:20240624T131434Z
UID:10001499-1722171600-1722178800@www.metroparks.net
SUMMARY:Summer Sunday Splash
DESCRIPTION:Stop by anytime between 1-3pm for some drop-by creeking. Join the Naturalists as we search for crawdads\, fish\, and aquatic bugs. Closed-toed shoes recommended. Creeking supplies provided. Follow signs from Ranger Station. 1775 Darby Creek Dr.
URL:https://www.metroparks.net/event/summer-sunday-splash/2024-07-28/
LOCATION:Battelle Darby Creek\, 1775 Darby Creek Drive\, Galloway\, OH\, 43119\, United States
ATTACH;FMTTYPE=image/jpeg:https://www.metroparks.net/wp-content/uploads/2022/05/1200px_BDC_creek-spring_on-Big-Darby-Creek_MA.jpg
END:VEVENT
BEGIN:VEVENT
DTSTART;TZID=America/New_York:20240728T130000
DTEND;TZID=America/New_York:20240728T150000
DTSTAMP:20260421T185208
CREATED:20240621T134539Z
LAST-MODIFIED:20240621T134539Z
UID:10001476-1722171600-1722178800@www.metroparks.net
SUMMARY:Blacklick Creek Exploration
DESCRIPTION:Take a 2-mile (round-trip) hike to Blacklick Creek and use nets to catch fish\, crayfish and insects.
URL:https://www.metroparks.net/event/blacklick-creek-exploration/
LOCATION:Blacklick Woods\, 6975 East Livingston Ave\, Reynoldsburg\, OH\, 43068\, United States
END:VEVENT
BEGIN:VEVENT
DTSTART;TZID=America/New_York:20240728T140000
DTEND;TZID=America/New_York:20240728T150000
DTSTAMP:20260421T185208
CREATED:20240620T191001Z
LAST-MODIFIED:20240620T191001Z
UID:10001436-1722175200-1722178800@www.metroparks.net
SUMMARY:Spiders!
DESCRIPTION:Learn about different kinds of spiders\, find out which ones to watch out for\, and see some live examples. A short walk to look for wild spiders will follow.
URL:https://www.metroparks.net/event/spiders/
LOCATION:Blendon Woods\, 4265 E Dublin Granville Road\, Columbus\, 43081\, United States
ATTACH;FMTTYPE=image/jpeg:https://www.metroparks.net/wp-content/uploads/2023/11/1200px_Daddy-long-legs-at-BLN_KB_insect-highlighted.jpg
END:VEVENT
END:VCALENDAR