BEGIN:VCALENDAR
VERSION:2.0
PRODID:-//Metro Parks - Central Ohio Park System - ECPv6.15.16.1//NONSGML v1.0//EN
CALSCALE:GREGORIAN
METHOD:PUBLISH
X-WR-CALNAME:Metro Parks - Central Ohio Park System
X-ORIGINAL-URL:https://www.metroparks.net
X-WR-CALDESC:Events for Metro Parks - Central Ohio Park System
REFRESH-INTERVAL;VALUE=DURATION:PT1H
X-Robots-Tag:noindex
X-PUBLISHED-TTL:PT1H
BEGIN:VTIMEZONE
TZID:America/New_York
BEGIN:DAYLIGHT
TZOFFSETFROM:-0500
TZOFFSETTO:-0400
TZNAME:EDT
DTSTART:20230312T070000
END:DAYLIGHT
BEGIN:STANDARD
TZOFFSETFROM:-0400
TZOFFSETTO:-0500
TZNAME:EST
DTSTART:20231105T060000
END:STANDARD
BEGIN:DAYLIGHT
TZOFFSETFROM:-0500
TZOFFSETTO:-0400
TZNAME:EDT
DTSTART:20240310T070000
END:DAYLIGHT
BEGIN:STANDARD
TZOFFSETFROM:-0400
TZOFFSETTO:-0500
TZNAME:EST
DTSTART:20241103T060000
END:STANDARD
BEGIN:DAYLIGHT
TZOFFSETFROM:-0500
TZOFFSETTO:-0400
TZNAME:EDT
DTSTART:20250309T070000
END:DAYLIGHT
BEGIN:STANDARD
TZOFFSETFROM:-0400
TZOFFSETTO:-0500
TZNAME:EST
DTSTART:20251102T060000
END:STANDARD
END:VTIMEZONE
BEGIN:VEVENT
DTSTART;TZID=America/New_York:20240807T130000
DTEND;TZID=America/New_York:20240807T140000
DTSTAMP:20260419T193731
CREATED:20240729T143711Z
LAST-MODIFIED:20240729T143711Z
UID:10001627-1723035600-1723039200@www.metroparks.net
SUMMARY:Preschool: Caterpillar Crawl
DESCRIPTION:Learn about caterpillars\, butterflies\, and the plants they need through a story\, craft\, and hike.
URL:https://www.metroparks.net/event/preschool-caterpillar-crawl/2024-08-07/2/
LOCATION:Inniswood Metro Gardens\, 940 S. Hempstead Rd.\, Westerville\, OH\, 43081\, United States
ATTACH;FMTTYPE=image/jpeg:https://www.metroparks.net/wp-content/uploads/2017/08/1080p_caterpillar_WAL_MMcC.jpg
END:VEVENT
BEGIN:VEVENT
DTSTART;TZID=America/New_York:20240807T133000
DTEND;TZID=America/New_York:20240807T143000
DTSTAMP:20260419T193731
CREATED:20240719T173139Z
LAST-MODIFIED:20240719T173139Z
UID:10001602-1723037400-1723041000@www.metroparks.net
SUMMARY:For Kids: Catch A Bug
DESCRIPTION:Learn the basics about insects then grab a net and collect some to observe and identify. Three Creeks Metro Park Confluence Area\, 3860 Bixby Rd\, Groveport
URL:https://www.metroparks.net/event/for-kids-catch-a-bug/
LOCATION:Three Creeks\, 3860 Bixby Road\, Groveport\, OH\, 43125\, United States
END:VEVENT
BEGIN:VEVENT
DTSTART;TZID=America/New_York:20240808T100000
DTEND;TZID=America/New_York:20240808T130000
DTSTAMP:20260419T193731
CREATED:20240802T175543Z
LAST-MODIFIED:20240802T175543Z
UID:10001685-1723111200-1723122000@www.metroparks.net
SUMMARY:Try It! Kayaking
DESCRIPTION:Come out anytime during the listed times and enjoy kayaking the lake at Quarry Trails Metro Park\, kayaking will be first come first served. Solo\, sit in kayaks available for ages 10+\, max weight: 275Ibs. A couple of tandem kayaks will be available for participants of all ages\, with an adult\, on a first come first serve basis. Equipment and instruction is provided. Free and fun! \nQuarry Trails Metro Park has several park entrances-\n* The closest parking lot to the paddling launch area is off of Trabue Road. The address is 2319 Quarry Trails Dr\, Columbus\, OH. This is a newly opened entrance. Please follow signage and be on the lookout for construction traffic.
URL:https://www.metroparks.net/event/try-it-kayaking-7/2024-08-08/
LOCATION:Quarry Trails\, 2600 Dublin Road\, Columbus\, OH\, 43228\, United States
ATTACH;FMTTYPE=image/jpeg:https://www.metroparks.net/wp-content/uploads/2024/07/1200px_QTR-paddleboarding-etc.jpg
END:VEVENT
BEGIN:VEVENT
DTSTART;TZID=America/New_York:20240808T110000
DTEND;TZID=America/New_York:20240808T120000
DTSTAMP:20260419T193731
CREATED:20240723T144029Z
LAST-MODIFIED:20240723T144029Z
UID:10001606-1723114800-1723118400@www.metroparks.net
SUMMARY:For Adults 50+: Easy Summer Stroll
DESCRIPTION:Take a relaxing stroll on the easy\, accessible\, .5-mile Buttonbush trail. If conditions allow\, we will go up to Blacklick Woods’ new tree canopy after the walk. \nMeet at the Nature Center.
URL:https://www.metroparks.net/event/for-adults-50-easy-summer-stroll/
LOCATION:Blacklick Woods\, 6975 East Livingston Ave\, Reynoldsburg\, OH\, 43068\, United States
END:VEVENT
BEGIN:VEVENT
DTSTART;TZID=America/New_York:20240808T110000
DTEND;TZID=America/New_York:20240808T130000
DTSTAMP:20260419T193731
CREATED:20240802T174008Z
LAST-MODIFIED:20240802T174008Z
UID:10001668-1723114800-1723122000@www.metroparks.net
SUMMARY:Drop In: Bug Off
DESCRIPTION:Stop by Big Meadows Picnic Area between 11am-1pm to learn all about the fascinating world of insects and see how many you can catch in the meadow! A hat\, long pants\, and sunscreen are recommended. \nMeeting location notes:Highbanks Metro Park-Big Meadows Picnic Area. This meeting location is located near the back of the park area in the back of the park. After you enter the park\, take the main road down the hill. At the bottom of the hill\, a sign will be on the right side saying “Big Meadows picnic area”. After the sign\, take the ROAD on the LEFT. Park in the first lot on the left. Meet near the restrooms/bulletin board/playground area.
URL:https://www.metroparks.net/event/drop-in-bug-off/
LOCATION:Highbanks\, 9466 Columbus Pike (US Rt 23 N)\, Lewis Center\, OH\, 43035\, United States
ATTACH;FMTTYPE=image/jpeg:https://www.metroparks.net/wp-content/uploads/2016/07/1080p_Milkweed-bug_FS.jpg
END:VEVENT
BEGIN:VEVENT
DTSTART;TZID=America/New_York:20240808T160000
DTEND;TZID=America/New_York:20240808T190000
DTSTAMP:20260419T193731
CREATED:20240724T171741Z
LAST-MODIFIED:20240724T171742Z
UID:10001617-1723132800-1723143600@www.metroparks.net
SUMMARY:Touch-a-Truck
DESCRIPTION:Touch\, Honk and Explore a variety of different machines and equipment used in a variety of organizations. Cedar Ridge Picnic Area\, 1775 Darby Creek Dr.
URL:https://www.metroparks.net/event/touch-a-truck-3/
LOCATION:Battelle Darby Creek\, 1775 Darby Creek Drive\, Galloway\, OH\, 43119\, United States
ATTACH;FMTTYPE=image/jpeg:https://www.metroparks.net/wp-content/uploads/2024/07/450483841_889648759872102_7268046833609160780_n.jpg
END:VEVENT
BEGIN:VEVENT
DTSTART;TZID=America/New_York:20240809T150000
DTEND;TZID=America/New_York:20240809T160000
DTSTAMP:20260419T193731
CREATED:20240729T143822Z
LAST-MODIFIED:20240729T143822Z
UID:10001628-1723215600-1723219200@www.metroparks.net
SUMMARY:For Families: Slime Mold Hike
DESCRIPTION:Learn about slime molds and their role in the forest on this 1.25-mile hike.
URL:https://www.metroparks.net/event/for-families-slime-mold-hike/
LOCATION:Blacklick Woods\, 6975 East Livingston Ave\, Reynoldsburg\, OH\, 43068\, United States
END:VEVENT
BEGIN:VEVENT
DTSTART;TZID=America/New_York:20240809T200000
DTEND;TZID=America/New_York:20240809T210000
DTSTAMP:20260419T193731
CREATED:20240715T125733Z
LAST-MODIFIED:20240715T125733Z
UID:10001592-1723233600-1723237200@www.metroparks.net
SUMMARY:Bat hike
DESCRIPTION:Learn about bats and take a short hike to look for some
URL:https://www.metroparks.net/event/bat-hike/
LOCATION:Blendon Woods\, 4265 E Dublin Granville Road\, Columbus\, 43081\, United States
ATTACH;FMTTYPE=image/jpeg:https://www.metroparks.net/wp-content/uploads/2023/11/Egyptian-fruit-bat_icon.jpg
END:VEVENT
BEGIN:VEVENT
DTSTART;TZID=America/New_York:20240809T210000
DTEND;TZID=America/New_York:20240809T220000
DTSTAMP:20260419T193731
CREATED:20240724T171814Z
LAST-MODIFIED:20240724T171814Z
UID:10001618-1723237200-1723240800@www.metroparks.net
SUMMARY:Night Hike
DESCRIPTION:Light up the night on this 0.8 mile as we use some UV lights and search out nocturnal insects. Meet at the Ranger Station\, 1775 Darby Creek Dr.
URL:https://www.metroparks.net/event/night-hike-12/
LOCATION:Battelle Darby Creek\, 1775 Darby Creek Drive\, Galloway\, OH\, 43119\, United States
END:VEVENT
END:VCALENDAR