BEGIN:VCALENDAR
VERSION:2.0
PRODID:-//Metro Parks - Central Ohio Park System - ECPv6.15.16.1//NONSGML v1.0//EN
CALSCALE:GREGORIAN
METHOD:PUBLISH
X-WR-CALNAME:Metro Parks - Central Ohio Park System
X-ORIGINAL-URL:https://www.metroparks.net
X-WR-CALDESC:Events for Metro Parks - Central Ohio Park System
REFRESH-INTERVAL;VALUE=DURATION:PT1H
X-Robots-Tag:noindex
X-PUBLISHED-TTL:PT1H
BEGIN:VTIMEZONE
TZID:America/New_York
BEGIN:DAYLIGHT
TZOFFSETFROM:-0500
TZOFFSETTO:-0400
TZNAME:EDT
DTSTART:20230312T070000
END:DAYLIGHT
BEGIN:STANDARD
TZOFFSETFROM:-0400
TZOFFSETTO:-0500
TZNAME:EST
DTSTART:20231105T060000
END:STANDARD
BEGIN:DAYLIGHT
TZOFFSETFROM:-0500
TZOFFSETTO:-0400
TZNAME:EDT
DTSTART:20240310T070000
END:DAYLIGHT
BEGIN:STANDARD
TZOFFSETFROM:-0400
TZOFFSETTO:-0500
TZNAME:EST
DTSTART:20241103T060000
END:STANDARD
BEGIN:DAYLIGHT
TZOFFSETFROM:-0500
TZOFFSETTO:-0400
TZNAME:EDT
DTSTART:20250309T070000
END:DAYLIGHT
BEGIN:STANDARD
TZOFFSETFROM:-0400
TZOFFSETTO:-0500
TZNAME:EST
DTSTART:20251102T060000
END:STANDARD
END:VTIMEZONE
BEGIN:VEVENT
DTSTART;TZID=America/New_York:20240813T100000
DTEND;TZID=America/New_York:20240813T110000
DTSTAMP:20260420T092318
CREATED:20240802T174306Z
LAST-MODIFIED:20240802T174306Z
UID:10001672-1723543200-1723546800@www.metroparks.net
SUMMARY:Creeking Adventure
DESCRIPTION:Prepare to get wet and muddy as we make a “splash” in Spring Creek before school starts. Trail to creek is not suitable for strollers.
URL:https://www.metroparks.net/event/creeking-adventure/
LOCATION:Sharon Woods\, 6911 Cleveland Ave.\, Columbus\, OH\, 43081\, United States
ATTACH;FMTTYPE=image/jpeg:https://www.metroparks.net/wp-content/uploads/2016/07/1080p_BLN_creeking-program_M-McConnell.jpg
END:VEVENT
BEGIN:VEVENT
DTSTART;TZID=America/New_York:20240813T143000
DTEND;TZID=America/New_York:20240813T153000
DTSTAMP:20260420T092318
CREATED:20240724T172549Z
LAST-MODIFIED:20240724T172549Z
UID:10001624-1723559400-1723563000@www.metroparks.net
SUMMARY:Junior Naturalist: Outdoor Survival
DESCRIPTION:Learn how to read a map\, use a compass\, and help find a lost visitor in the park with a park ranger. Meet at the Ranger Station\, 1775 Darby Creek Dr.
URL:https://www.metroparks.net/event/junior-naturalist-outdoor-survival/
LOCATION:Battelle Darby Creek\, 1775 Darby Creek Drive\, Galloway\, OH\, 43119\, United States
END:VEVENT
BEGIN:VEVENT
DTSTART;TZID=America/New_York:20240813T160000
DTEND;TZID=America/New_York:20240813T180000
DTSTAMP:20260420T092318
CREATED:20240802T180416Z
LAST-MODIFIED:20240802T180416Z
UID:10001691-1723564800-1723572000@www.metroparks.net
SUMMARY:Try It! Kayaking and SUP
DESCRIPTION:Come out and try standup paddle boarding and kayaking for free at Prairie Oaks Metro Park\, Darby Bend Lakes. SUPs and Solo sit-in kayaks ages 10+ only. Tandems open for all ages. Solo sit-kayaks have a 275Ibs limit. Meet at Lake 1 at Darby Bend Lakes\, 2755 Amity Rd\, Hilliard OH.\nFirst come/first serve. Equipment and instruction are provided.
URL:https://www.metroparks.net/event/try-it-kayaking-and-sup-5/2024-08-13/
LOCATION:Prairie Oaks\, 3225 Plain City-Georgesville Road\, West Jefferson\, OH\, 43162\, United States
ATTACH;FMTTYPE=image/jpeg:https://www.metroparks.net/wp-content/uploads/2021/06/POK_kayaking-down-Darby-Creek_Sept_Ryan-Muncey-scaled.jpg
END:VEVENT
BEGIN:VEVENT
DTSTART;TZID=America/New_York:20240814T100000
DTEND;TZID=America/New_York:20240814T110000
DTSTAMP:20260420T092318
CREATED:20240729T144011Z
LAST-MODIFIED:20240729T144011Z
UID:10001630-1723629600-1723633200@www.metroparks.net
SUMMARY:Preschoolers: Monarch Mania
DESCRIPTION:Learn about monarch butterflies and their incredible journey through a story\, activity and craft.
URL:https://www.metroparks.net/event/preschoolers-monarch-mania/2024-08-14/1/
LOCATION:Blacklick Woods\, 6975 East Livingston Ave\, Reynoldsburg\, OH\, 43068\, United States
ATTACH;FMTTYPE=image/jpeg:https://www.metroparks.net/wp-content/uploads/2020/02/Perdue-Tim-Monarch-HBK-1080p.jpg
END:VEVENT
BEGIN:VEVENT
DTSTART;TZID=America/New_York:20240814T100000
DTEND;TZID=America/New_York:20240814T110000
DTSTAMP:20260420T092318
CREATED:20240719T173236Z
LAST-MODIFIED:20240719T173236Z
UID:10001604-1723629600-1723633200@www.metroparks.net
SUMMARY:Preschoolers: Going Buggy
DESCRIPTION:Catch and learn about insects\, spiders and other tiny creatures. Meets at Three Creeks Confluence Area\, 3860 Bixby Rd\, Groveport
URL:https://www.metroparks.net/event/preschoolers-going-buggy/
LOCATION:Three Creeks\, 3860 Bixby Road\, Groveport\, OH\, 43125\, United States
END:VEVENT
BEGIN:VEVENT
DTSTART;TZID=America/New_York:20240814T130000
DTEND;TZID=America/New_York:20240814T140000
DTSTAMP:20260420T092318
CREATED:20240729T144011Z
LAST-MODIFIED:20240729T144011Z
UID:10001631-1723640400-1723644000@www.metroparks.net
SUMMARY:Preschoolers: Monarch Mania
DESCRIPTION:Learn about monarch butterflies and their incredible journey through a story\, activity and craft.
URL:https://www.metroparks.net/event/preschoolers-monarch-mania/2024-08-14/2/
LOCATION:Blacklick Woods\, 6975 East Livingston Ave\, Reynoldsburg\, OH\, 43068\, United States
ATTACH;FMTTYPE=image/jpeg:https://www.metroparks.net/wp-content/uploads/2020/02/Perdue-Tim-Monarch-HBK-1080p.jpg
END:VEVENT
BEGIN:VEVENT
DTSTART;TZID=America/New_York:20240814T180000
DTEND;TZID=America/New_York:20240814T193000
DTSTAMP:20260420T092318
CREATED:20240802T180519Z
LAST-MODIFIED:20240802T180519Z
UID:10001693-1723658400-1723663800@www.metroparks.net
SUMMARY:Pokémon Go Hike
DESCRIPTION:Enjoy hiking around with Metro Parks staff and looking for Pokémon during our Pokémon Go Hike at Three Creeks Metro Park! We recommend you download the app prior to the program. Meet at Turtle Pond. Note: use the Main Entrance at 3860 Bixby Road\, Groveport.
URL:https://www.metroparks.net/event/pokemon-go-hike-3/
LOCATION:Three Creeks\, 3860 Bixby Road\, Groveport\, OH\, 43125\, United States
END:VEVENT
END:VCALENDAR