BEGIN:VCALENDAR
VERSION:2.0
PRODID:-//Metro Parks - Central Ohio Park System - ECPv6.15.16.1//NONSGML v1.0//EN
CALSCALE:GREGORIAN
METHOD:PUBLISH
X-WR-CALNAME:Metro Parks - Central Ohio Park System
X-ORIGINAL-URL:https://www.metroparks.net
X-WR-CALDESC:Events for Metro Parks - Central Ohio Park System
REFRESH-INTERVAL;VALUE=DURATION:PT1H
X-Robots-Tag:noindex
X-PUBLISHED-TTL:PT1H
BEGIN:VTIMEZONE
TZID:America/New_York
BEGIN:DAYLIGHT
TZOFFSETFROM:-0500
TZOFFSETTO:-0400
TZNAME:EDT
DTSTART:20230312T070000
END:DAYLIGHT
BEGIN:STANDARD
TZOFFSETFROM:-0400
TZOFFSETTO:-0500
TZNAME:EST
DTSTART:20231105T060000
END:STANDARD
BEGIN:DAYLIGHT
TZOFFSETFROM:-0500
TZOFFSETTO:-0400
TZNAME:EDT
DTSTART:20240310T070000
END:DAYLIGHT
BEGIN:STANDARD
TZOFFSETFROM:-0400
TZOFFSETTO:-0500
TZNAME:EST
DTSTART:20241103T060000
END:STANDARD
BEGIN:DAYLIGHT
TZOFFSETFROM:-0500
TZOFFSETTO:-0400
TZNAME:EDT
DTSTART:20250309T070000
END:DAYLIGHT
BEGIN:STANDARD
TZOFFSETFROM:-0400
TZOFFSETTO:-0500
TZNAME:EST
DTSTART:20251102T060000
END:STANDARD
END:VTIMEZONE
BEGIN:VEVENT
DTSTART;TZID=America/New_York:20240816T180000
DTEND;TZID=America/New_York:20240816T183000
DTSTAMP:20260421T230204
CREATED:20240715T125533Z
LAST-MODIFIED:20240715T125533Z
UID:10001588-1723831200-1723833000@www.metroparks.net
SUMMARY:Adults Only Tram Ride
DESCRIPTION:Enjoy a narrated tour of Blendon Woods in the open-air tram.
URL:https://www.metroparks.net/event/adults-only-tram-ride/
LOCATION:Ohio
ATTACH;FMTTYPE=image/jpeg:https://www.metroparks.net/wp-content/uploads/2019/03/gallery-spring-BLK_senior-shindig-tram-3_vg.jpg
END:VEVENT
BEGIN:VEVENT
DTSTART;TZID=America/New_York:20240817T080000
DTEND;TZID=America/New_York:20240817T090000
DTSTAMP:20260421T230204
CREATED:20240802T180646Z
LAST-MODIFIED:20240802T180753Z
UID:10001697-1723881600-1723885200@www.metroparks.net
SUMMARY:Outdoor Adventure Run Club!
DESCRIPTION:Join us for a fun morning of running the trails at Battelle Darby Creek Metro Park! Loops will be mapped out\, feel free to run at your own pace!\nMeet at the Ranger Station\n1775 Darby Creek Drive Galloway\, OH 43119
URL:https://www.metroparks.net/event/outdoor-adventure-run-club-2/2024-08-17/
LOCATION:Battelle Darby Creek\, 1775 Darby Creek Drive\, Galloway\, OH\, 43119\, United States
END:VEVENT
BEGIN:VEVENT
DTSTART;TZID=America/New_York:20240817T100000
DTEND;TZID=America/New_York:20240817T110000
DTSTAMP:20260421T230204
CREATED:20240715T130059Z
LAST-MODIFIED:20240715T130059Z
UID:10001594-1723888800-1723892400@www.metroparks.net
SUMMARY:Kids Beach Party Tram Ride
DESCRIPTION:Come ready for fun in the sun at the Blendon Woods Beach Party! We will have Tram rides on the half hour\, at 10\, 1030 and 11\, plus plenty of water fun. Bring a towel!
URL:https://www.metroparks.net/event/kids-beach-party-tram-ride/
LOCATION:Blendon Woods\, 4265 E Dublin Granville Road\, Columbus\, 43081\, United States
ATTACH;FMTTYPE=image/jpeg:https://www.metroparks.net/wp-content/uploads/2023/08/1200px_BLK_senior-shindig-tram-1.jpg
END:VEVENT
BEGIN:VEVENT
DTSTART;TZID=America/New_York:20240817T130000
DTEND;TZID=America/New_York:20240817T150000
DTSTAMP:20260421T230204
CREATED:20240729T144657Z
LAST-MODIFIED:20240729T144657Z
UID:10001636-1723899600-1723906800@www.metroparks.net
SUMMARY:Summer Fun Day
DESCRIPTION:Come visit the park for a summer fun day! Bring or borrow a kite\, play with bubbles\, draw with chalk and enjoy the summer!
URL:https://www.metroparks.net/event/summer-fun-day-2/
LOCATION:Blacklick Woods\, 6975 East Livingston Ave\, Reynoldsburg\, OH\, 43068\, United States
ATTACH;FMTTYPE=image/jpeg:https://www.metroparks.net/wp-content/uploads/2014/10/BLK_picnic-bench-Connie-Mastenbrook.jpg
END:VEVENT
BEGIN:VEVENT
DTSTART;TZID=America/New_York:20240817T130000
DTEND;TZID=America/New_York:20240817T150000
DTSTAMP:20260421T230204
CREATED:20240724T172054Z
LAST-MODIFIED:20240724T172054Z
UID:10001623-1723899600-1723906800@www.metroparks.net
SUMMARY:Dairy Bingo
DESCRIPTION:Find the answers to the questions to complete your Dairy Bingo card. Take a look at our rare heritage shorthorn cattle.
URL:https://www.metroparks.net/event/dairy-bingo/
LOCATION:Slate Run Living Historical Farm\, 1375 OH-674\, Canal Winchester\, OH\, 43110\, United States
END:VEVENT
BEGIN:VEVENT
DTSTART;TZID=America/New_York:20240817T133000
DTEND;TZID=America/New_York:20240817T150000
DTSTAMP:20260421T230204
CREATED:20240719T173312Z
LAST-MODIFIED:20240719T173312Z
UID:10001605-1723901400-1723906800@www.metroparks.net
SUMMARY:For Adults 50+: Nature Ramble
DESCRIPTION:Enjoy summer’s natural abundance and good company as we go on a roughly 2.5-mile walk through fields and forests with frequent stops along the way to learn about what we observe. Bring water and your sense of curiosity. Meets at the Three Creeks Confluence Area bulletin board\, 3860 Bixby Rd\, Groveport
URL:https://www.metroparks.net/event/for-adults-50-nature-ramble-2/
LOCATION:Three Creeks\, 3860 Bixby Road\, Groveport\, OH\, 43125\, United States
END:VEVENT
BEGIN:VEVENT
DTSTART;TZID=America/New_York:20240817T193000
DTEND;TZID=America/New_York:20240817T220000
DTSTAMP:20260421T230204
CREATED:20240729T144337Z
LAST-MODIFIED:20240729T144337Z
UID:10001633-1723923000-1723932000@www.metroparks.net
SUMMARY:After Dark In The Park
DESCRIPTION:Experience nature at night! Activities for all ages:\n7:30-8:30: Craft\, face painting & roasting s’mores\n8:30: Self-guided lantern hike\, UV light critter hunt & the amazing world of moths\nMeet at the Barnebey Hambleton area\, 620 Clear Creek Road in Lancaster.
URL:https://www.metroparks.net/event/after-dark-in-the-park-2/
LOCATION:Clear Creek\, 185 Clear Creek Road\, Lancaster\, OH\, 43130\, United States
ATTACH;FMTTYPE=image/jpeg:https://www.metroparks.net/wp-content/uploads/2024/07/CLC-Green-Mansions-Bat-Count-Sunset-JackRockwood-2024-07-19.jpg
END:VEVENT
END:VCALENDAR