BEGIN:VCALENDAR
VERSION:2.0
PRODID:-//Metro Parks - Central Ohio Park System - ECPv6.15.16.1//NONSGML v1.0//EN
CALSCALE:GREGORIAN
METHOD:PUBLISH
X-WR-CALNAME:Metro Parks - Central Ohio Park System
X-ORIGINAL-URL:https://www.metroparks.net
X-WR-CALDESC:Events for Metro Parks - Central Ohio Park System
REFRESH-INTERVAL;VALUE=DURATION:PT1H
X-Robots-Tag:noindex
X-PUBLISHED-TTL:PT1H
BEGIN:VTIMEZONE
TZID:America/New_York
BEGIN:DAYLIGHT
TZOFFSETFROM:-0500
TZOFFSETTO:-0400
TZNAME:EDT
DTSTART:20230312T070000
END:DAYLIGHT
BEGIN:STANDARD
TZOFFSETFROM:-0400
TZOFFSETTO:-0500
TZNAME:EST
DTSTART:20231105T060000
END:STANDARD
BEGIN:DAYLIGHT
TZOFFSETFROM:-0500
TZOFFSETTO:-0400
TZNAME:EDT
DTSTART:20240310T070000
END:DAYLIGHT
BEGIN:STANDARD
TZOFFSETFROM:-0400
TZOFFSETTO:-0500
TZNAME:EST
DTSTART:20241103T060000
END:STANDARD
BEGIN:DAYLIGHT
TZOFFSETFROM:-0500
TZOFFSETTO:-0400
TZNAME:EDT
DTSTART:20250309T070000
END:DAYLIGHT
BEGIN:STANDARD
TZOFFSETFROM:-0400
TZOFFSETTO:-0500
TZNAME:EST
DTSTART:20251102T060000
END:STANDARD
END:VTIMEZONE
BEGIN:VEVENT
DTSTART;TZID=America/New_York:20240818T203000
DTEND;TZID=America/New_York:20240818T220000
DTSTAMP:20260422T062001
CREATED:20240802T174608Z
LAST-MODIFIED:20240802T174608Z
UID:10001676-1724013000-1724018400@www.metroparks.net
SUMMARY:Fast Paced Full Moon Hike
DESCRIPTION:Join us for a Fast-paced 2.8 mile hike with limited stops through the nighttime woods. This hike moves at a brisk pace and is not recommended for young children.
URL:https://www.metroparks.net/event/fast-paced-full-moon-hike/
LOCATION:Sharon Woods\, 6911 Cleveland Ave.\, Columbus\, OH\, 43081\, United States
END:VEVENT
BEGIN:VEVENT
DTSTART;TZID=America/New_York:20240818T203000
DTEND;TZID=America/New_York:20240818T220000
DTSTAMP:20260422T062001
CREATED:20240802T174531Z
LAST-MODIFIED:20240802T174531Z
UID:10001675-1724013000-1724018400@www.metroparks.net
SUMMARY:Family Full Moon Hike
DESCRIPTION:Join us for an easy\, 1 mile guided hike through the nighttime woods. Hike happens rain or shine\, so dress for the weather. Strollers not recommended.
URL:https://www.metroparks.net/event/family-full-moon-hike/
LOCATION:Sharon Woods\, 6911 Cleveland Ave.\, Columbus\, OH\, 43081\, United States
END:VEVENT
BEGIN:VEVENT
DTSTART;TZID=America/New_York:20240819T140000
DTEND;TZID=America/New_York:20240819T150000
DTSTAMP:20260422T062001
CREATED:20240624T125824Z
LAST-MODIFIED:20240715T124836Z
UID:10001581-1724076000-1724079600@www.metroparks.net
SUMMARY:Intro to Tai Chi
DESCRIPTION:Join instructor Midge Krause for an introductory tai chi class.
URL:https://www.metroparks.net/event/intro-to-tai-chi-2/2024-08-19/
LOCATION:Inniswood Metro Gardens\, 940 S. Hempstead Rd.\, Westerville\, OH\, 43081\, United States
ATTACH;FMTTYPE=image/jpeg:https://www.metroparks.net/wp-content/uploads/2024/06/INS-Tai-Chi-JackRockwood-2024-06-24-1.jpg
END:VEVENT
BEGIN:VEVENT
DTSTART;TZID=America/New_York:20240819T140000
DTEND;TZID=America/New_York:20240819T153000
DTSTAMP:20260422T062001
CREATED:20240802T175405Z
LAST-MODIFIED:20240802T175420Z
UID:10001684-1724076000-1724081400@www.metroparks.net
SUMMARY:Try it! Archery
DESCRIPTION:Come try your hand at this free archery program! Come out anytime between the times listed. All equipment provided. Ages 8+.
URL:https://www.metroparks.net/event/try-it-archery-11/2024-08-19/
LOCATION:Scioto Grove\, 5172 Jackson Pike\, Grove City\, OH\, 43123\, United States
ATTACH;FMTTYPE=image/jpeg:https://www.metroparks.net/wp-content/uploads/2024/06/POK-Archery-JackRockwood-2024-05-31.jpg
END:VEVENT
BEGIN:VEVENT
DTSTART;TZID=America/New_York:20240819T180000
DTEND;TZID=America/New_York:20240819T193000
DTSTAMP:20260422T062001
CREATED:20240802T175651Z
LAST-MODIFIED:20240802T175651Z
UID:10001687-1724090400-1724095800@www.metroparks.net
SUMMARY:Backpacking Series: Week 1- Four Essentials & Site Selection
DESCRIPTION:Are you wanting to learn more about backpacking? Join us for a 6-week long series of interactive classes designed as an introduction to backpacking\, building up to an overnight trip at the end! Attendance at all classes is NOT required – however the overnight trip will only be open to those who attend at least one class. Each weeks topic will have two dates to choose from in that week so participants can pick the day that works best for them to attend\, you don’t need to attend both dates in the week. Meet at Arrowhead Picnic area at Scioto Grove Metro Park \nThis week we will be discussing the 4 essentials of backpacking sleep systems as well as information about picking the proper site to spend your night in the wilderness. It is not as easy as simply pitching a tent\, but we will go through all of the steps to set you up for success! We have gear for demonstration\, but you are encouraged to bring your own. Meet at the Arrowhead Picnic Area at Scioto Grove Metro Park. \nFall Backpacking Series:\nWeek 1: 4 Essentials & Site Selection\nWeek 2: Water & Waste\nWeek 3: Fuel\, Fire & Food\nWeek 4: Clothing & Foot Care\nWeek 5: Prep\, Safety and Outdoor Ethics\nWeek 6: Shakedown Hike!
URL:https://www.metroparks.net/event/backpacking-series-week-1-four-essentials-site-selection/2024-08-19/
LOCATION:Scioto Grove\, 5172 Jackson Pike\, Grove City\, OH\, 43123\, United States
END:VEVENT
BEGIN:VEVENT
DTSTART;TZID=America/New_York:20240819T200000
DTEND;TZID=America/New_York:20240819T220000
DTSTAMP:20260422T062001
CREATED:20240729T144904Z
LAST-MODIFIED:20240729T144904Z
UID:10001638-1724097600-1724104800@www.metroparks.net
SUMMARY:Full Moon Hike
DESCRIPTION:Take a brisk 4-mile hike through forests and fields. Meet us at the Ranger Station\, 1775 Darby Creek Drive.
URL:https://www.metroparks.net/event/full-moon-hike-11/
LOCATION:Battelle Darby Creek\, 1775 Darby Creek Drive\, Galloway\, OH\, 43119\, United States
ATTACH;FMTTYPE=image/jpeg:https://www.metroparks.net/wp-content/uploads/2022/06/full-moon-dan-bissonette.jpg
END:VEVENT
END:VCALENDAR