BEGIN:VCALENDAR
VERSION:2.0
PRODID:-//Metro Parks - Central Ohio Park System - ECPv6.15.16.1//NONSGML v1.0//EN
CALSCALE:GREGORIAN
METHOD:PUBLISH
X-WR-CALNAME:Metro Parks - Central Ohio Park System
X-ORIGINAL-URL:https://www.metroparks.net
X-WR-CALDESC:Events for Metro Parks - Central Ohio Park System
REFRESH-INTERVAL;VALUE=DURATION:PT1H
X-Robots-Tag:noindex
X-PUBLISHED-TTL:PT1H
BEGIN:VTIMEZONE
TZID:America/New_York
BEGIN:DAYLIGHT
TZOFFSETFROM:-0500
TZOFFSETTO:-0400
TZNAME:EDT
DTSTART:20230312T070000
END:DAYLIGHT
BEGIN:STANDARD
TZOFFSETFROM:-0400
TZOFFSETTO:-0500
TZNAME:EST
DTSTART:20231105T060000
END:STANDARD
BEGIN:DAYLIGHT
TZOFFSETFROM:-0500
TZOFFSETTO:-0400
TZNAME:EDT
DTSTART:20240310T070000
END:DAYLIGHT
BEGIN:STANDARD
TZOFFSETFROM:-0400
TZOFFSETTO:-0500
TZNAME:EST
DTSTART:20241103T060000
END:STANDARD
BEGIN:DAYLIGHT
TZOFFSETFROM:-0500
TZOFFSETTO:-0400
TZNAME:EDT
DTSTART:20250309T070000
END:DAYLIGHT
BEGIN:STANDARD
TZOFFSETFROM:-0400
TZOFFSETTO:-0500
TZNAME:EST
DTSTART:20251102T060000
END:STANDARD
END:VTIMEZONE
BEGIN:VEVENT
DTSTART;TZID=America/New_York:20240822T100000
DTEND;TZID=America/New_York:20240822T110000
DTSTAMP:20260422T102831
CREATED:20240724T172026Z
LAST-MODIFIED:20240724T172026Z
UID:10001622-1724320800-1724324400@www.metroparks.net
SUMMARY:Preschool Storytime- Tops and Bottoms
DESCRIPTION:Program begins at 10 am behind the farmhouse.\nEnjoy a story about plants\, learn about which parts we eat\, and do a craft.
URL:https://www.metroparks.net/event/preschool-storytime-tops-and-bottoms/
LOCATION:Slate Run Living Historical Farm\, 1375 OH-674\, Canal Winchester\, OH\, 43110\, United States
END:VEVENT
BEGIN:VEVENT
DTSTART;TZID=America/New_York:20240822T150000
DTEND;TZID=America/New_York:20240822T170000
DTSTAMP:20260422T102831
CREATED:20240802T175543Z
LAST-MODIFIED:20240802T175543Z
UID:10001686-1724338800-1724346000@www.metroparks.net
SUMMARY:Try It! Kayaking
DESCRIPTION:Come out anytime during the listed times and enjoy kayaking the lake at Quarry Trails Metro Park\, kayaking will be first come first served. Solo\, sit in kayaks available for ages 10+\, max weight: 275Ibs. A couple of tandem kayaks will be available for participants of all ages\, with an adult\, on a first come first serve basis. Equipment and instruction is provided. Free and fun! \nQuarry Trails Metro Park has several park entrances-\n* The closest parking lot to the paddling launch area is off of Trabue Road. The address is 2319 Quarry Trails Dr\, Columbus\, OH. This is a newly opened entrance. Please follow signage and be on the lookout for construction traffic.
URL:https://www.metroparks.net/event/try-it-kayaking-7/2024-08-22/
LOCATION:Quarry Trails\, 2600 Dublin Road\, Columbus\, OH\, 43228\, United States
ATTACH;FMTTYPE=image/jpeg:https://www.metroparks.net/wp-content/uploads/2024/07/1200px_QTR-paddleboarding-etc.jpg
END:VEVENT
BEGIN:VEVENT
DTSTART;TZID=America/New_York:20240822T180000
DTEND;TZID=America/New_York:20240822T190000
DTSTAMP:20260422T102831
CREATED:20240730T152050Z
LAST-MODIFIED:20240730T152050Z
UID:10001662-1724349600-1724353200@www.metroparks.net
SUMMARY:Composting for Beginners
DESCRIPTION:What is composting? What can you compost? How do you start? These are all wonderful questions that we will cover at our composting program! Come join us for a group information session about composting where we will discuss and answer some of your questions and teach you the basics to get started. We will also be able to provide some material to help you get started! Please bring a bag and your questions to get ready to have a fun night of composting with us!\nThis program is geared towards ages 12 and up. Meet at the lakeside pavilion (beside 4th parking lot). This building is covered so weather will not affect the program.
URL:https://www.metroparks.net/event/composting-for-beginners/
LOCATION:Homestead\, 4675 Cosgray Road\, Hilliard\, OH\, 43026\, United States
END:VEVENT
END:VCALENDAR