BEGIN:VCALENDAR
VERSION:2.0
PRODID:-//Metro Parks - Central Ohio Park System - ECPv6.15.16.1//NONSGML v1.0//EN
CALSCALE:GREGORIAN
METHOD:PUBLISH
X-WR-CALNAME:Metro Parks - Central Ohio Park System
X-ORIGINAL-URL:https://www.metroparks.net
X-WR-CALDESC:Events for Metro Parks - Central Ohio Park System
REFRESH-INTERVAL;VALUE=DURATION:PT1H
X-Robots-Tag:noindex
X-PUBLISHED-TTL:PT1H
BEGIN:VTIMEZONE
TZID:America/New_York
BEGIN:DAYLIGHT
TZOFFSETFROM:-0500
TZOFFSETTO:-0400
TZNAME:EDT
DTSTART:20230312T070000
END:DAYLIGHT
BEGIN:STANDARD
TZOFFSETFROM:-0400
TZOFFSETTO:-0500
TZNAME:EST
DTSTART:20231105T060000
END:STANDARD
BEGIN:DAYLIGHT
TZOFFSETFROM:-0500
TZOFFSETTO:-0400
TZNAME:EDT
DTSTART:20240310T070000
END:DAYLIGHT
BEGIN:STANDARD
TZOFFSETFROM:-0400
TZOFFSETTO:-0500
TZNAME:EST
DTSTART:20241103T060000
END:STANDARD
BEGIN:DAYLIGHT
TZOFFSETFROM:-0500
TZOFFSETTO:-0400
TZNAME:EDT
DTSTART:20250309T070000
END:DAYLIGHT
BEGIN:STANDARD
TZOFFSETFROM:-0400
TZOFFSETTO:-0500
TZNAME:EST
DTSTART:20251102T060000
END:STANDARD
END:VTIMEZONE
BEGIN:VEVENT
DTSTART;TZID=America/New_York:20240824T150000
DTEND;TZID=America/New_York:20240824T163000
DTSTAMP:20260422T045152
CREATED:20240802T174758Z
LAST-MODIFIED:20240802T174758Z
UID:10001678-1724511600-1724517000@www.metroparks.net
SUMMARY:For Kids: Sensory Hike
DESCRIPTION:Practice sensory skills while learning more about the pieces of an ecosystem during a guided hike with activities to engage our senses with nature. Hike will be approximately .5-1 mile over crushed limestone trails. Expect hills and off-trail exploration. \nMeeting Location Notes: Highbanks Nature Center is the first right after entering the park. There is limited parking in the Nature Center lot on busy days. Additional parking is available in the Oak Coves Picnic Area\, a 10 minute walk from the Nature Center. Follow the paved trail through Oak Coves toward the Nature Center.
URL:https://www.metroparks.net/event/for-kids-sensory-hike/
LOCATION:Highbanks\, 9466 Columbus Pike (US Rt 23 N)\, Lewis Center\, OH\, 43035\, United States
END:VEVENT
BEGIN:VEVENT
DTSTART;TZID=America/New_York:20240824T160000
DTEND;TZID=America/New_York:20240824T163000
DTSTAMP:20260422T045152
CREATED:20240715T125213Z
LAST-MODIFIED:20240715T125213Z
UID:10001585-1724515200-1724517000@www.metroparks.net
SUMMARY:Family Tram Rides
DESCRIPTION:Enjoy a narrated tour of Blendon Woods in the open-air tram.
URL:https://www.metroparks.net/event/family-tram-rides-3/2024-08-24/2/
LOCATION:Blendon Woods\, 4265 E Dublin Granville Road\, Columbus\, 43081\, United States
ATTACH;FMTTYPE=image/jpeg:https://www.metroparks.net/wp-content/uploads/2015/01/THC_Tram-Time-Metro-Five-0_G-Hamilton.jpg
END:VEVENT
BEGIN:VEVENT
DTSTART;TZID=America/New_York:20240825T103000
DTEND;TZID=America/New_York:20240825T123000
DTSTAMP:20260422T045152
CREATED:20240729T145934Z
LAST-MODIFIED:20240729T145934Z
UID:10001647-1724581800-1724589000@www.metroparks.net
SUMMARY:For Adults: Calm Down Hike
DESCRIPTION:Want to learn how to channel your inner nature aspect? Take a 3-mile hike and learn about all the cool and colorful things to touch and explore. Ages 18+. Little Darby Picnic Area\, 3711 Gardner Rd.
URL:https://www.metroparks.net/event/for-adults-calm-down-hike/
LOCATION:Battelle Darby Creek\, 1775 Darby Creek Drive\, Galloway\, OH\, 43119\, United States
END:VEVENT
BEGIN:VEVENT
DTSTART;TZID=America/New_York:20240825T113000
DTEND;TZID=America/New_York:20240825T133000
DTSTAMP:20260422T045152
CREATED:20240723T144120Z
LAST-MODIFIED:20240723T144120Z
UID:10001607-1724585400-1724592600@www.metroparks.net
SUMMARY:For Adults 50+: Picnic On The Ridge
DESCRIPTION:Hike up the Ridge trail to the old homesite and enjoy your packed lunch in the shade of trees. After fortifying ourselves with lunch we will hike the rest of the Homesite and Ridge trails. The trails are considered moderate to difficult on this 1.4-mile trek. Bring your lunch and a chair or blanket for picnicking. We will have a limited number of camp chairs. Chairs can be transported to the top of the ridge. \nMeet in the 2nd parking lot at the end of the park by the bulletin board and restrooms.
URL:https://www.metroparks.net/event/for-adults-50-picnic-on-the-ridge/
LOCATION:Chestnut Ridge\, 8445 Winchester Rd NW\, Carroll\, OH\, 43112\, United States
ATTACH;FMTTYPE=image/jpeg:https://www.metroparks.net/wp-content/uploads/2014/10/CHR-Hilltop-Dawn_Robert-Shunk.jpg
END:VEVENT
BEGIN:VEVENT
DTSTART;TZID=America/New_York:20240825T130000
DTEND;TZID=America/New_York:20240825T143000
DTSTAMP:20260422T045152
CREATED:20240802T175651Z
LAST-MODIFIED:20240802T175651Z
UID:10001688-1724590800-1724596200@www.metroparks.net
SUMMARY:Backpacking Series: Week 1- Four Essentials & Site Selection
DESCRIPTION:Are you wanting to learn more about backpacking? Join us for a 6-week long series of interactive classes designed as an introduction to backpacking\, building up to an overnight trip at the end! Attendance at all classes is NOT required – however the overnight trip will only be open to those who attend at least one class. Each weeks topic will have two dates to choose from in that week so participants can pick the day that works best for them to attend\, you don’t need to attend both dates in the week. Meet at Arrowhead Picnic area at Scioto Grove Metro Park \nThis week we will be discussing the 4 essentials of backpacking sleep systems as well as information about picking the proper site to spend your night in the wilderness. It is not as easy as simply pitching a tent\, but we will go through all of the steps to set you up for success! We have gear for demonstration\, but you are encouraged to bring your own. Meet at the Arrowhead Picnic Area at Scioto Grove Metro Park. \nFall Backpacking Series:\nWeek 1: 4 Essentials & Site Selection\nWeek 2: Water & Waste\nWeek 3: Fuel\, Fire & Food\nWeek 4: Clothing & Foot Care\nWeek 5: Prep\, Safety and Outdoor Ethics\nWeek 6: Shakedown Hike!
URL:https://www.metroparks.net/event/backpacking-series-week-1-four-essentials-site-selection/2024-08-25/
LOCATION:Scioto Grove\, 5172 Jackson Pike\, Grove City\, OH\, 43123\, United States
END:VEVENT
BEGIN:VEVENT
DTSTART;TZID=America/New_York:20240825T170000
DTEND;TZID=America/New_York:20240825T190000
DTSTAMP:20260422T045152
CREATED:20240729T150034Z
LAST-MODIFIED:20240729T150034Z
UID:10001648-1724605200-1724612400@www.metroparks.net
SUMMARY:Music in the Gardens: High Street Stompers
DESCRIPTION:This New Orleans-style Dixieland jazz band plays music for all ages\, and is sure to keep your toes tapping and fingers snapping. Seating is limited\, feel free to bring a lawn chair.
URL:https://www.metroparks.net/event/music-in-the-gardens-high-street-stompers-2/
LOCATION:Inniswood Metro Gardens\, 940 S. Hempstead Rd.\, Westerville\, OH\, 43081\, United States
ATTACH;FMTTYPE=image/jpeg:https://www.metroparks.net/wp-content/uploads/2024/07/High-Street-Stompers.jpg
END:VEVENT
BEGIN:VEVENT
DTSTART;TZID=America/New_York:20240825T200000
DTEND;TZID=America/New_York:20240825T210000
DTSTAMP:20260422T045152
CREATED:20240715T130126Z
LAST-MODIFIED:20240715T130126Z
UID:10001595-1724616000-1724619600@www.metroparks.net
SUMMARY:Ultraviolet Night Hike
DESCRIPTION:Take a hike to see who glows after dark.
URL:https://www.metroparks.net/event/ultraviolet-night-hike/
LOCATION:Blendon Woods\, 4265 E Dublin Granville Road\, Columbus\, 43081\, United States
END:VEVENT
BEGIN:VEVENT
DTSTART;TZID=America/New_York:20240826T170000
DTEND;TZID=America/New_York:20240826T180000
DTSTAMP:20260422T045152
CREATED:20240729T150118Z
LAST-MODIFIED:20240729T150118Z
UID:10001649-1724691600-1724695200@www.metroparks.net
SUMMARY:Mammals of Ohio
DESCRIPTION:Learn about Ohio mammals and their adaptations on this 1.25-mile hike.
URL:https://www.metroparks.net/event/mammals-of-ohio/
LOCATION:Blacklick Woods\, 6975 East Livingston Ave\, Reynoldsburg\, OH\, 43068\, United States
END:VEVENT
BEGIN:VEVENT
DTSTART;TZID=America/New_York:20240827T100000
DTEND;TZID=America/New_York:20240827T110000
DTSTAMP:20260422T045152
CREATED:20240729T150414Z
LAST-MODIFIED:20240729T150414Z
UID:10001651-1724752800-1724756400@www.metroparks.net
SUMMARY:Nature Tram
DESCRIPTION:Hop on the tram and enjoy a guided ride through the park.
URL:https://www.metroparks.net/event/nature-tram-2/2024-08-27/
LOCATION:Blacklick Woods\, 6975 East Livingston Ave\, Reynoldsburg\, OH\, 43068\, United States
ATTACH;FMTTYPE=image/jpeg:https://www.metroparks.net/wp-content/uploads/2023/08/1200px_BLK_senior-shindig-tram-1.jpg
END:VEVENT
BEGIN:VEVENT
DTSTART;TZID=America/New_York:20240827T150000
DTEND;TZID=America/New_York:20240827T160000
DTSTAMP:20260422T045152
CREATED:20240729T150850Z
LAST-MODIFIED:20240729T150850Z
UID:10001658-1724770800-1724774400@www.metroparks.net
SUMMARY:Monarch March
DESCRIPTION:Join a naturalist on a 1-mile walk while we search for monarch caterpillars and butterflies.
URL:https://www.metroparks.net/event/monarch-march/
LOCATION:Blacklick Woods\, 6975 East Livingston Ave\, Reynoldsburg\, OH\, 43068\, United States
ATTACH;FMTTYPE=image/jpeg:https://www.metroparks.net/wp-content/uploads/2017/08/1080p_monarch-drinking-mountain-mint-AK.jpg
END:VEVENT
BEGIN:VEVENT
DTSTART;TZID=America/New_York:20240827T203000
DTEND;TZID=America/New_York:20240827T213000
DTSTAMP:20260422T045152
CREATED:20240729T150305Z
LAST-MODIFIED:20240729T150305Z
UID:10001650-1724790600-1724794200@www.metroparks.net
SUMMARY:Bat Brigade
DESCRIPTION:We are the night. Well\, let’s at least explore the night with one of our most famous nocturnals\, bats\, on this 1-mile hike. Meet at the Indian Ridge Bulletin Board\, 2705 Darby Creek Dr.
URL:https://www.metroparks.net/event/bat-brigade/
LOCATION:Battelle Darby Creek\, 1775 Darby Creek Drive\, Galloway\, OH\, 43119\, United States
ATTACH;FMTTYPE=image/jpeg:https://www.metroparks.net/wp-content/uploads/2023/11/Egyptian-fruit-bat_icon.jpg
END:VEVENT
END:VCALENDAR