BEGIN:VCALENDAR
VERSION:2.0
PRODID:-//Metro Parks - Central Ohio Park System - ECPv6.15.16.1//NONSGML v1.0//EN
CALSCALE:GREGORIAN
METHOD:PUBLISH
X-WR-CALNAME:Metro Parks - Central Ohio Park System
X-ORIGINAL-URL:https://www.metroparks.net
X-WR-CALDESC:Events for Metro Parks - Central Ohio Park System
REFRESH-INTERVAL;VALUE=DURATION:PT1H
X-Robots-Tag:noindex
X-PUBLISHED-TTL:PT1H
BEGIN:VTIMEZONE
TZID:America/New_York
BEGIN:DAYLIGHT
TZOFFSETFROM:-0500
TZOFFSETTO:-0400
TZNAME:EDT
DTSTART:20230312T070000
END:DAYLIGHT
BEGIN:STANDARD
TZOFFSETFROM:-0400
TZOFFSETTO:-0500
TZNAME:EST
DTSTART:20231105T060000
END:STANDARD
BEGIN:DAYLIGHT
TZOFFSETFROM:-0500
TZOFFSETTO:-0400
TZNAME:EDT
DTSTART:20240310T070000
END:DAYLIGHT
BEGIN:STANDARD
TZOFFSETFROM:-0400
TZOFFSETTO:-0500
TZNAME:EST
DTSTART:20241103T060000
END:STANDARD
BEGIN:DAYLIGHT
TZOFFSETFROM:-0500
TZOFFSETTO:-0400
TZNAME:EDT
DTSTART:20250309T070000
END:DAYLIGHT
BEGIN:STANDARD
TZOFFSETFROM:-0400
TZOFFSETTO:-0500
TZNAME:EST
DTSTART:20251102T060000
END:STANDARD
END:VTIMEZONE
BEGIN:VEVENT
DTSTART;TZID=America/New_York:20240828T100000
DTEND;TZID=America/New_York:20240828T140000
DTSTAMP:20260422T160738
CREATED:20240802T174826Z
LAST-MODIFIED:20240802T174826Z
UID:10001679-1724839200-1724853600@www.metroparks.net
SUMMARY:Preschoolers: Who Lives Here?
DESCRIPTION:Stop by the shelterhouse and learn which animals live in Sharon Woods through games and a craft.
URL:https://www.metroparks.net/event/preschoolers-who-lives-here/
LOCATION:Sharon Woods\, 6911 Cleveland Ave.\, Columbus\, OH\, 43081\, United States
END:VEVENT
BEGIN:VEVENT
DTSTART;TZID=America/New_York:20240828T130000
DTEND;TZID=America/New_York:20240828T140000
DTSTAMP:20260422T160738
CREATED:20240729T150701Z
LAST-MODIFIED:20240729T150701Z
UID:10001656-1724850000-1724853600@www.metroparks.net
SUMMARY:Homeschoolers: Back to School
DESCRIPTION:Take a 1.25-mile hike and discover the different ways animals think and learn.
URL:https://www.metroparks.net/event/homeschoolers-back-to-school/
LOCATION:Blacklick Woods\, 6975 East Livingston Ave\, Reynoldsburg\, OH\, 43068\, United States
END:VEVENT
BEGIN:VEVENT
DTSTART;TZID=America/New_York:20240828T180000
DTEND;TZID=America/New_York:20240828T190000
DTSTAMP:20260422T160738
CREATED:20240802T181108Z
LAST-MODIFIED:20240802T181108Z
UID:10001699-1724868000-1724871600@www.metroparks.net
SUMMARY:Adventure Book Club!
DESCRIPTION:Join us for our Monthly Adventure Book Club! No registration necessary\, all are welcome. This months book is “The Sun is a Compass” by Caroline Van Hermert. We will meet at the end of each month to discuss a different book. Bring your own hammock or chair to lounge in the trees and chat about this months reading! We will meet at the DOG PARK PARKING LOT\, past the maintenance are/park office 2600 Dublin Road\, Columbus
URL:https://www.metroparks.net/event/adventure-book-club-4/
LOCATION:Quarry Trails\, 2600 Dublin Road\, Columbus\, OH\, 43228\, United States
ATTACH;FMTTYPE=image/jpeg:https://www.metroparks.net/wp-content/uploads/2024/08/40696959.jpg
END:VEVENT
BEGIN:VEVENT
DTSTART;TZID=America/New_York:20240829T100000
DTEND;TZID=America/New_York:20240829T110000
DTSTAMP:20260422T160738
CREATED:20240729T150442Z
LAST-MODIFIED:20240729T150442Z
UID:10001653-1724925600-1724929200@www.metroparks.net
SUMMARY:Tots on Trails
DESCRIPTION:Share a slow-paced\, half-mile hike with your toddler and discover nature together.
URL:https://www.metroparks.net/event/tots-on-trails-4/
LOCATION:Blacklick Woods\, 6975 East Livingston Ave\, Reynoldsburg\, OH\, 43068\, United States
END:VEVENT
BEGIN:VEVENT
DTSTART;TZID=America/New_York:20240829T150000
DTEND;TZID=America/New_York:20240829T160000
DTSTAMP:20260422T160738
CREATED:20240729T150414Z
LAST-MODIFIED:20240729T150414Z
UID:10001652-1724943600-1724947200@www.metroparks.net
SUMMARY:Nature Tram
DESCRIPTION:Hop on the tram and enjoy a guided ride through the park.
URL:https://www.metroparks.net/event/nature-tram-2/2024-08-29/
LOCATION:Blacklick Woods\, 6975 East Livingston Ave\, Reynoldsburg\, OH\, 43068\, United States
ATTACH;FMTTYPE=image/jpeg:https://www.metroparks.net/wp-content/uploads/2023/08/1200px_BLK_senior-shindig-tram-1.jpg
END:VEVENT
BEGIN:VEVENT
DTSTART;TZID=America/New_York:20240829T190000
DTEND;TZID=America/New_York:20240829T200000
DTSTAMP:20260422T160738
CREATED:20240802T180623Z
LAST-MODIFIED:20240802T180623Z
UID:10001695-1724958000-1724961600@www.metroparks.net
SUMMARY:Sunset SUP and S’mores
DESCRIPTION:Come out and enjoy the sunset on a Stand Up Paddle Board and enjoy a little sweet treat! SUPs are for ages 10+\, both inflatable and hard paddle bards will be available to use\, first come first served!\nFree instruction\, equipment\, and life jackets provided\nMeet at Lake 1 at Darby Bend Lakes (Prairie Oaks Metro Park)\n2755 Amity Rd\, Hilliard\, OH 43026
URL:https://www.metroparks.net/event/sunset-sup-and-smores-3/2024-08-29/
LOCATION:Prairie Oaks\, 3225 Plain City-Georgesville Road\, West Jefferson\, OH\, 43162\, United States
ATTACH;FMTTYPE=image/jpeg:https://www.metroparks.net/wp-content/uploads/2023/05/BDC_sunset-at-wetlands_Jan_John-Nixon-scaled-e1683139103259.jpg
END:VEVENT
END:VCALENDAR